Workbook

Sheet Suvestinė
B1: 2017
B2: Rodiklis | C2: Reikšmė
B3: Premjerų skaičius | C3: 236
B4: Lietuviškų filmų premjerų skaičius | C4: 11
B5: Bendras filmų skaičius | C5: 309
B6: Bendros pajamos | C6: 20452844
B7: Bendras žiūrovų skaičius | C7: 4061523
B9: Filmų dalis rinkoje, %
B10: Kategorija | C10: Pajamos | D10: Žiūrovų skaičius | E10: Pajamos % | F10: Žiūrovų skaičius % | G10: Filmų skaičius
B11: Lietuva | C11: 4536080.5 | D11: 865772 | E11: 22.178 | F11: 21.316 | G11: 15
B12: Europa | C12: 2654481.3 | D12: 592411 | E12: 12.979 | F12: 14.586 | G12: 117
B13: JAV | C13: 13084681 | D13: 2563618 | E13: 63.975 | F13: 63.12 | G13: 157
B14: Kita | C14: 177600.69 | D14: 39722 | E14: 0.868 | F14: 0.978 | G14: 20
B15: Total | C15: =SUBTOTAL(109,Table1[Pajamos]) -> 20452844 | D15: =SUBTOTAL(109,Table1[Žiūrovų skaičius]) -> 4061523 | E15: =SUBTOTAL(109,Table1[Pajamos %]) -> 100 | F15: =SUBTOTAL(109,Table1[Žiūrovų skaičius %]) -> 100 | G15: =SUBTOTAL(109,Table1[Filmų skaičius]) -> 309
B47: Pasiskirstymas pagal platintojus
A48: Eil. nr | B48: Platintojas | C48: Pajamos | D48: Žiūrovų skaičius | E48: Filmų skaičius | F48: Pajamos % | G48: Žiūrovų skaičius %
A49: =IF(B49<>"",ROWS($B$49:B49),"") -> 1 | B49: ACME Film | C49: 3184759.8 | D49: 670451 | E49: 57 | F49: 15.571 | G49: 16.507
A50: =IF(B50<>"",ROWS($B$49:B50),"") -> 2 | B50: NCG Distribution / Universal Pictures International | C50: 2858407.8 | D50: 569610 | E50: 17 | F50: 13.976 | G50: 14.025
A51: =IF(B51<>"",ROWS($B$49:B51),"") -> 3 | B51: ACME Film / WB | C51: 2143936.2 | D51: 406638 | E51: 17 | F51: 10.482 | G51: 10.012
A52: =IF(B52<>"",ROWS($B$49:B52),"") -> 4 | B52: ACME Film / SONY | C52: 1868489.4 | D52: 355903 | E52: 15 | F52: 9.136 | G52: 8.763
A53: =IF(B53<>"",ROWS($B$49:B53),"") -> 5 | B53: Theatrical Film Distribution / WDSMPI | C53: 1788842.6 | D53: 334142 | E53: 11 | F53: 8.746 | G53: 8.227
A54: =IF(B54<>"",ROWS($B$49:B54),"") -> 6 | B54: Vabalo filmai | C54: 1683735 | D54: 300001 | E54: 2 | F54: 8.232 | G54: 7.386
A55: =IF(B55<>"",ROWS($B$49:B55),"") -> 7 | B55: Theatrical Film Distribution / 20th Century Fox | C55: 1539228.8 | D55: 316701 | E55: 15 | F55: 7.526 | G55: 7.798
A56: =IF(B56<>"",ROWS($B$49:B56),"") -> 8 | B56: Cinema Cult Distirbution | C56: 1008470 | D56: 194486 | E56: 1 | F56: 4.931 | G56: 4.788
A57: =IF(B57<>"",ROWS($B$49:B57),"") -> 9 | B57: Garsų pasaulio įrašai | C57: 965912.61 | D57: 203114 | E57: 25 | F57: 4.723 | G57: 5.001
A58: =IF(B58<>"",ROWS($B$49:B58),"") -> 10 | B58: Theatrical Film Distribution | C58: 728595.44 | D58: 150008 | E58: 29 | F58: 3.562 | G58: 3.693
A59: =IF(B59<>"",ROWS($B$49:B59),"") -> 11 | B59: Singing fish | C59: 465368 | D59: 89616 | E59: 1 | F59: 2.275 | G59: 2.206
A60: =IF(B60<>"",ROWS($B$49:B60),"") -> 12 | B60: NCG Distribution / Paramount Pictures | C60: 369053.06 | D60: 67844 | E60: 4 | F60: 1.804 | G60: 1.67
... A79: =IF(B79<>"",ROWS($B$49:B79),"") -> 31 | B79: CineMark | C79: 108 | D79: 54 | E79: 1 | F79: 0.001 | G79: 0.001
A80: Total | C80: =SUBTOTAL(109,Table18[Pajamos]) -> 20452844 | D80: =SUBTOTAL(109,Table18[Žiūrovų skaičius]) -> 4061523 | E80: =SUBTOTAL(109,Table18[Filmų skaičius]) -> 309 | F80: =SUBTOTAL(109,Table18[Pajamos %]) -> 99.998 | G80: =SUBTOTAL(109,Table18[Žiūrovų skaičius %]) -> 99.997
A82: LT TOP
A83: Eil. Nr. | B83: Filmo pavadinimas | C83: Pajamos | D83: Žiūrovų skaičius | E83: Premjeros data | F83: Platintojas
A84: 1 | B84: Trys milijonai eurų | C84: 1304853 | D84: 235730 | E84: 43035 | F84: Vabalo filmai
A85: 2 | B85: Zero 3 | C85: 1008470 | D85: 194486 | E85: 42762 | F85: Cinema Cult Distirbution
A86: 3 | B86: Emilija iš Laisvės alėjos | C86: 578644.89 | D86: 124166 | E86: 42790 | F86: ACME Film
A87: 4 | B87: Kaip susigrąžinti ją per 7 dienas | C87: 465368 | D87: 89616 | E87: 43014 | F87: Singing Fish
A88: 5 | B88: Klasės susitikimas: berniukai sugrįžta! | C88: 378882 | D88: 64271 | E88: 43098 | F88: Vabalo filmai
A89: 6 | B89: Poilsiautojai: Pavydo žaidynės | C89: 281885 | D89: 50710 | E89: 43063 | F89: Full Sceen
A90: 7 | B90: Šventasis | C90: 243062.26 | D90: 46856 | E90: 43000 | F90: Europos kinas
A91: 8 | B91: Stebuklas | C91: 71184.1 | D91: 15044 | E91: 43077 | F91: In Script
...

Sheet 2017
A1: 2017
A2: Lietuvos kino teatruose rodytų filmų TOP
A5: Eil. Nr. | B5: Filmo pavadinimas | C5: Filmo pavadinimas originalo kalba | D5: Kilmės šalis | E5: Pajamos | F5: Žiūrovų skaičius | G5: Kopijų skaičius | H5: Premjeros data | I5: Platintojas
A6: =IF(B6<>"",ROWS($B$6:B6),"") -> 1 | B6: Trys milijonai eurų | C6: Trys milijonai eurų | D6: LT | E6: 1304853 | F6: 235730 | G6: 18 | H6: 43035 | I6: Vabalo filmai
A7: =IF(B7<>"",ROWS($B$6:B7),"") -> 2 | B7: Zero 3 | C7: Zero 3 | D7: LT | E7: 1008470 | F7: 194486 | G7: 15 | H7: 42762 | I7: Cinema Cult Distirbution
A8: =IF(B8<>"",ROWS($B$6:B8),"") -> 3 | B8: Bjaurusis aš 3 | C8: Despicable Me 3 | D8: US | E8: 878046.99 | F8: 184398 | G8: 24 | H8: 42916 | I8: NCG Distribution / Universal Pictures International
A9: =IF(B9<>"",ROWS($B$6:B9),"") -> 4 | B9: Karibų piratai: Salazaro kerštas | C9: Pirates of The Caribbean: Salazar's Revenge | D9: US | E9: 597844.27 | F9: 105755 | G9: 28 | H9: 42881 | I9: Theatrical Film Distribution / WDSMPI
A10: =IF(B10<>"",ROWS($B$6:B10),"") -> 5 | B10: Emilija iš Laisvės alėjos | C10: Emilija iš Laisvės alėjos | D10: LT | E10: 578644.89 | F10: 124166 | G10: 18 | H10: 42790 | I10: ACME Film
A11: =IF(B11<>"",ROWS($B$6:B11),"") -> 6 | B11: Penkiasdešimt tamsesnių atspalvių | C11: Fifty shades of grey | D11: US | E11: 541862.84 | F11: 103020 | G11: 18 | H11: 42776 | I11: NCG Distribution / Universal Pictures International
A12: =IF(B12<>"",ROWS($B$6:B12),"") -> 7 | B12: Greiti ir įsiutę 8 | C12: Furious 8 | D12: US | E12: 501104.75 | F12: 97457 | G12: 15 | H12: 42839 | I12: NCG Distribution / Universal Pictures International
A13: =IF(B13<>"",ROWS($B$6:B13),"") -> 8 | B13: Kaip susigrąžinti ją per 7 dienas | C13: Kaip susigrąžinti ją per 7 dienas | D13: LT | E13: 465368 | F13: 89616 | G13: 16 | H13: 43014 | I13: Singing fish
A14: =IF(B14<>"",ROWS($B$6:B14),"") -> 9 | B14: Ponas Kūdikis | C14: Boss Baby | D14: US | E14: 441834.1 | F14: 99891 | G14: 33 | H14: 42839 | I14: Theatrical Film Distribution / 20th Century Fox
A15: =IF(B15<>"",ROWS($B$6:B15),"") -> 10 | B15: Klasės susitikimas: berniukai sugrįžta! | C15: Klasės susitikimas: berniukai sugrįžta! | D15: LT | E15: 378882 | F15: 64271 | G15: 15 | H15: 43098 | I15: Vabalo filmai
A16: =IF(B16<>"",ROWS($B$6:B16),"") -> 11 | B16: Ratai 3 | C16: Cars 3 | D16: US | E16: 336134.82 | F16: 74989 | G16: 30 | H16: 42944 | I16: Theatrical Film Distribution / WDSMPI
A17: =IF(B17<>"",ROWS($B$6:B17),"") -> 12 | B17: Smurfai: pamirštas kaimelis | C17: Smurfs 3 Lost Village | D17: US | E17: 297665.93 | F17: 68750 | G17: 15 | H17: 42825 | I17: ACME Film / SONY
... A216: =IF(B216<>"",ROWS($B$6:B216),"") -> 211 | B216: Aukštyn kojom (Wild mouse) | C216: Aukštyn kojom (Wild mouse) | D216: AU | E216: 4213 | F216: 920 | G216: 3 | H216: 42965 | I216: A-one films
A217: =IF(B217<>"",ROWS($B$6:B217),"") -> 212 | B217: Arčiau debesų | C217: Cloudboy | D217: BG, SE, NL, NO | E217: 4209.7 | F217: 1819 | G217: 1 | H217: 2017.09.10 | I217: Skalvijos kino centras
A218: =IF(B218<>"",ROWS($B$6:B218),"") -> 213 | B218: Dėl viso pikto | C218: Just to Be Sure | D218: FR | E218: 4105.28 | F218: 1007 | G218: 7 | H218: 43091 | I218: A-one films
A219: =IF(B219<>"",ROWS($B$6:B219),"") -> 214 | B219: Panelė Rūgštynė | C219: Jamais Contente | D219: FR | E219: 4029 | F219: 1615 | G219: 1 | H219: 2016.12.17 | I219: Skalvijos kino centras
A220: =IF(B220<>"",ROWS($B$6:B220),"") -> 215 | B220: 24 valandos gyventi | C220: 24 Hours to Live | D220: US | E220: 3976.38 | F220: 752 | G220: 3 | H220: 43077 | I220: ACME Film
A221: =IF(B221<>"",ROWS($B$6:B221),"") -> 216 | B221: Pasiklydę Paryžiuje | C221: Paris pieds nus | D221: FR | E221: 3869 | F221: 1106 | G221: 3 | H221: 42832 | I221: Europos kinas
A222: =IF(B222<>"",ROWS($B$6:B222),"") -> 217 | B222: (Ne)Tikros prancūziškos vestuvės | C222: Qu’est-ce qu’on a fait au Bon Dieu? | D222: FR | E222: 3838.6 | F222: 839 | G222: 1 | H222: 42244 | I222: Kino pasaka
A223: =IF(B223<>"",ROWS($B$6:B223),"") -> 218 | B223: Apsimetėliai | C223: Pretenders | D223: EE | E223: 3783.4 | F223: 926 | G223: 9 | H223: 42895 | I223: Kino pasaka
A224: =IF(B224<>"",ROWS($B$6:B224),"") -> 219 | B224: Naktiniai gyvuliai | C224: Nocturnal animals | D224: US | E224: 3759.23 | F224: 749 | G224: 3 | H224: 42713 | I224: NCG Distribution / Universal Pictures International
A225: =IF(B225<>"",ROWS($B$6:B225),"") -> 220 | B225: Nekaltosios | C225: Les innocentes | D225: FR, PL | E225: 3741.4 | F225: 978 | G225: 3 | H225: 42713 | I225: Kino pasaka
A226: =IF(B226<>"",ROWS($B$6:B226),"") -> 221 | B226: Nuolankioji | C226: Krotkaya | D226: TBA | E226: 3695 | F226: 850 | G226: 7 | H226: 43063 | I226: Garsų pasaulio įrašai
A227: =IF(B227<>"",ROWS($B$6:B227),"") -> 222 | B227: Ryžių karoliukai | C227: Basmati Blues | D227: US | E227: 3639.69 | F227: 661 | G227: 10 | H227: 43098 | I227: Theatrical Film Distribution
A228: =IF(B228<>"",ROWS($B$6:B228),"") -> 223 | B228: Veidai Kaimai | C228: Visages villages | D228: FR | E228: 3388.4 | F228: 869 | G228: 5 | H228: 43070 | I228: A-one films
A229: =IF(B229<>"",ROWS($B$6:B229),"") -> 224 | B229: Pasekmė | C229: Aftermath | D229: US | E229: 3355.69 | F229: 634 | G229: 5 | H229: 42860 | I229: Golden Cooperation
A230: =IF(B230<>"",ROWS($B$6:B230),"") -> 225 | B230: Uraganas: Vėjo odisėja | C230: Ouragan, l‘odyssee d‘un vent | D230: CZ | E230: 3343 | F230: 885 | G230: 5 | H230: 42937 | I230: Best Film
A231: =IF(B231<>"",ROWS($B$6:B231),"") -> 226 | B231: Kruvini pinigai | C231: Blood Money | D231: US | E231: 3316.36 | F231: 664 | G231: 9 | H231: 43049 | I231: Theatrical Film Distribution
... A234: =IF(B234<>"",ROWS($B$6:B234),"") -> 229 | B234: Gražiosios Aranchueso dienos | C234: Les beaux jours d'Aranjuez | D234: FR, DE | E234: 3217 | F234: 835 | G234: 5 | H234: 42790 | I234: A-one films
A235: =IF(B235<>"",ROWS($B$6:B235),"") -> 230 | B235: Ką pašnibždėjo pelėda (Trumpukų programa) | C235: Ką pašnibždėjo pelėda (Trumpukų programa) | D235: TBA | E235: 3001.1 | F235: 1293 | G235: 1 | H235: 2017.01.14 | I235: Skalvijos kino centras
A236: =IF(B236<>"",ROWS($B$6:B236),"") -> 231 | B236: Noriu būti savimi (dokumentinių filmų programa) | C236: Noriu būti savimi (dokumentinių filmų programa) | D236: TBA | E236: 2954.4 | F236: 1503 | G236: 1 | H236: 2016.11.19 | I236: Skalvijos kino centras
A237: =IF(B237<>"",ROWS($B$6:B237),"") -> 232 | B237: Stefanas Cveigas: Atsisveikinimas su Europa | C237: Stefan Zweig: Farewell to Europe | D237: FR | E237: 2771 | F237: 757 | G237: 5 | H237: 42902 | I237: Best Film
A238: =IF(B238<>"",ROWS($B$6:B238),"") -> 233 | B238: Mokytoja | C238: Ucitelka | D238: CZ, SK | E238: 2740.2 | F238: 804 | G238: 7 | H238: 42972 | I238: Kino pasaka
A239: =IF(B239<>"",ROWS($B$6:B239),"") -> 234 | B239: Kriaušių pyragėliai su levandomis | C239: Le gout des merveilles | D239: FR | E239: 2688.2 | F239: 599 | G239: 1 | H239: 42601 | I239: Kino pasaka
A240: =IF(B240<>"",ROWS($B$6:B240),"") -> 235 | B240: Nematomas herojus | C240: Phantom Boy | D240: FR | E240: 2684.2 | F240: 1132 | G240: 3 | H240: 42601 | I240: A-one films
A241: =IF(B241<>"",ROWS($B$6:B241),"") -> 236 | B241: Keršto įstatymas | C241: Acts of Vengeance | D241: BG, US | E241: 2635.68 | F241: 497 | G241: 7 | H241: 43063 | I241: Theatrical Film Distribution
A242: =IF(B242<>"",ROWS($B$6:B242),"") -> 237 | B242: Krokodilai | C242: Vorstadtkrokodile | D242: DK | E242: 2465 | F242: 1321 | G242: 1 | H242: 40789 | I242: Skalvijos kino centras
...

Sheet Platintojų pasiskirstymas
A1: Platintojas | B1: Filmo pavadinimas | C1: Pajamos | D1: Žiūrovų skaičius | E1: Premjeros data
A2: ACME Film | B2: Emilija iš Laisvės alėjos (Emilija iš Laisvės alėjos) | C2: 578644.89 | D2: 124166 | E2: 42790
B3: Balerina (2017) (Ballerina (2017)) | C3: 277683.87 | D3: 66452 | E3: 42748
B4: Didžiapėdžio vaikis (Son of Big Foot) | C4: 227761.51 | D4: 51471 | E4: 43028
B5: Meškiukas Padingtonas 2 (Paddington 2) | C5: 169793.43 | D5: 37507 | E5: 43070
B6: Šuns tikslas (Dog's Purpose) | C6: 148745.95 | D6: 34297 | E6: 42790
B7: Kalifornijos svajos (La La Land) | C7: 112913.97 | D7: 22007 | E7: 42713
B8: Valerianas ir tūkstančio planetų miestas (Valerian and the City of a Thousand Planets) | C8: 112752 | D8: 19485 | E8: 42944
B9: Mano mažasis ponis. Filmas (My Little Pony) | C9: 105123.37 | D9: 25200 | E9: 43014
B10: Matilda (Mathilde) | C10: 100330.7 | D10: 18720 | E10: 43035
B11: Sniego karalienė 3 (Snow Queen 3) | C11: 97556.12 | D11: 23231 | E11: 42734
B12: Pjūklas 8 (Saw Legacy (Jigsaw)) | C12: 96128.87 | D12: 17114 | E12: 43035
B13: Džonas Vikas 2 (John Wick 2) | C13: 88235.52 | D13: 16414 | E13: 42776
B14: Dvasia šarvuose (Ghost in the Shell) | C14: 80086.8 | D14: 15403 | E14: 42832
... B58: Švyturys tarp dviejų vandenynų (Light Between Oceans) | C58: 20.6 | D58: 5 | E58: 42692
A59: ACME Film Total | B59: =COUNTA(B2:B58) -> 57 | C59: 3184759.8 | D59: 670451
A60: NCG Distribution / Universal Pictures International | B60: Bjaurusis aš 3 (Despicable Me 3) | C60: 878046.99 | D60: 184398 | E60: 42916
B61: Penkiasdešimt tamsesnių atspalvių (Fifty shades of grey) | C61: 541862.84 | D61: 103020 | E61: 42776
B62: Greiti ir įsiutę 8 (Furious 8) | C62: 501104.75 | D62: 97457 | E62: 42839
B63: Dainuok (Sing) | C63: 224186.91 | D63: 50684 | E63: 42727
B64: Mumija (The Mummy) | C64: 221522.12 | D64: 38814 | E64: 42895
B65: Didžioji siena (The Great Wall) | C65: 102664.47 | D65: 18338 | E65: 42783
B66: Baris Sylas: Amerikos sukčius (American Made) | C66: 98264.57 | D66: 18628 | E66: 42972
B67: Skilimas (Split) | C67: 70958.35 | D67: 14196 | E67: 42755
B68: Pradink (Get Out) | C68: 70721.44 | D68: 13670 | E68: 42832
B69: Tėtukas namie 2 (Daddys home 2) | C69: 47908.33 | D69: 8956 | E69: 43063
B70: Sniego senis (Snowman) | C70: 40369.83 | D70: 8570 | E70: 43021
B71: Lemtinga pagunda (The Beguiled) | C71: 36277.95 | D71: 7097 | E71: 42930
B72: Viktorija ir Abdulas (Victoria and Abdul) | C72: 18111.13 | D72: 3743 | E72: 43000
... B76: Bridžitos Džouns kūdikis (Bridget Jone's Baby) | C76: 580 | D76: 150 | E76: 42629
A77: NCG Distribution / Universal Pictures International Total | B77: =COUNTA(B60:B76) -> 17 | C77: 2858407.8 | D77: 569610
A78: ACME Film / WB | B78: Anabelė 2 (Annabelle 2) | C78: 290313.53 | D78: 52673 | E78: 42958
B79: Diunkerkas (Dunkirk) | C79: 266580.62 | D79: 49140 | E79: 42937
B80: Tas (It) | C80: 263281.69 | D80: 47656 | E80: 42986
B81: Kongas: Kaukolės sala (Kong: Skull Island) | C81: 203332.63 | D81: 36635 | E81: 42804
B82: Lego Betmenas. Filmas (Lego Batman Movie) | C82: 202835.02 | D82: 45924 | E82: 42776
B83: Globalinė audra (Geostorm) | C83: 145971.25 | D83: 23211 | E83: 43028
B84: Lego Ninjago filmas (Lego Ninjago) | C84: 125796.12 | D84: 28159 | E84: 43000
B85: Teisingumo lyga (Justice League) | C85: 117533.04 | D85: 20633 | E85: 43056
B86: Nuostabioji moteris (Wonder Women) | C86: 106829.34 | D86: 20713 | E86: 42888
...

Sheet Sausis
A1: ='2017'!A1 -> 2017
A2: ='2017'!A2 -> Lietuvos kino teatruose rodytų filmų TOP
A3: Sausis
A5: Eil. Nr. | B5: Filmo pavadinimas | C5: Filmo pavadinimas originalo kalba | D5: Kilmės šalis | E5: Pajamos | F5: Žiūrovų skaičius | G5: Kopijų skaičius | H5: Premjeros data | I5: Platintojas
A6: =IF(B6<>"",ROWS($B$6:B6),"") -> 1 | B6: Zero 3 | C6: Zero 3 | D6: LT | E6: 414396 | F6: 80326 | G6: 15 | H6: 42762 | I6: Cinema Cult Distirbution
A7: =IF(B7<>"",ROWS($B$6:B7),"") -> 2 | B7: Pakeleiviai | C7: Passengers | D7: US | E7: 218247.33 | F7: 38580 | G7: 12 | H7: 42734 | I7: ACME Film / SONY
A8: =IF(B8<>"",ROWS($B$6:B8),"") -> 3 | B8: Dainuok | C8: Sing | D8: US | E8: 179468.13 | F8: 40316 | G8: 15 | H8: 42727 | I8: NCG Distribution / Universal Pictures International
A9: =IF(B9<>"",ROWS($B$6:B9),"") -> 4 | B9: Balerina | C9: Ballerina | D9: FR | E9: 171850.86 | F9: 41431 | G9: 15 | H9: 42748 | I9: ACME Film
A10: =IF(B10<>"",ROWS($B$6:B10),"") -> 5 | B10: 12 kėdžių | C10: 12 kėdžių | D10: LT | E10: 137525 | F10: 28034 | G10: 14 | H10: 42727 | I10: Film Jam
A11: =IF(B11<>"",ROWS($B$6:B11),"") -> 6 | B11: Vikingas | C11: Viking | D11: RU | E11: 124527 | F11: 23048 | G11: 10 | H11: 42741 | I11: Garsų pasaulio įrašai
A12: =IF(B12<>"",ROWS($B$6:B12),"") -> 7 | B12: Kodėl būtent jis? | C12: Why Him? | D12: US | E12: 88230.34 | F12: 18056 | G12: 13 | H12: 42748 | I12: Theatrical Film Distribution / 20th Century Fox
A13: =IF(B13<>"",ROWS($B$6:B13),"") -> 8 | B13: Sniego karalienė 3 | C13: Snow Queen 3 | D13: RU | E13: 83228.77 | F13: 19827 | G13: 10 | H13: 42734 | I13: ACME Film
A14: =IF(B14<>"",ROWS($B$6:B14),"") -> 9 | B14: Užslėptas grožis | C14: Collateral Beuty | D14: US | E14: 74409.68 | F14: 14479 | G14: 12 | H14: 42741 | I14: ACME Film / WB
A15: =IF(B15<>"",ROWS($B$6:B15),"") -> 10 | B15: Žudikų Brolija | C15: Assassin's Creed | D15: US | E15: 72834.97 | F15: 13069 | G15: 18 | H15: 42727 | I15: Theatrical Film Distribution / 20th Century Fox
A16: =IF(B16<>"",ROWS($B$6:B16),"") -> 11 | B16: Eglutės 5 | C16: Yolki 5 | D16: RU | E16: 64600 | F16: 17668 | G16: 8 | H16: 42734 | I16: Garsų pasaulio įrašai
A17: =IF(B17<>"",ROWS($B$6:B17),"") -> 12 | B17: Kalifornijos svajos | C17: La La Land | D17: US | E17: 61621.42 | F17: 12115 | G17: 10 | H17: 42713 | I17: ACME Film
... A53: =IF(B53<>"",ROWS($B$6:B53),"") -> 48 | B53: Blogasis Santa 2 | C53: Bad Santa 2 | D53: US | E53: 8 | F53: 2 | G53: 1 | H53: 42720 | I53: Theatrical Film Distribution
A54: Total | E54: =SUBTOTAL(109,Table3[Pajamos]) -> 2068528.4 | F54: =SUBTOTAL(109,Table3[Žiūrovų skaičius]) -> 427507

Sheet Vasaris
A1: ='2017'!A1 -> 2017
A2: ='2017'!A2 -> Lietuvos kino teatruose rodytų filmų TOP
A3: Vasaris
A5: Eil. Nr. | B5: Filmo pavadinimas | C5: Filmo pavadinimas originalo kalba | D5: Kilmės šalis | E5: Pajamos | F5: Žiūrovų skaičius | G5: Kopijų skaičius | H5: Premjeros data | I5: Platintojas
A6: =IF(B6<>"",ROWS($B$6:B6),"") -> 1 | B6: Zero 3 | C6: Zero 3 | D6: LT | E6: 543660 | F6: 102657 | G6: 15 | H6: 42762 | I6: Cinema Cult Distirbution
A7: =IF(B7<>"",ROWS($B$6:B7),"") -> 2 | B7: Penkiasdešimt tamsesnių atspalvių | C7: Fifty shades of grey | D7: US | E7: 508820.67 | F7: 96834 | G7: 18 | H7: 42776 | I7: NCG Distribution / Universal Pictures International
A8: =IF(B8<>"",ROWS($B$6:B8),"") -> 3 | B8: Emilija iš Laisvės alėjos | C8: Emilija iš Laisvės alėjos | D8: LT | E8: 219186.63 | F8: 46472 | G8: 18 | H8: 42790 | I8: ACME Film
A9: =IF(B9<>"",ROWS($B$6:B9),"") -> 4 | B9: Lego Betmenas. Filmas | C9: Lego Batman Movie | D9: US | E9: 171037.65 | F9: 38723 | G9: 20 | H9: 42776 | I9: ACME Film / WB
A10: =IF(B10<>"",ROWS($B$6:B10),"") -> 5 | B10: Balerina | C10: Ballerina | D10: FR | E10: 88304.83 | F10: 20611 | G10: 12 | H10: 42748 | I10: ACME Film
A11: =IF(B11<>"",ROWS($B$6:B11),"") -> 6 | B11: Didžioji siena | C11: The Great Wall | D11: US | E11: 82228.46 | F11: 14741 | G11: 13 | H11: 42783 | I11: NCG Distribution / Universal Pictures International
A12: =IF(B12<>"",ROWS($B$6:B12),"") -> 7 | B12: Džonas Vikas 2 | C12: John Wick 2 | D12: US | E12: 81045.13 | F12: 15126 | G12: 12 | H12: 42776 | I12: ACME Film
A13: =IF(B13<>"",ROWS($B$6:B13),"") -> 8 | B13: Tyla | C13: Silence | D13: US | E13: 61626.5 | F13: 11899 | G13: 10 | H13: 42769 | I13: ACME Film
A14: =IF(B14<>"",ROWS($B$6:B14),"") -> 9 | B14: Skambutis 3 | C14: Rings | D14: US | E14: 61124.46 | F14: 13190 | G14: 13 | H14: 42790 | I14: NCG Distribution / Paramount Pictures Internationa
A15: =IF(B15<>"",ROWS($B$6:B15),"") -> 10 | B15: Absoliutus blogis: pabaiga | C15: Resident Evil: Final Chapter | D15: US | E15: 58863.17 | F15: 10236 | G15: 14 | H15: 42769 | I15: ACME Film / SONY
A16: =IF(B16<>"",ROWS($B$6:B16),"") -> 11 | B16: Šuns tikslas | C16: Dog's Purpose | D16: US | E16: 48446.75 | F16: 11308 | G16: 16 | H16: 42790 | I16: ACME Film
A17: =IF(B17<>"",ROWS($B$6:B17),"") -> 12 | B17: Kalifornijos svajos | C17: La La Land | D17: US | E17: 46332.67 | F17: 8809 | G17: 10 | H17: 42713 | I17: ACME Film
... A53: =IF(B53<>"",ROWS($B$6:B53),"") -> 48 | B53: Troliai | C53: Trolls | D53: US | E53: 15.8 | F53: 4 | G53: 1 | H53: 42664 | I53: Theatrical Film Distribution / 20th Century Fox
E54: =SUBTOTAL(109,Table3_Vasaris[Pajamos]) -> 2271196.9 | F54: =SUBTOTAL(109,Table3_Vasaris[Žiūrovų skaičius]) -> 453997

Sheet Kovas
A1: ='2017'!A1 -> 2017
A2: ='2017'!A2 -> Lietuvos kino teatruose rodytų filmų TOP
A3: Kovas
A5: Eil. Nr. | B5: Filmo pavadinimas | C5: Filmo pavadinimas originalo kalba | D5: Kilmės šalis | E5: Pajamos | F5: Žiūrovų skaičius | G5: Kopijų skaičius | H5: Premjeros data | I5: Platintojas
A6: =IF(B6<>"",ROWS($B$6:B6),"") -> 1 | B6: Emilija iš Laisvės alėjos | C6: Emilija iš Laisvės alėjos | D6: LT | E6: 314638.08 | F6: 67731 | G6: 18 | H6: 42790 | I6: ACME Film
A7: =IF(B7<>"",ROWS($B$6:B7),"") -> 2 | B7: Kongas: Kaukolės sala | C7: Kong: Skull Island | D7: US | E7: 180451.3 | F7: 32546 | G7: 18 | H7: 42804 | I7: ACME Film / WB
A8: =IF(B8<>"",ROWS($B$6:B8),"") -> 3 | B8: Loganas. Ernis | C8: Logan | D8: US | E8: 121266.53 | F8: 23029 | G8: 15 | H8: 42797 | I8: Theatrical Film Distribution / 20th Century Fox
A9: =IF(B9<>"",ROWS($B$6:B9),"") -> 4 | B9: Gražuolė ir pabaisa | C9: Beauty and The Beast | D9: US | E9: 116867.25 | F9: 23012 | G9: 28 | H9: 42811 | I9: Theatrical Film Distribution / WDSMPI
A10: =IF(B10<>"",ROWS($B$6:B10),"") -> 5 | B10: Ričis Didysis | C10: Richard the Stork | D10: BE, DE | E10: 88211 | F10: 20682 | G10: 16 | H10: 42804 | I10: Garsų pasaulio įrašai
A11: =IF(B11<>"",ROWS($B$6:B11),"") -> 6 | B11: Šuns tikslas | C11: Dog's Purpose | D11: US | E11: 85644.66 | F11: 19594 | G11: 16 | H11: 42790 | I11: ACME Film
A12: =IF(B12<>"",ROWS($B$6:B12),"") -> 7 | B12: Liūtas | C12: Lion | D12: AU, US | E12: 83888.88 | F12: 16914 | G12: 17 | H12: 42797 | I12: Theatrical Film Distribution
A13: =IF(B13<>"",ROWS($B$6:B13),"") -> 8 | B13: Gyvybė | C13: Life | D13: US | E13: 52616.26 | F13: 10031 | G13: 14 | H13: 42818 | I13: ACME Film / SONY
A14: =IF(B14<>"",ROWS($B$6:B14),"") -> 9 | B14: Skambutis 3 | C14: Rings | D14: US | E14: 52101.91 | F14: 9734 | G14: 10 | H14: 42790 | I14: NCG Distribution / Paramount Pictures Internationa
A15: =IF(B15<>"",ROWS($B$6:B15),"") -> 10 | B15: Zero 3 | C15: Zero 3 | D15: LT | E15: 47274 | F15: 10683 | G15: 8 | H15: 42762 | I15: Cinema Cult Distirbution
A16: =IF(B16<>"",ROWS($B$6:B16),"") -> 11 | B16: Priešnuodis gyvenimui | C16: A Cure For Wellness | D16: US | E16: 42374.24 | F16: 8323 | G16: 13 | H16: 42811 | I16: Theatrical Film Distribution / 20th Century Fox
A17: =IF(B17<>"",ROWS($B$6:B17),"") -> 12 | B17: Traukinių žymėjimas 2 | C17: T2 Trainspotting | D17: US | E17: 33792.19 | F17: 6557 | G17: 12 | H17: 42804 | I17: ACME Film / SONY
... A60: =IF(B60<>"",ROWS($B$6:B60),"") -> 55 | B60: Ateitis | C60: L'avenir | D60: FR | E60: 45.5 | F60: 18 | G60: 2 | H60: 42772 | I60: Kino Aljansas
E61: =SUBTOTAL(109,Table3_Kovas[Pajamos]) -> 1503115 | F61: =SUBTOTAL(109,Table3_Kovas[Žiūrovų skaičius]) -> 307333

Sheet Balandis
A1: ='2017'!A1 -> 2017
A2: ='2017'!A2 -> Lietuvos kino teatruose rodytų filmų TOP
A3: Balandis
A5: Eil. Nr. | B5: Filmo pavadinimas | C5: Filmo pavadinimas originalo kalba | D5: Kilmės šalis | E5: Pajamos | F5: Žiūrovų skaičius | G5: Kopijų skaičius | H5: Premjeros data | I5: Platintojas
A6: =IF(B6<>"",ROWS($B$6:B6),"") -> 1 | B6: Greiti ir įsiutę 8 | C6: Furious 8 | D6: US | E6: 452285.57 | F6: 87570 | G6: 15 | H6: 42839 | I6: NCG Distribution / Universal Pictures International
A7: =IF(B7<>"",ROWS($B$6:B7),"") -> 2 | B7: Ponas Kūdikis | C7: Boss Baby | D7: US | E7: 306460.08 | F7: 68218 | G7: 33 | H7: 42839 | I7: Theatrical Film Distribution / 20th Century Fox
A8: =IF(B8<>"",ROWS($B$6:B8),"") -> 3 | B8: Smurfai: pamirštas kaimelis | C8: Smurfs 3 Lost Village | D8: US | E8: 241967.49 | F8: 55905 | G8: 15 | H8: 42825 | I8: ACME Film / SONY
A9: =IF(B9<>"",ROWS($B$6:B9),"") -> 4 | B9: Dvasia šarvuose | C9: Ghost in the Shell | D9: US | E9: 78022.46 | F9: 14980 | G9: 15 | H9: 42832 | I9: ACME Film
A10: =IF(B10<>"",ROWS($B$6:B10),"") -> 5 | B10: Pradink | C10: Get Out | D10: US | E10: 64950.84 | F10: 12538 | G10: 10 | H10: 42832 | I10: NCG Distribution / Universal Pictures International
A11: =IF(B11<>"",ROWS($B$6:B11),"") -> 6 | B11: Galaktikos sergėtojai. II dalis | C11: Guardians of The Galaxy. Vol 2 | D11: US | E11: 61142.47 | F11: 10782 | G11: 24 | H11: 42853 | I11: Theatrical Film Distribution / WDSMPI
A12: =IF(B12<>"",ROWS($B$6:B12),"") -> 7 | B12: Gyvybė | C12: Life | D12: US | E12: 48431.73 | F12: 9339 | G12: 14 | H12: 42818 | I12: ACME Film / SONY
A13: =IF(B13<>"",ROWS($B$6:B13),"") -> 8 | B13: Seni Lapinai | C13: Going in style | D13: US | E13: 45411.19 | F13: 8562 | G13: 12 | H13: 42832 | I13: ACME Film / WB
A14: =IF(B14<>"",ROWS($B$6:B14),"") -> 9 | B14: Gražuolė ir pabaisa | C14: Beauty and The Beast | D14: US | E14: 43808.53 | F14: 8842 | G14: 18 | H14: 42811 | I14: Theatrical Film Distribution / WDSMPI
A15: =IF(B15<>"",ROWS($B$6:B15),"") -> 10 | B15: Emilija iš Laisvės alėjos | C15: Emilija iš Laisvės alėjos | D15: LT | E15: 35729.49 | F15: 7817 | G15: 10 | H15: 42790 | I15: ACME Film
A16: =IF(B16<>"",ROWS($B$6:B16),"") -> 11 | B16: Zoologijos sodo prižiūrėtojo žmona | C16: Zookeeper's wife | D16: US | E16: 33980.01 | F16: 6909 | G16: 12 | H16: 42839 | I16: ACME Film
A17: =IF(B17<>"",ROWS($B$6:B17),"") -> 12 | B17: Prarastasis miestas Z | C17: Lost City of Z | D17: US | E17: 31423.75 | F17: 6511 | G17: 15 | H17: 42846 | I17: ACME Film
... A42: =IF(B42<>"",ROWS($B$6:B42),"") -> 37 | B42: Rimti žaidimai | C42: Den allvarsamma leken | D42: DK, NO, SE | E42: 217.5 | F42: 78 | G42: 3 | H42: 42804 | I42: Kino Aljansas
A43: =IF(B43<>"",ROWS($B$6:B43),"") -> 38 | B43: Šeimos šventė | C43: Ernelláék Farkaséknál | D43: HU | E43: 207.15 | F43: 155 | G43: 1 | H43: 2016. | I43: Kino Aljansas
A44: =IF(B44<>"",ROWS($B$6:B44),"") -> 39 | B44: Dainuok | C44: Sing | D44: US | E44: 128.17 | F44: 29 | G44: 1 | H44: 42727 | I44: NCG Distribution / Universal Pictures International
A45: =IF(B45<>"",ROWS($B$6:B45),"") -> 40 | B45: Nepažįstamoji | C45: La Fille inconnue | D45: BE, FR | E45: 98 | F45: 35 | G45: 2 | H45: 42804 | I45: Kino Aljansas
A46: =IF(B46<>"",ROWS($B$6:B46),"") -> 41 | B46: Komivojažierius | C46: The salesman | D46: IR, FR | E46: 75.5 | F46: 23 | G46: 2 | H46: 42748 | I46: Kino Aljansas
E47: =SUBTOTAL(109,Table3_Balandis[Pajamos]) -> 1612094.1 | F47: =SUBTOTAL(109,Table3_Balandis[Žiūrovų skaičius]) -> 334046

Sheet Gegužė
A1: ='2017'!A1 -> 2017
A2: ='2017'!A2 -> Lietuvos kino teatruose rodytų filmų TOP
A3: Gegužė
A5: Eil. Nr. | B5: Filmo pavadinimas | C5: Filmo pavadinimas originalo kalba | D5: Kilmės šalis | E5: Pajamos | F5: Žiūrovų skaičius | G5: Kopijų skaičius | H5: Premjeros data | I5: Platintojas
A6: =IF(B6<>"",ROWS($B$6:B6),"") -> 1 | B6: Karibų piratai: Salazaro kerštas | C6: Pirates of The Caribbean: Salazar's Revenge | D6: US | E6: 210746.59 | F6: 36089 | G6: 28 | H6: 42881 | I6: Theatrical Film Distribution / WDSMPI
A7: =IF(B7<>"",ROWS($B$6:B7),"") -> 2 | B7: Galaktikos sergėtojai. II dalis | C7: Guardians of The Galaxy. Vol 2 | D7: US | E7: 89420.78 | F7: 16906 | G7: 28 | H7: 42853 | I7: Theatrical Film Distribution / WDSMPI
A8: =IF(B8<>"",ROWS($B$6:B8),"") -> 3 | B8: Svetimas: Covenant | C8: Alien: Covenant | D8: US | E8: 83705.93 | F8: 15864 | G8: 15 | H8: 42867 | I8: Theatrical Film Distribution / 20th Century Fox
A9: =IF(B9<>"",ROWS($B$6:B9),"") -> 4 | B9: Ponas Kūdikis | C9: Boss Baby | D9: US | E9: 81327.27 | F9: 18824 | G9: 24 | H9: 42839 | I9: Theatrical Film Distribution / 20th Century Fox
A10: =IF(B10<>"",ROWS($B$6:B10),"") -> 5 | B10: Karalius Artūras: Kalavijo legenda | C10: King Arthur: Legend of Sword | D10: US | E10: 69789.64 | F10: 12723 | G10: 17 | H10: 42867 | I10: ACME Film / WB
A11: =IF(B11<>"",ROWS($B$6:B11),"") -> 6 | B11: Greiti ir įsiutę 8 | C11: Furious 8 | D11: US | E11: 48554.6 | F11: 9812 | G11: 10 | H11: 42839 | I11: NCG Distribution / Universal Pictures International
A12: =IF(B12<>"",ROWS($B$6:B12),"") -> 7 | B12: Virtuvė 2. Finalas | C12: Kuxnia 2. Posledniaja bitva | D12: RU | E12: 42987 | F12: 8840 | G12: 8 | H12: 42860 | I12: Garsų pasaulio įrašai
A13: =IF(B13<>"",ROWS($B$6:B13),"") -> 8 | B13: Svajoklis Budis | C13: Rock dog | D13: US | E13: 40024.39 | F13: 10193 | G13: 18 | H13: 42867 | I13: Clear Digital World
A14: =IF(B14<>"",ROWS($B$6:B14),"") -> 9 | B14: Man esi viskas | C14: Everything Everything | D14: US | E14: 48982 | F14: 9831 | G14: 14 | H14: 42874 | I14: ACME Film / WB
A15: =IF(B15<>"",ROWS($B$6:B15),"") -> 10 | B15: Ratas | C15: Circle | D15: US | E15: 18791.48 | F15: 3760 | G15: 14 | H15: 42874 | I15: ACME Film
A16: =IF(B16<>"",ROWS($B$6:B16),"") -> 11 | B16: Smurfai: pamirštas kaimelis | C16: Smurfs 3 Lost Village | D16: US | E16: 16765.61 | F16: 3964 | G16: 15 | H16: 42825 | I16: ACME Film / SONY
A17: =IF(B17<>"",ROWS($B$6:B17),"") -> 12 | B17: Slaptasisi agentas | C17: Unlocked | D17: US | E17: 9184.66 | F17: 1979 | G17: 13 | H17: 42860 | I17: ACME Film
... A32: =IF(B32<>"",ROWS($B$6:B32),"") -> 27 | B32: Saldžių sapnų | C32: Fai bei sogni | D32: IT | E32: 1794 | F32: 588 | G32: 2 | H32: 42860 | I32: A-one films
A33: =IF(B33<>"",ROWS($B$6:B33),"") -> 28 | B33: Nuostabioji moteris | C33: Wonder Women | D33: US | E33: 1754.05 | F33: 347 | G33: 6 | H33: Preview | I33: ACME Film / WB
A34: =IF(B34<>"",ROWS($B$6:B34),"") -> 29 | B34: Liūtas | C34: Lion | D34: AU, US | E34: 1304.41 | F34: 340 | G34: 4 | H34: 42797 | I34: Theatrical Film Distribution
A35: =IF(B35<>"",ROWS($B$6:B35),"") -> 30 | B35: Gražuolė ir pabaisa | C35: Beauty and The Beast | D35: US | E35: 1234.07 | F35: 273 | G35: 4 | H35: 42811 | I35: Theatrical Film Distribution / WDSMPI
A36: =IF(B36<>"",ROWS($B$6:B36),"") -> 31 | B36: Troliai | C36: Trolls | D36: US | E36: 324 | F36: 162 | G36: 1 | H36: 42664 | I36: Theatrical Film Distribution / 20th Century Fox
A37: =IF(B37<>"",ROWS($B$6:B37),"") -> 32 | B37: Elfai | C37: Pixies | D37: US | E37: 322.5 | F37: 215 | G37: 1 | H37: 42517 | I37: Theatrical Film Distribution
A38: =IF(B38<>"",ROWS($B$6:B38),"") -> 33 | B38: Traukinių žymėjimas 2 | C38: T2 Trainspotting | D38: US | E38: 314.1 | F38: 63 | G38: 1 | H38: 42804 | I38: ACME Film / SONY
A39: =IF(B39<>"",ROWS($B$6:B39),"") -> 34 | B39: (Ne)Tikros prancūziškos vestuvės | C39: Qu’est-ce qu’on a fait au Bon Dieu? | D39: FR | E39: 293.8 | F39: 61 | G39: 1 | H39: 42244 | I39: Kino pasaka
A40: =IF(B40<>"",ROWS($B$6:B40),"") -> 35 | B40: Kriaušių pyragėliai su levandomis | C40: Le gout des merveilles | D40: FR | E40: 261.7 | F40: 63 | G40: 1 | H40: 42601 | I40: Kino pasaka
A41: =IF(B41<>"",ROWS($B$6:B41),"") -> 36 | B41: Francas | C41: Frantz | D41: FR, DE | E41: 241.8 | F41: 59 | G41: 2 | H41: 42769 | I41: Kino Pasaka
A42: =IF(B42<>"",ROWS($B$6:B42),"") -> 37 | B42: Aukštuomenės klubas | C42: Cafe Society | D42: US | E42: 222 | F42: 82 | G42: 1 | H42: 42587 | I42: ACME Film
A43: =IF(B43<>"",ROWS($B$6:B43),"") -> 38 | B43: Ledynmetis: susidūrimas | C43: Ice Age: Collision Course | D43: US | E43: 118.1 | F43: 63 | G43: 2 | H43: 42566 | I43: Theatrical Film Distribution / 20th Century Fox
A44: =IF(B44<>"",ROWS($B$6:B44),"") -> 39 | B44: Didesni purslai | C44: Bigger Splash | D44: US | E44: 106.2 | F44: 41 | G44: 1 | H44: 42496 | I44: ACME Film
A45: =IF(B45<>"",ROWS($B$6:B45),"") -> 40 | B45: Žaklina | C45: Jackie | D45: US | E45: 78 | F45: 23 | G45: 1 | H45: 42790 | I45: Theatrical Film Distribution
... A55: =IF(B55<>"",ROWS($B$6:B55),"") -> 50 | B55: Nepažįstamoji | C55: La Fille inconnue | D55: BE, FR | E55: 5 | F55: 2 | G55: 1 | H55: 42804 | I55: Kino Aljansas
E56: =SUBTOTAL(109,Table3_Gegužė[Pajamos]) -> 834466.69 | F56: =SUBTOTAL(109,Table3_Gegužė[Žiūrovų skaičius]) -> 166266

Sheet Birželis
A1: ='2017'!A1 -> 2017
A2: ='2017'!A2 -> Lietuvos kino teatruose rodytų filmų TOP
A3: Birželis
A5: Eil. Nr. | B5: Filmo pavadinimas | C5: Filmo pavadinimas originalo kalba | D5: Kilmės šalis | E5: Pajamos | F5: Žiūrovų skaičius | G5: Kopijų skaičius | H5: Premjeros data | I5: Platintojas
A6: =IF(B6<>"",ROWS($B$6:B6),"") -> 1 | B6: Karibų piratai: Salazaro kerštas | C6: Pirates of The Caribbean: Salazar's Revenge | D6: US | E6: 333477.92 | F6: 60208 | G6: 28 | H6: 42881 | I6: Theatrical Film Distribution / WDSMPI
A7: =IF(B7<>"",ROWS($B$6:B7),"") -> 2 | B7: Mumija | C7: The Mummy | D7: US | E7: 188910.87 | F7: 33338 | G7: 15 | H7: 42895 | I7: NCG Distribution / Universal Pictures International
A8: =IF(B8<>"",ROWS($B$6:B8),"") -> 3 | B8: Bjaurusis aš 3 | C8: Despicable Me 3 | D8: US | E8: 136524.9 | F8: 27271 | G8: 24 | H8: 42916 | I8: NCG Distribution / Universal Pictures International
A9: =IF(B9<>"",ROWS($B$6:B9),"") -> 4 | B9: Gelbėtojai | C9: Baywatch | D9: US | E9: 115814.68 | F9: 22921 | G9: 15 | H9: 42902 | I9: NCG Distribution / Paramount Pictures
A10: =IF(B10<>"",ROWS($B$6:B10),"") -> 5 | B10: Nuostabioji moteris | C10: Wonder Women | D10: US | E10: 92314.16 | F10: 18014 | G10: 18 | H10: 42888 | I10: ACME Film / WB
A11: =IF(B11<>"",ROWS($B$6:B11),"") -> 6 | B11: Stebuklų šalis: Urfino Džiuso ir mergaitės Elės nuotykiai | C11: Urfin and His Wooden Soldiers | D11: RU | E11: 54198 | F11: 13717 | G11: 13 | H11: 42881 | I11: Best Film
A12: =IF(B12<>"",ROWS($B$6:B12),"") -> 7 | B12: Ponas Kūdikis | C12: Boss Baby | D12: US | E12: 47977.27 | F12: 11415 | G12: 15 | H12: 42839 | I12: Theatrical Film Distribution / 20th Century Fox
A13: =IF(B13<>"",ROWS($B$6:B13),"") -> 8 | B13: Man esi viskas | C13: Everything Everything | D13: US | E13: 46449.78 | F13: 9345 | G13: 7 | H13: 42874 | I13: ACME Film / WB
A14: =IF(B14<>"",ROWS($B$6:B14),"") -> 9 | B14: Svajoklis Budis | C14: Rock dog | D14: US | E14: 44813.58 | F14: 10857 | G14: 18 | H14: 42867 | I14: Clear Digital World
A15: =IF(B15<>"",ROWS($B$6:B15),"") -> 10 | B15: Didysis baletas | C15: Bolšoi | D15: RU | E15: 24467.85 | F15: 5151 | G15: 10 | H15: 42895 | I15: Garsų pasaulio įrašai
A16: =IF(B16<>"",ROWS($B$6:B16),"") -> 11 | B16: Svetimas: Covenant | C16: Alien: Covenant | D16: US | E16: 21369.62 | F16: 3996 | G16: 8 | H16: 42867 | I16: Theatrical Film Distribution / 20th Century Fox
A17: =IF(B17<>"",ROWS($B$6:B17),"") -> 12 | B17: Bernvakaris Australijoje 2 (Few less men) | C17: Few less men | D17: AU | E17: 20520 | F17: 4117 | G17: 10 | H17: 42874 | I17: Best Film
... A32: =IF(B32<>"",ROWS($B$6:B32),"") -> 27 | B32: Apsimetėliai | C32: Pretenders | D32: EE | E32: 2725.9 | F32: 682 | G32: 9 | H32: 42895 | I32: Kino pasaka
A33: =IF(B33<>"",ROWS($B$6:B33),"") -> 28 | B33: Panelė Rūgštynė | C33: Jamais Contente | D33: FR | E33: 4029 | F33: 1615 | G33: 1 | H33: 2016.12.17 | I33: Skalvijos kino centras
A34: =IF(B34<>"",ROWS($B$6:B34),"") -> 29 | B34: Virtuvė 2. Finalas | C34: Kuxnia 2. Posledniaja bitva | D34: RU | E34: 2614.95 | F34: 488 | G34: 8 | H34: 42860 | I34: Garsų pasaulio įrašai
A35: =IF(B35<>"",ROWS($B$6:B35),"") -> 30 | B35: Noriu būti savimi (dokumentinių filmų programa) | C35: Noriu būti savimi (dokumentinių filmų programa) | D35: TBA | E35: 2954.4 | F35: 1503 | G35: 1 | H35: 2016.11.19 | I35: Skalvijos kino centras
A36: =IF(B36<>"",ROWS($B$6:B36),"") -> 31 | B36: Ką pašnibždėjo pelėda (Trumpukų programa) | C36: Ką pašnibždėjo pelėda (Trumpukų programa) | D36: TBA | E36: 3001.1 | F36: 1293 | G36: 1 | H36: 2017.01.14 | I36: Skalvijos kino centras
A37: =IF(B37<>"",ROWS($B$6:B37),"") -> 32 | B37: Krokodilai | C37: Vorstadtkrokodile | D37: DK | E37: 2465 | F37: 1321 | G37: 1 | H37: 40789 | I37: Skalvijos kino centras
A38: =IF(B38<>"",ROWS($B$6:B38),"") -> 33 | B38: Pakeliui į mokyklą | C38: Sur le Chemin de lʾécole | D38: FR, CN, ZA, BR, CO, | E38: 4942.4 | F38: 2170 | G38: 1 | H38: 42030 | I38: Skalvijos kino centras
A39: =IF(B39<>"",ROWS($B$6:B39),"") -> 34 | B39: Stefanas Cveigas: Atsisveikinimas su Europa | C39: Stefan Zweig: Farewell to Europe | D39: FR | E39: 2299.5 | F39: 617 | G39: 5 | H39: 42902 | I39: Best Film
A40: =IF(B40<>"",ROWS($B$6:B40),"") -> 35 | B40: Krokodilai 2 | C40: Vorstadtkrokodile 2 | D40: DK | E40: 1879 | F40: 946 | G40: 1 | H40: 41307 | I40: Skalvijos kino centras
A41: =IF(B41<>"",ROWS($B$6:B41),"") -> 36 | B41: Keliaujantys paukščiai | C41: Les oiseaux de passage | D41: BE, FR | E41: 1087 | F41: 551 | G41: 1 | H41: 42301 | I41: Skalvijos kino centras
A42: =IF(B42<>"",ROWS($B$6:B42),"") -> 37 | B42: Mamos norų sąrašas | C42: Mum's List | D42: US | E42: 808.69 | F42: 208 | G42: 18 | H42: 42881 | I42: Theatrical Film Distribution
A43: =IF(B43<>"",ROWS($B$6:B43),"") -> 38 | B43: Ir viso pasaulio negana (dokumentinių filmų programa) | C43: Ir viso pasaulio negana (dokumentinių filmų programa) | D43: TBA | E43: 743.6 | F43: 382 | G43: 1 | H43: 2016.09.25 | I43: Skalvijos kino centras
A44: =IF(B44<>"",ROWS($B$6:B44),"") -> 39 | B44: Liūtas | C44: Lion | D44: AU, US | E44: 577.6 | F44: 213 | G44: 5 | H44: 42797 | I44: Theatrical Film Distribution
A45: =IF(B45<>"",ROWS($B$6:B45),"") -> 40 | B45: Balerina | C45: Ballerina | D45: FR | E45: 564 | F45: 345 | G45: 1 | H45: 42748 | I45: ACME Film
A46: =IF(B46<>"",ROWS($B$6:B46),"") -> 41 | B46: Piktieji Paukščiai. Filmas | C46: Angry Birds Movie | D46: US | E46: 544.5 | F46: 345 | G46: 1 | H46: 42503 | I46: ACME Film / SONY
A47: =IF(B47<>"",ROWS($B$6:B47),"") -> 42 | B47: Kung Fu Panda 3 | C47: Kung Fu Panda 3 | D47: US | E47: 518.17 | F47: 273 | G47: 3 | H47: 42447 | I47: Theatrical Film Distribution / 20th Century Fox
A48: =IF(B48<>"",ROWS($B$6:B48),"") -> 43 | B48: Ledynmetis: susidūrimas | C48: Ice Age: Collision Course | D48: US | E48: 393.86 | F48: 276 | G48: 2 | H48: 42566 | I48: Theatrical Film Distribution / 20th Century Fox
A49: =IF(B49<>"",ROWS($B$6:B49),"") -> 44 | B49: Dainuok | C49: Sing | D49: US | E49: 484.86 | F49: 245 | G49: 1 | H49: 42727 | I49: NCG Distribution / Universal Pictures International
A50: =IF(B50<>"",ROWS($B$6:B50),"") -> 45 | B50: Nekaltosios | C50: Les innocentes | D50: FR, PL | E50: 414 | F50: 79 | G50: 1 | H50: 42713 | I50: Kino pasaka
A51: =IF(B51<>"",ROWS($B$6:B51),"") -> 46 | B51: Alvinas ir burundukai: didžioji kelionė | C51: Alvin & Chipmunks: The Road Chip | D51: US | E51: 411.9 | F51: 242 | G51: 2 | H51: 42405 | I51: Theatrical Film Distribution / 20th Century Fox
A52: =IF(B52<>"",ROWS($B$6:B52),"") -> 47 | B52: Paskutinė šeima | C52: Ostatnia rodzina | D52: PL | E52: 387.6 | F52: 103 | G52: 6 | H52: 42860 | I52: Kino pasaka
A53: =IF(B53<>"",ROWS($B$6:B53),"") -> 48 | B53: Kubo ir stebuklingas kardas | C53: Kubo and the Two Strings | D53: US | E53: 374.4 | F53: 221 | G53: 1 | H53: 42650 | I53: NCG Distribution / Universal Pictures International
A54: =IF(B54<>"",ROWS($B$6:B54),"") -> 49 | B54: Slaptas augintinių gyvenimas | C54: Secret Life of Pets | D54: US | E54: 373.8 | F54: 226 | G54: 1 | H54: 42587 | I54: NCG Distribution / Universal Pictures International
A55: =IF(B55<>"",ROWS($B$6:B55),"") -> 50 | B55: Eleonoros paslaptis | C55: Kerity, la maison des contes | D55: FR | E55: 371 | F55: 246 | G55: 1 | H55: TBA | I55: Skalvijos kino centras
...

Sheet Liepa
A1: ='2017'!A1 -> 2017
A2: ='2017'!A2 -> Lietuvos kino teatruose rodytų filmų TOP
A3: Liepa
A5: Eil. Nr. | B5: Filmo pavadinimas | C5: Filmo pavadinimas originalo kalba | D5: Kilmės šalis | E5: Pajamos | F5: Žiūrovų skaičius | G5: Kopijų skaičius | H5: Premjeros data | I5: Platintojas
A6: =IF(B6<>"",ROWS($B$6:B6),"") -> 1 | B6: Bjaurusis aš 3 | C6: Despicable Me 3 | D6: US | E6: 623610.67 | F6: 131169 | G6: 24 | H6: 42916 | I6: NCG Distribution / Universal Pictures International
A7: =IF(B7<>"",ROWS($B$6:B7),"") -> 2 | B7: Transformeriai: paskutinis riteris | C7: Transformers: The Last Knight | D7: US | E7: 147657.27 | F7: 25347 | G7: 15 | H7: 42923 | I7: NCG Distribution / Paramount Pictures
A8: =IF(B8<>"",ROWS($B$6:B8),"") -> 3 | B8: Diunkerkas | C8: Dunkirk | D8: US | E8: 147171.71 | F8: 26426 | G8: 15 | H8: 42937 | I8: ACME Film
A9: =IF(B9<>"",ROWS($B$6:B9),"") -> 4 | B9: Žmogus-voras: Grįžimas namo | C9: Spiderman Homecoming | D9: US | E9: 112025.86 | F9: 20351 | G9: 15 | H9: 42930 | I9: ACME Film / SONY
A10: =IF(B10<>"",ROWS($B$6:B10),"") -> 5 | B10: Vaikis ant ratų | C10: Baby Driver | D10: US | E10: 107879.99 | F10: 20451 | G10: 12 | H10: 42916 | I10: ACME Film / SONY
A11: =IF(B11<>"",ROWS($B$6:B11),"") -> 6 | B11: Mergų balius | C11: Rough Night | D11: US | E11: 94010.7 | F11: 17724 | G11: 12 | H11: 42923 | I11: ACME Film / SONY
A12: =IF(B12<>"",ROWS($B$6:B12),"") -> 7 | B12: Ratai 3 | C12: Cars 3 | D12: US | E12: 84748.37 | F12: 18465 | G12: 30 | H12: 42944 | I12: Theatrical Film Distribution / WDSMPI
A13: =IF(B13<>"",ROWS($B$6:B13),"") -> 8 | B13: Karas už beždžionių planetą | C13: War for the Planet of Apes | D13: US | E13: 67551.08 | F13: 12705 | G13: 15 | H13: 42930 | I13: Theatrical Film Distribution / 20th Century Fox
A14: =IF(B14<>"",ROWS($B$6:B14),"") -> 9 | B14: Karibų piratai: Salazaro kerštas | C14: Pirates of The Caribbean: Salazar's Revenge | D14: US | E14: 52433.08 | F14: 9230 | G14: 14 | H14: 42881 | I14: Theatrical Film Distribution / WDSMPI
A15: =IF(B15<>"",ROWS($B$6:B15),"") -> 10 | B15: Gelbėtojai | C15: Baywatch | D15: US | E15: 46884.11 | F15: 8427 | G15: 15 | H15: 42902 | I15: NCG Distribution / Paramount Pictures
A16: =IF(B16<>"",ROWS($B$6:B16),"") -> 11 | B16: Valerianas ir tūkstančio planetų miestas | C16: Valerian and the City of a Thousand Planets | D16: US | E16: 38049.84 | F16: 6350 | G16: 12 | H16: 42944 | I16: ACME Film
A17: =IF(B17<>"",ROWS($B$6:B17),"") -> 12 | B17: Lemtinga pagunda | C17: The Beguiled | D17: US | E17: 33178.22 | F17: 6446 | G17: 12 | H17: 42930 | I17: NCG Distribution / Universal Pictures International
... A62: =IF(B62<>"",ROWS($B$6:B62),"") -> 57 | B62: Troliai | C62: Trolls | D62: US | E62: 27 | F62: 15 | G62: 1 | H62: 42664 | I62: Theatrical Film Distribution / 20th Century Fox
E63: =SUBTOTAL(109,Table3_Liepa[Pajamos]) -> 1733177.2 | F63: =SUBTOTAL(109,Table3_Liepa[Žiūrovų skaičius]) -> 340439

Sheet Rugpjūtis
A1: ='2017'!A1 -> 2017
A2: ='2017'!A2 -> Lietuvos kino teatruose rodytų filmų TOP
A3: Rugpjūtis
A5: Eil. Nr. | B5: Filmo pavadinimas | C5: Filmo pavadinimas originalo kalba | D5: Kilmės šalis | E5: Pajamos | F5: Žiūrovų skaičius | G5: Kopijų skaičius | H5: Premjeros data | I5: Platintojas
A6: =IF(B6<>"",ROWS($B$6:B6),"") -> 1 | B6: Anabelė 2 | C6: Annabelle 2 | D6: US | E6: 247478.02 | F6: 44061 | G6: 12 | H6: 42958 | I6: ACME Film / WB
A7: =IF(B7<>"",ROWS($B$6:B7),"") -> 2 | B7: Ratai 3 | C7: Cars 3 | D7: US | E7: 213979.39 | F7: 48149 | G7: 30 | H7: 42944 | I7: Theatrical Film Distribution / WDSMPI
A8: =IF(B8<>"",ROWS($B$6:B8),"") -> 3 | B8: Emodži filmas | C8: Emoji | D8: US | E8: 175099.71 | F8: 39408 | G8: 18 | H8: 42965 | I8: ACME Film / SONY
A9: =IF(B9<>"",ROWS($B$6:B9),"") -> 4 | B9: Diunkerkas | C9: Dunkirk | D9: US | E9: 108584.35 | F9: 20493 | G9: 15 | H9: 42937 | I9: ACME Film / WB
A10: =IF(B10<>"",ROWS($B$6:B10),"") -> 5 | B10: Bjaurusis aš 3 | C10: Despicable Me 3 | D10: US | E10: 96405.9 | F10: 21221 | G10: 24 | H10: 42916 | I10: NCG Distribution / Universal Pictures International
A11: =IF(B11<>"",ROWS($B$6:B11),"") -> 6 | B11: Valerianas ir tūkstančio planetų miestas | C11: Valerian and the City of a Thousand Planets | D11: US | E11: 74612.46 | F11: 13112 | G11: 12 | H11: 42944 | I11: ACME Film
A12: =IF(B12<>"",ROWS($B$6:B12),"") -> 7 | B12: Žudiko asmens sargybinis | C12: Hitman‘s Bodyguard | D12: US | E12: 73197.63 | F12: 14036 | G12: 14 | H12: 42965 | I12: Theatrical Film Distribution
A13: =IF(B13<>"",ROWS($B$6:B13),"") -> 8 | B13: Lasivo elgesio močiutė | C13: Babushka Liogkovo Poviedienija | D13: RU | E13: 51752.34 | F13: 9313 | G13: 10 | H13: 42965 | I13: ACME Film
A14: =IF(B14<>"",ROWS($B$6:B14),"") -> 9 | B14: Tamsusis bokštas | C14: Dark Tower | D14: US | E14: 47195.96 | F14: 8825 | G14: 12 | H14: 42958 | I14: ACME Film / SONY
A15: =IF(B15<>"",ROWS($B$6:B15),"") -> 10 | B15: Baris Sylas: Amerikos sukčius | C15: American Made | D15: US | E15: 45277.16 | F15: 8198 | G15: 12 | H15: 42972 | I15: NCG Distribution / Universal Pictures International
A16: =IF(B16<>"",ROWS($B$6:B16),"") -> 11 | B16: Atominė blondinė | C16: Coldest City (Atomic Blonde) | D16: US | E16: 42611.97 | F16: 7909 | G16: 12 | H16: 42951 | I16: ACME Film
A17: =IF(B17<>"",ROWS($B$6:B17),"") -> 12 | B17: Operacija "Riešutai" 2 | C17: Nut Job 2: Nutty by Nature | D17: US | E17: 41543.36 | F17: 9347 | G17: 28 | H17: 42972 | I17: Theatrical Film Distribution
... A38: =IF(B38<>"",ROWS($B$6:B38),"") -> 33 | B38: Mokytoja | C38: Ucitelka | D38: CZ, SK | E38: 1569 | F38: 426 | G38: 7 | H38: 42972 | I38: Kino pasaka
A39: =IF(B39<>"",ROWS($B$6:B39),"") -> 34 | B39: Septynios seserys | C39: Seven Sisters | D39: US | E39: 1557.66 | F39: 306 | G39: 6 | H39: Preview | I39: Theatrical Film Distribution
A40: =IF(B40<>"",ROWS($B$6:B40),"") -> 35 | B40: Karibų piratai: Salazaro kerštas | C40: Pirates of The Caribbean: Salazar's Revenge | D40: US | E40: 1186.68 | F40: 228 | G40: 3 | H40: 42881 | I40: Theatrical Film Distribution / WDSMPI
A41: =IF(B41<>"",ROWS($B$6:B41),"") -> 36 | B41: Traukinių žymėjimas 2 | C41: T2 Trainspotting | D41: US | E41: 1113.18 | F41: 196 | G41: 1 | H41: 42804 | I41: ACME Film / SONY
A42: =IF(B42<>"",ROWS($B$6:B42),"") -> 37 | B42: Stebuklų šalis: Urfino Džiuso ir mergaitės Elės nuotykiai | C42: Urfin and His Wooden Soldiers | D42: RU | E42: 964 | F42: 348 | G42: 2 | H42: 42881 | I42: Best Film
A43: =IF(B43<>"",ROWS($B$6:B43),"") -> 38 | B43: Vaikis ant ratų | C43: Baby Driver | D43: US | E43: 804.04 | F43: 138 | G43: 3 | H43: 42916 | I43: ACME Film / SONY
A44: =IF(B44<>"",ROWS($B$6:B44),"") -> 39 | B44: Meilė ir draugystė | C44: Love and friendship | D44: FR | E44: 628.2 | F44: 135 | G44: 1 | H44: 42888 | I44: Kino pasaka
A45: =IF(B45<>"",ROWS($B$6:B45),"") -> 40 | B45: Robinzono Kruzo sala | C45: Robinson Crusoe | D45: BE, FR | E45: 447 | F45: 253 | G45: 1 | H45: 42412 | I45: ACME Film
A46: =IF(B46<>"",ROWS($B$6:B46),"") -> 41 | B46: Normas, lokys iš šiaurės | C46: Norm of the North | D46: US | E46: 430.2 | F46: 259 | G46: 1 | H46: 42398 | I46: ACME Film
A47: =IF(B47<>"",ROWS($B$6:B47),"") -> 42 | B47: Gelbėtojai | C47: Baywatch | D47: US | E47: 382.16 | F47: 69 | G47: 3 | H47: 42902 | I47: NCG Distribution / Paramount Pictures
A48: =IF(B48<>"",ROWS($B$6:B48),"") -> 43 | B48: Elfai | C48: Pixies | D48: US | E48: 270.88 | F48: 151 | G48: 2 | H48: 42517 | I48: Theatrical Film Distribution
A49: =IF(B49<>"",ROWS($B$6:B49),"") -> 44 | B49: Kung Fu Panda 3 | C49: Kung Fu Panda 3 | D49: US | E49: 265.4 | F49: 144 | G49: 2 | H49: 42447 | I49: Theatrical Film Distribution / 20th Century Fox
A50: =IF(B50<>"",ROWS($B$6:B50),"") -> 45 | B50: Avelės ir vilkai | C50: Sheep and Wolves | D50: RU | E50: 255.6 | F50: 142 | G50: 1 | H50: 42489 | I50: ACME Film
A51: =IF(B51<>"",ROWS($B$6:B51),"") -> 46 | B51: Troliai | C51: Trolls | D51: US | E51: 241.2 | F51: 134 | G51: 2 | H51: 42664 | I51: Theatrical Film Distribution / 20th Century Fox
... A62: =IF(B62<>"",ROWS($B$6:B62),"") -> 57 | B62: Ponas Trumbo | C62: Trumbo | D62: US | E62: 121 | F62: 25 | G62: 1 | H62: 42405 | I62: Theatrical Film Distribution
A63: =IF(B63<>"",ROWS($B$6:B63),"") -> 58 | B63: Šeimos šventė | C63: Ernelláék Farkaséknál | D63: HU | E63: 110 | F63: 24 | G63: 1 | H63: 2016. | I63: Kino Aljansas
A64: =IF(B64<>"",ROWS($B$6:B64),"") -> 59 | B64: Nekaltosios | C64: Les innocentes | D64: FR, PL | E64: 105 | F64: 36 | G64: 1 | H64: 42713 | I64: Kino pasaka
A65: =IF(B65<>"",ROWS($B$6:B65),"") -> 60 | B65: Komivojažierius | C65: The salesman | D65: IR, FR | E65: 104.5 | F65: 24 | G65: 2 | H65: 42748 | I65: Kino Aljansas
A66: =IF(B66<>"",ROWS($B$6:B66),"") -> 61 | B66: Paskutinė šeima | C66: Ostatnia rodzina | D66: PL | E66: 97 | F66: 31 | G66: 2 | H66: 42860 | I66: Kino pasaka
A67: =IF(B67<>"",ROWS($B$6:B67),"") -> 62 | B67: Liūtas | C67: Lion | D67: AU, US | E67: 97 | F67: 48 | G67: 1 | H67: 42797 | I67: Theatrical Film Distribution
A68: =IF(B68<>"",ROWS($B$6:B68),"") -> 63 | B68: Asfaltas | C68: Asphalte | D68: FR | E68: 79.1 | F68: 15 | G68: 1 | H68: 42657 | I68: Kino pasaka
A69: =IF(B69<>"",ROWS($B$6:B69),"") -> 64 | B69: Ateitis | C69: L'avenir | D69: FR | E69: 69 | F69: 21 | G69: 1 | H69: 42772 | I69: Kino Aljansas
A70: =IF(B70<>"",ROWS($B$6:B70),"") -> 65 | B70: Prancūziška porelė | C70: Un homme à la hauteur | D70: FR | E70: 68.1 | F70: 13 | G70: 9 | H70: 42545 | I70: Garsų pasaulio įrašai
A71: =IF(B71<>"",ROWS($B$6:B71),"") -> 66 | B71: Francas | C71: Frantz | D71: FR, DE | E71: 64.1 | F71: 14 | G71: 1 | H71: 42769 | I71: Kino Pasaka
...

Sheet Rugsėjis
A1: ='2017'!A1 -> 2017
A2: ='2017'!A2 -> Lietuvos kino teatruose rodytų filmų TOP
A3: Rugsėjis
A5: Eil. Nr. | B5: Filmo pavadinimas | C5: Filmo pavadinimas originalo kalba | D5: Kilmės šalis | E5: Pajamos | F5: Žiūrovų skaičius | G5: Kopijų skaičius | H5: Premjeros data | I5: Platintojas
A6: =IF(B6<>"",ROWS($B$6:B6),"") -> 1 | B6: Tas | C6: It | D6: US | E6: 230107.88 | F6: 41564 | G6: 15 | H6: 42986 | I6: ACME Film / WB
A7: =IF(B7<>"",ROWS($B$6:B7),"") -> 2 | B7: Šventasis | C7: Šventasis | D7: LT | E7: 153437.26 | F7: 29384 | G7: 25 | H7: 43000 | I7: Kino pavasaris
A8: =IF(B8<>"",ROWS($B$6:B8),"") -> 3 | B8: Emodži filmas | C8: Emoji | D8: US | E8: 83670.92 | F8: 18998 | G8: 18 | H8: 42965 | I8: ACME Film / SONY
A9: =IF(B9<>"",ROWS($B$6:B9),"") -> 4 | B9: Lego Ninjago filmas | C9: Lego Ninjago | D9: US | E9: 59089.45 | F9: 13174 | G9: 20 | H9: 43000 | I9: ACME Film / WB
A10: =IF(B10<>"",ROWS($B$6:B10),"") -> 5 | B10: Septynios seserys | C10: Seven Sisters | D10: FR | E10: 57168.92 | F10: 11761 | G10: 16 | H10: 42979 | I10: Theatrical Film Distribution
A11: =IF(B11<>"",ROWS($B$6:B11),"") -> 6 | B11: Operacija "Riešutai" 2 | C11: Nut Job 2: Nutty by Nature | D11: US | E11: 55062.94 | F11: 13129 | G11: 26 | H11: 42972 | I11: Theatrical Film Distribution
A12: =IF(B12<>"",ROWS($B$6:B12),"") -> 7 | B12: Baris Sylas: Amerikos sukčius | C12: American Made | D12: US | E12: 52236.82 | F12: 10298 | G12: 12 | H12: 42972 | I12: NCG Distribution / Universal Pictures International
A13: =IF(B13<>"",ROWS($B$6:B13),"") -> 8 | B13: Kingsman. Aukso ratas | C13: Kingsman: The Golden Circle | D13: US | E13: 46136.42 | F13: 8780 | G13: 15 | H13: 43000 | I13: Theatrical Film Distribution / 20th Century Fox
A14: =IF(B14<>"",ROWS($B$6:B14),"") -> 9 | B14: Apie meilę tik suaugusiems | C14: Pro ljubov tolko dlia uzroslych | D14: RU | E14: 44430 | F14: 8503 | G14: 11 | H14: 42979 | I14: Best Film
A15: =IF(B15<>"",ROWS($B$6:B15),"") -> 10 | B15: Anabelė 2 | C15: Annabelle 2 | D15: US | E15: 42835.51 | F15: 8612 | G15: 12 | H15: 42958 | I15: ACME Film / WB
A16: =IF(B16<>"",ROWS($B$6:B16),"") -> 11 | B16: Džiunglių būrys | C16: Jungle Bunch (Les as de la Jungle) | D16: FR | E16: 40252.56 | F16: 9601 | G16: 18 | H16: 42986 | I16: ACME Film
A17: =IF(B17<>"",ROWS($B$6:B17),"") -> 12 | B17: Ratai 3 | C17: Cars 3 | D17: US | E17: 32694.29 | F17: 7311 | G17: 15 | H17: 42944 | I17: Theatrical Film Distribution / WDSMPI
... A36: =IF(B36<>"",ROWS($B$6:B36),"") -> 31 | B36: Kedi. Slaptas kačių gyvenimas | C36: Kedi | D36: TR | E36: 5217.56 | F36: 1257 | G36: 6 | H36: 42979 | I36: Kino pasaka
A37: =IF(B37<>"",ROWS($B$6:B37),"") -> 32 | B37: Arčiau debesų | C37: Cloudboy | D37: BG, SE, NL, NO | E37: 4209.7 | F37: 1819 | G37: 1 | H37: 2017.09.10 | I37: Skalvijos kino centras
A38: =IF(B38<>"",ROWS($B$6:B38),"") -> 33 | B38: Terminatorius 2. Paskutinio teismo diena 3D | C38: Terminator 2: Judgment Day 3D | D38: US | E38: 3977 | F38: 771 | G38: 8 | H38: 42972 | I38: Garsų pasaulio įrašai
A39: =IF(B39<>"",ROWS($B$6:B39),"") -> 34 | B39: Meilė angelų mieste | C39: Ljubovj V Gorode Angelov | D39: RU | E39: 3743 | F39: 712 | G39: 10 | H39: 43007 | I39: Garsų pasaulio įrašai
A40: =IF(B40<>"",ROWS($B$6:B40),"") -> 35 | B40: Lūšna turtuolių rajone | C40: Hampstead | D40: UK | E40: 2040.5 | F40: 528 | G40: 6 | H40: 42972 | I40: Theatrical Film Distribution
A41: =IF(B41<>"",ROWS($B$6:B41),"") -> 36 | B41: Stiklo pilis | C41: The glass castle | D41: US | E41: 1891.75 | F41: 412 | G41: 3 | H41: 42975 | I41: ACME Film
A42: =IF(B42<>"",ROWS($B$6:B42),"") -> 37 | B42: Šerkšnas | C42: Šerkšnas | D42: LT | E42: 1608 | F42: 959 | G42: 7 | H42: 42965 | I42: Kinema
A43: =IF(B43<>"",ROWS($B$6:B43),"") -> 38 | B43: Mokytoja | C43: Ucitelka | D43: CZ, SK | E43: 970 | F43: 309 | G43: 7 | H43: 42972 | I43: Kino pasaka
A44: =IF(B44<>"",ROWS($B$6:B44),"") -> 39 | B44: Tamsusis bokštas | C44: Dark Tower | D44: US | E44: 754.39 | F44: 160 | G44: 3 | H44: 42958 | I44: ACME Film / SONY
A45: =IF(B45<>"",ROWS($B$6:B45),"") -> 40 | B45: Chuljeta | C45: Julieta | D45: IS | E45: 603.8 | F45: 115 | G45: 1 | H45: 42622 | I45: A-one films
A46: =IF(B46<>"",ROWS($B$6:B46),"") -> 41 | B46: Sau ir draugui (dokumentinių filmų programa) | C46: Sau ir draugui (dokumentinių filmų programa) | D46: TBA | E46: 587 | F46: 262 | G46: 1 | H46: 2017.09.23 | I46: Skalvijos kino centras
A47: =IF(B47<>"",ROWS($B$6:B47),"") -> 42 | B47: Dovanoju širdį | C47: Réparer les vivants | D47: BG, FR | E47: 314.8 | F47: 93 | G47: 1 | H47: 42958 | I47: Kino pasaka
A48: =IF(B48<>"",ROWS($B$6:B48),"") -> 43 | B48: Vaikis ant ratų | C48: Baby Driver | D48: US | E48: 287.1 | F48: 101 | G48: 3 | H48: 42916 | I48: ACME Film / SONY
A49: =IF(B49<>"",ROWS($B$6:B49),"") -> 44 | B49: Meilė ir draugystė | C49: Love and friendship | D49: FR | E49: 202.6 | F49: 58 | G49: 2 | H49: 42888 | I49: Kino pasaka
A50: =IF(B50<>"",ROWS($B$6:B50),"") -> 45 | B50: Kriaušių pyragėliai su levandomis | C50: Le gout des merveilles | D50: FR | E50: 108.7 | F50: 24 | G50: 1 | H50: 42601 | I50: Kino pasaka
A51: =IF(B51<>"",ROWS($B$6:B51),"") -> 46 | B51: Ekskursantė | C51: Ekskursantė | D51: LT | E51: 108 | F51: 54 | G51: 1 | H51: 41544 | I51: Cinemark
A52: =IF(B52<>"",ROWS($B$6:B52),"") -> 47 | B52: (Ne)Tikros prancūziškos vestuvės | C52: Qu’est-ce qu’on a fait au Bon Dieu? | D52: FR | E52: 94.7 | F52: 20 | G52: 1 | H52: 42244 | I52: Kino pasaka
A53: =IF(B53<>"",ROWS($B$6:B53),"") -> 48 | B53: Valerianas ir tūkstančio planetų miestas | C53: Valerian and the City of a Thousand Planets | D53: US | E53: 89.7 | F53: 23 | G53: 1 | H53: 42944 | I53: ACME Film
A54: =IF(B54<>"",ROWS($B$6:B54),"") -> 49 | B54: Mano mama ir mūsų kūdikiai (Telle mere, telle fille) | C54: Telle mere, telle fille | D54: FR | E54: 75.3 | F54: 14 | G54: 1 | H54: 42888 | I54: Best Film
A55: =IF(B55<>"",ROWS($B$6:B55),"") -> 50 | B55: Asfaltas | C55: Asphalte | D55: FR | E55: 65.5 | F55: 15 | G55: 1 | H55: 42657 | I55: Kino pasaka
A56: =IF(B56<>"",ROWS($B$6:B56),"") -> 51 | B56: Emilija iš Laisvės alėjos | C56: Emilija iš Laisvės alėjos | D56: LT | E56: 63 | F56: 21 | G56: 1 | H56: 42790 | I56: ACME Film
A57: =IF(B57<>"",ROWS($B$6:B57),"") -> 52 | B57: Stefanas Cveigas: Atsisveikinimas su Europa | C57: Stefan Zweig: Farewell to Europe | D57: FR | E57: 58.5 | F57: 31 | G57: 1 | H57: 42902 | I57: Best Film
A58: =IF(B58<>"",ROWS($B$6:B58),"") -> 53 | B58: Prancūziška porelė | C58: Un homme à la hauteur | D58: FR | E58: 41.4 | F58: 8 | G58: 1 | H58: 42545 | I58: Garsų pasaulio įrašai
... A67: =IF(B67<>"",ROWS($B$6:B67),"") -> 62 | B67: Ledynmetis: susidūrimas | C67: Ice Age: Collision Course | D67: US | E67: 3.6 | F67: 2 | G67: 1 | H67: 42566 | I67: Theatrical Film Distribution / 20th Century Fox
...

Sheet Spalis
A1: ='2017'!A1 -> 2017
A2: ='2017'!A2 -> Lietuvos kino teatruose rodytų filmų TOP
A3: Spalis
A5: Eil. Nr. | B5: Filmo pavadinimas | C5: Filmo pavadinimas originalo kalba | D5: Kilmės šalis | E5: Pajamos | F5: Žiūrovų skaičius | G5: Kopijų skaičius | H5: Premjeros data | I5: Platintojas
A6: =IF(B6<>"",ROWS($B$6:B6),"") -> 1 | B6: Kaip susigrąžinti ją per 7 dienas | C6: Kaip susigrąžinti ją per 7 dienas | D6: LT | E6: 436361 | F6: 83921 | G6: 16 | H6: 43014 | I6: Singing fish
A7: =IF(B7<>"",ROWS($B$6:B7),"") -> 2 | B7: Trys milijonai eurų | C7: Trys milijonai eurų | D7: LT | E7: 212907 | F7: 35954 | G7: 18 | H7: 43035 | I7: Vabalo filmai
A8: =IF(B8<>"",ROWS($B$6:B8),"") -> 3 | B8: Bėgantis skustuvo ašmenimis 2049 | C8: Blade Runner 2049 | D8: US | E8: 176245.23 | F8: 30877 | G8: 18 | H8: 43014 | I8: ACME Film / SONY
A9: =IF(B9<>"",ROWS($B$6:B9),"") -> 4 | B9: Didžiapėdžio vaikis | C9: Son of Big Foot | D9: BG, FR | E9: 115803.65 | F9: 26657 | G9: 17 | H9: 43028 | I9: ACME Film
A10: =IF(B10<>"",ROWS($B$6:B10),"") -> 5 | B10: Globalinė audra | C10: Geostorm | D10: US | E10: 112125.9 | F10: 18012 | G10: 15 | H10: 43028 | I10: ACME Film / WB
A11: =IF(B11<>"",ROWS($B$6:B11),"") -> 6 | B11: Mano mažasis ponis. Filmas | C11: My Little Pony | D11: US | E11: 96779.6 | F11: 23304 | G11: 15 | H11: 43014 | I11: ACME Film
A12: =IF(B12<>"",ROWS($B$6:B12),"") -> 7 | B12: Šventasis | C12: Šventasis | D12: LT | E12: 88493 | F12: 17160 | G12: 14 | H12: 43000 | I12: Kino pavasaris
A13: =IF(B13<>"",ROWS($B$6:B13),"") -> 8 | B13: Lego Ninjago filmas | C13: Lego Ninjago | D13: US | E13: 62544.14 | F13: 14036 | G13: 12 | H13: 43000 | I13: ACME Film / WB
A14: =IF(B14<>"",ROWS($B$6:B14),"") -> 9 | B14: Pjūklas 8 | C14: Saw Legacy (Jigsaw) | D14: US | E14: 57417.33 | F14: 10226 | G14: 13 | H14: 43035 | I14: ACME Film
A15: =IF(B15<>"",ROWS($B$6:B15),"") -> 10 | B15: Monstrų šeimynėlė | C15: Happy family | D15: UK, DE | E15: 44030 | F15: 9524 | G15: 8 | H15: 43035 | I15: Garsų pasaulio įrašai
A16: =IF(B16<>"",ROWS($B$6:B16),"") -> 11 | B16: Gyvenimas prieš akis | C16: Žyzn vperedi | D16: RU | E16: 38797 | F16: 7340 | G16: 7 | H16: 43021 | I16: Best Film
A17: =IF(B17<>"",ROWS($B$6:B17),"") -> 12 | B17: Sniego senis | C17: Snowman | D17: US | E17: 39823.43 | F17: 8452 | G17: 10 | H17: 43021 | I17: NCG Distribution / Universal Pictures International
... A39: =IF(B39<>"",ROWS($B$6:B39),"") -> 34 | B39: Septynios seserys | C39: Seven Sisters | D39: FR | E39: 2037.42 | F39: 372 | G39: 2 | H39: 42979 | I39: Theatrical Film Distribution
A40: =IF(B40<>"",ROWS($B$6:B40),"") -> 35 | B40: Kaimynė šnipė | C40: Next Door Spy | D40: DK | E40: 1965.8 | F40: 874 | G40: 1 | H40: 2017.10.07 | I40: Skalvijos kino centras
A41: =IF(B41<>"",ROWS($B$6:B41),"") -> 36 | B41: Partneris | C41: Naparnik | D41: RU | E41: 1914 | F41: 354 | G41: 6 | H41: 43003 | I41: Garsų pasaulio įrašai
A42: =IF(B42<>"",ROWS($B$6:B42),"") -> 37 | B42: Bjaurusis aš 3 | C42: Despicable Me 3 | D42: US | E42: 1256.8 | F42: 273 | G42: 3 | H42: 42916 | I42: NCG Distribution / Universal Pictures International
A43: =IF(B43<>"",ROWS($B$6:B43),"") -> 38 | B43: Kedi. Slaptas kačių gyvenimas | C43: Kedi | D43: TR | E43: 1154.8 | F43: 262 | G43: 2 | H43: 42979 | I43: Kino pasaka
A44: =IF(B44<>"",ROWS($B$6:B44),"") -> 39 | B44: (Ne)Laukti svečiai | C44: With open arms | D44: FR | E44: 1137.3 | F44: 250 | G44: 10 | H44: 42986 | I44: Best Film
A45: =IF(B45<>"",ROWS($B$6:B45),"") -> 40 | B45: Baris Sylas: Amerikos sukčius | C45: American Made | D45: US | E45: 750.59 | F45: 132 | G45: 3 | H45: 42972 | I45: NCG Distribution / Universal Pictures International
A46: =IF(B46<>"",ROWS($B$6:B46),"") -> 41 | B46: Diunkerkas | C46: Dunkirk | D46: US | E46: 444.08 | F46: 78 | G46: 3 | H46: 42937 | I46: ACME Film / WB
A47: =IF(B47<>"",ROWS($B$6:B47),"") -> 42 | B47: Madam | C47: Madame | D47: FR | E47: 426 | F47: 62 | G47: 1 | H47: 42979 | I47: Garsų pasaulio įrašai
A48: =IF(B48<>"",ROWS($B$6:B48),"") -> 43 | B48: Kriaušių pyragėliai su levandomis | C48: Le gout des merveilles | D48: FR | E48: 284.7 | F48: 61 | G48: 1 | H48: 42601 | I48: Kino pasaka
A49: =IF(B49<>"",ROWS($B$6:B49),"") -> 44 | B49: (Ne)Tikros prancūziškos vestuvės | C49: Qu’est-ce qu’on a fait au Bon Dieu? | D49: FR | E49: 253.8 | F49: 48 | G49: 1 | H49: 42244 | I49: Kino pasaka
A50: =IF(B50<>"",ROWS($B$6:B50),"") -> 45 | B50: Amerikietis žudikas | C50: American Assassin | D50: US | E50: 237.7 | F50: 48 | G50: 15 | H50: 42993 | I50: ACME Film
