Workbook

Sheet Suvestinė
B1: 2017
B2: Rodiklis | C2: Reikšmė
B3: Premjerų skaičius | C3: 236
B4: Lietuviškų filmų premjerų skaičius | C4: 11
B5: Bendras filmų skaičius | C5: 309
B6: Bendros pajamos | C6: 20452844
B7: Bendras žiūrovų skaičius | C7: 4061523
B9: Filmų dalis rinkoje, %
B10: Kategorija | C10: Pajamos | D10: Žiūrovų skaičius | E10: Pajamos % | F10: Žiūrovų skaičius % | G10: Filmų skaičius
B11: Lietuva | C11: 4536080.5 | D11: 865772 | E11: 22.178 | F11: 21.316 | G11: 15
B12: Europa | C12: 2654481.3 | D12: 592411 | E12: 12.979 | F12: 14.586 | G12: 117
B13: JAV | C13: 13084681 | D13: 2563618 | E13: 63.975 | F13: 63.12 | G13: 157
B14: Kita | C14: 177600.69 | D14: 39722 | E14: 0.868 | F14: 0.978 | G14: 20
B15: Total | C15: =SUBTOTAL(109,Table1[Pajamos]) -> 20452844 | D15: =SUBTOTAL(109,Table1[Žiūrovų skaičius]) -> 4061523 | E15: =SUBTOTAL(109,Table1[Pajamos %]) -> 100 | F15: =SUBTOTAL(109,Table1[Žiūrovų skaičius %]) -> 100 | G15: =SUBTOTAL(109,Table1[Filmų skaičius]) -> 309
B47: Pasiskirstymas pagal platintojus
A48: Eil. nr | B48: Platintojas | C48: Pajamos | D48: Žiūrovų skaičius | E48: Filmų skaičius | F48: Pajamos % | G48: Žiūrovų skaičius %
A49: =IF(B49<>"",ROWS($B$49:B49),"") -> 1 | B49: ACME Film | C49: 3184759.8 | D49: 670451 | E49: 57 | F49: 15.571 | G49: 16.507
A50: =IF(B50<>"",ROWS($B$49:B50),"") -> 2 | B50: NCG Distribution / Universal Pictures International | C50: 2858407.8 | D50: 569610 | E50: 17 | F50: 13.976 | G50: 14.025
A51: =IF(B51<>"",ROWS($B$49:B51),"") -> 3 | B51: ACME Film / WB | C51: 2143936.2 | D51: 406638 | E51: 17 | F51: 10.482 | G51: 10.012
A52: =IF(B52<>"",ROWS($B$49:B52),"") -> 4 | B52: ACME Film / SONY | C52: 1868489.4 | D52: 355903 | E52: 15 | F52: 9.136 | G52: 8.763
A53: =IF(B53<>"",ROWS($B$49:B53),"") -> 5 | B53: Theatrical Film Distribution / WDSMPI | C53: 1788842.6 | D53: 334142 | E53: 11 | F53: 8.746 | G53: 8.227
A54: =IF(B54<>"",ROWS($B$49:B54),"") -> 6 | B54: Vabalo filmai | C54: 1683735 | D54: 300001 | E54: 2 | F54: 8.232 | G54: 7.386
A55: =IF(B55<>"",ROWS($B$49:B55),"") -> 7 | B55: Theatrical Film Distribution / 20th Century Fox | C55: 1539228.8 | D55: 316701 | E55: 15 | F55: 7.526 | G55: 7.798
A56: =IF(B56<>"",ROWS($B$49:B56),"") -> 8 | B56: Cinema Cult Distirbution | C56: 1008470 | D56: 194486 | E56: 1 | F56: 4.931 | G56: 4.788
A57: =IF(B57<>"",ROWS($B$49:B57),"") -> 9 | B57: Garsų pasaulio įrašai | C57: 965912.61 | D57: 203114 | E57: 25 | F57: 4.723 | G57: 5.001
A58: =IF(B58<>"",ROWS($B$49:B58),"") -> 10 | B58: Theatrical Film Distribution | C58: 728595.44 | D58: 150008 | E58: 29 | F58: 3.562 | G58: 3.693
A59: =IF(B59<>"",ROWS($B$49:B59),"") -> 11 | B59: Singing fish | C59: 465368 | D59: 89616 | E59: 1 | F59: 2.275 | G59: 2.206
A60: =IF(B60<>"",ROWS($B$49:B60),"") -> 12 | B60: NCG Distribution / Paramount Pictures | C60: 369053.06 | D60: 67844 | E60: 4 | F60: 1.804 | G60: 1.67
... A79: =IF(B79<>"",ROWS($B$49:B79),"") -> 31 | B79: CineMark | C79: 108 | D79: 54 | E79: 1 | F79: 0.001 | G79: 0.001
A80: Total | C80: =SUBTOTAL(109,Table18[Pajamos]) -> 20452844 | D80: =SUBTOTAL(109,Table18[Žiūrovų skaičius]) -> 4061523 | E80: =SUBTOTAL(109,Table18[Filmų skaičius]) -> 309 | F80: =SUBTOTAL(109,Table18[Pajamos %]) -> 99.998 | G80: =SUBTOTAL(109,Table18[Žiūrovų skaičius %]) -> 99.997
A82: LT TOP
A83: Eil. Nr. | B83: Filmo pavadinimas | C83: Pajamos | D83: Žiūrovų skaičius | E83: Premjeros data | F83: Platintojas
A84: 1 | B84: Trys milijonai eurų | C84: 1304853 | D84: 235730 | E84: 43035 | F84: Vabalo filmai
A85: 2 | B85: Zero 3 | C85: 1008470 | D85: 194486 | E85: 42762 | F85: Cinema Cult Distirbution
A86: 3 | B86: Emilija iš Laisvės alėjos | C86: 578644.89 | D86: 124166 | E86: 42790 | F86: ACME Film
A87: 4 | B87: Kaip susigrąžinti ją per 7 dienas | C87: 465368 | D87: 89616 | E87: 43014 | F87: Singing Fish
A88: 5 | B88: Klasės susitikimas: berniukai sugrįžta! | C88: 378882 | D88: 64271 | E88: 43098 | F88: Vabalo filmai
A89: 6 | B89: Poilsiautojai: Pavydo žaidynės | C89: 281885 | D89: 50710 | E89: 43063 | F89: Full Sceen
A90: 7 | B90: Šventasis | C90: 243062.26 | D90: 46856 | E90: 43000 | F90: Europos kinas
A91: 8 | B91: Stebuklas | C91: 71184.1 | D91: 15044 | E91: 43077 | F91: In Script
A92: 9 | B92: Šerkšnas | C92: 32313.44 | D92: 7971 | E92: 42965 | F92: Kinema
A93: 10 | B93: Amžinai kartu | C93: 25145 | D93: 6285 | E93: 42748 | F93: Meed Flms

Sheet 2017
A1: 2017
A2: Lietuvos kino teatruose rodytų filmų TOP
A5: Eil. Nr. | B5: Filmo pavadinimas | C5: Filmo pavadinimas originalo kalba | D5: Kilmės šalis | E5: Pajamos | F5: Žiūrovų skaičius | G5: Kopijų skaičius | H5: Premjeros data | I5: Platintojas
A6: =IF(B6<>"",ROWS($B$6:B6),"") -> 1 | B6: Trys milijonai eurų | C6: Trys milijonai eurų | D6: LT | E6: 1304853 | F6: 235730 | G6: 18 | H6: 43035 | I6: Vabalo filmai
A7: =IF(B7<>"",ROWS($B$6:B7),"") -> 2 | B7: Zero 3 | C7: Zero 3 | D7: LT | E7: 1008470 | F7: 194486 | G7: 15 | H7: 42762 | I7: Cinema Cult Distirbution
A8: =IF(B8<>"",ROWS($B$6:B8),"") -> 3 | B8: Bjaurusis aš 3 | C8: Despicable Me 3 | D8: US | E8: 878046.99 | F8: 184398 | G8: 24 | H8: 42916 | I8: NCG Distribution / Universal Pictures International
A9: =IF(B9<>"",ROWS($B$6:B9),"") -> 4 | B9: Karibų piratai: Salazaro kerštas | C9: Pirates of The Caribbean: Salazar's Revenge | D9: US | E9: 597844.27 | F9: 105755 | G9: 28 | H9: 42881 | I9: Theatrical Film Distribution / WDSMPI
A10: =IF(B10<>"",ROWS($B$6:B10),"") -> 5 | B10: Emilija iš Laisvės alėjos | C10: Emilija iš Laisvės alėjos | D10: LT | E10: 578644.89 | F10: 124166 | G10: 18 | H10: 42790 | I10: ACME Film
A11: =IF(B11<>"",ROWS($B$6:B11),"") -> 6 | B11: Penkiasdešimt tamsesnių atspalvių | C11: Fifty shades of grey | D11: US | E11: 541862.84 | F11: 103020 | G11: 18 | H11: 42776 | I11: NCG Distribution / Universal Pictures International
A12: =IF(B12<>"",ROWS($B$6:B12),"") -> 7 | B12: Greiti ir įsiutę 8 | C12: Furious 8 | D12: US | E12: 501104.75 | F12: 97457 | G12: 15 | H12: 42839 | I12: NCG Distribution / Universal Pictures International
A13: =IF(B13<>"",ROWS($B$6:B13),"") -> 8 | B13: Kaip susigrąžinti ją per 7 dienas | C13: Kaip susigrąžinti ją per 7 dienas | D13: LT | E13: 465368 | F13: 89616 | G13: 16 | H13: 43014 | I13: Singing fish
A14: =IF(B14<>"",ROWS($B$6:B14),"") -> 9 | B14: Ponas Kūdikis | C14: Boss Baby | D14: US | E14: 441834.1 | F14: 99891 | G14: 33 | H14: 42839 | I14: Theatrical Film Distribution / 20th Century Fox
A15: =IF(B15<>"",ROWS($B$6:B15),"") -> 10 | B15: Klasės susitikimas: berniukai sugrįžta! | C15: Klasės susitikimas: berniukai sugrįžta! | D15: LT | E15: 378882 | F15: 64271 | G15: 15 | H15: 43098 | I15: Vabalo filmai
A16: =IF(B16<>"",ROWS($B$6:B16),"") -> 11 | B16: Ratai 3 | C16: Cars 3 | D16: US | E16: 336134.82 | F16: 74989 | G16: 30 | H16: 42944 | I16: Theatrical Film Distribution / WDSMPI
A17: =IF(B17<>"",ROWS($B$6:B17),"") -> 12 | B17: Smurfai: pamirštas kaimelis | C17: Smurfs 3 Lost Village | D17: US | E17: 297665.93 | F17: 68750 | G17: 15 | H17: 42825 | I17: ACME Film / SONY
... A216: =IF(B216<>"",ROWS($B$6:B216),"") -> 211 | B216: Aukštyn kojom (Wild mouse) | C216: Aukštyn kojom (Wild mouse) | D216: AU | E216: 4213 | F216: 920 | G216: 3 | H216: 42965 | I216: A-one films
A217: =IF(B217<>"",ROWS($B$6:B217),"") -> 212 | B217: Arčiau debesų | C217: Cloudboy | D217: BG, SE, NL, NO | E217: 4209.7 | F217: 1819 | G217: 1 | H217: 2017.09.10 | I217: Skalvijos kino centras
A218: =IF(B218<>"",ROWS($B$6:B218),"") -> 213 | B218: Dėl viso pikto | C218: Just to Be Sure | D218: FR | E218: 4105.28 | F218: 1007 | G218: 7 | H218: 43091 | I218: A-one films
A219: =IF(B219<>"",ROWS($B$6:B219),"") -> 214 | B219: Panelė Rūgštynė | C219: Jamais Contente | D219: FR | E219: 4029 | F219: 1615 | G219: 1 | H219: 2016.12.17 | I219: Skalvijos kino centras
A220: =IF(B220<>"",ROWS($B$6:B220),"") -> 215 | B220: 24 valandos gyventi | C220: 24 Hours to Live | D220: US | E220: 3976.38 | F220: 752 | G220: 3 | H220: 43077 | I220: ACME Film
A221: =IF(B221<>"",ROWS($B$6:B221),"") -> 216 | B221: Pasiklydę Paryžiuje | C221: Paris pieds nus | D221: FR | E221: 3869 | F221: 1106 | G221: 3 | H221: 42832 | I221: Europos kinas
A222: =IF(B222<>"",ROWS($B$6:B222),"") -> 217 | B222: (Ne)Tikros prancūziškos vestuvės | C222: Qu’est-ce qu’on a fait au Bon Dieu? | D222: FR | E222: 3838.6 | F222: 839 | G222: 1 | H222: 42244 | I222: Kino pasaka
A223: =IF(B223<>"",ROWS($B$6:B223),"") -> 218 | B223: Apsimetėliai | C223: Pretenders | D223: EE | E223: 3783.4 | F223: 926 | G223: 9 | H223: 42895 | I223: Kino pasaka
A224: =IF(B224<>"",ROWS($B$6:B224),"") -> 219 | B224: Naktiniai gyvuliai | C224: Nocturnal animals | D224: US | E224: 3759.23 | F224: 749 | G224: 3 | H224: 42713 | I224: NCG Distribution / Universal Pictures International
A225: =IF(B225<>"",ROWS($B$6:B225),"") -> 220 | B225: Nekaltosios | C225: Les innocentes | D225: FR, PL | E225: 3741.4 | F225: 978 | G225: 3 | H225: 42713 | I225: Kino pasaka
A226: =IF(B226<>"",ROWS($B$6:B226),"") -> 221 | B226: Nuolankioji | C226: Krotkaya | D226: TBA | E226: 3695 | F226: 850 | G226: 7 | H226: 43063 | I226: Garsų pasaulio įrašai
A227: =IF(B227<>"",ROWS($B$6:B227),"") -> 222 | B227: Ryžių karoliukai | C227: Basmati Blues | D227: US | E227: 3639.69 | F227: 661 | G227: 10 | H227: 43098 | I227: Theatrical Film Distribution
A228: =IF(B228<>"",ROWS($B$6:B228),"") -> 223 | B228: Veidai Kaimai | C228: Visages villages | D228: FR | E228: 3388.4 | F228: 869 | G228: 5 | H228: 43070 | I228: A-one films
A229: =IF(B229<>"",ROWS($B$6:B229),"") -> 224 | B229: Pasekmė | C229: Aftermath | D229: US | E229: 3355.69 | F229: 634 | G229: 5 | H229: 42860 | I229: Golden Cooperation
A230: =IF(B230<>"",ROWS($B$6:B230),"") -> 225 | B230: Uraganas: Vėjo odisėja | C230: Ouragan, l‘odyssee d‘un vent | D230: CZ | E230: 3343 | F230: 885 | G230: 5 | H230: 42937 | I230: Best Film
A231: =IF(B231<>"",ROWS($B$6:B231),"") -> 226 | B231: Kruvini pinigai | C231: Blood Money | D231: US | E231: 3316.36 | F231: 664 | G231: 9 | H231: 43049 | I231: Theatrical Film Distribution
... A234: =IF(B234<>"",ROWS($B$6:B234),"") -> 229 | B234: Gražiosios Aranchueso dienos | C234: Les beaux jours d'Aranjuez | D234: FR, DE | E234: 3217 | F234: 835 | G234: 5 | H234: 42790 | I234: A-one films
A235: =IF(B235<>"",ROWS($B$6:B235),"") -> 230 | B235: Ką pašnibždėjo pelėda (Trumpukų programa) | C235: Ką pašnibždėjo pelėda (Trumpukų programa) | D235: TBA | E235: 3001.1 | F235: 1293 | G235: 1 | H235: 2017.01.14 | I235: Skalvijos kino centras
A236: =IF(B236<>"",ROWS($B$6:B236),"") -> 231 | B236: Noriu būti savimi (dokumentinių filmų programa) | C236: Noriu būti savimi (dokumentinių filmų programa) | D236: TBA | E236: 2954.4 | F236: 1503 | G236: 1 | H236: 2016.11.19 | I236: Skalvijos kino centras
A237: =IF(B237<>"",ROWS($B$6:B237),"") -> 232 | B237: Stefanas Cveigas: Atsisveikinimas su Europa | C237: Stefan Zweig: Farewell to Europe | D237: FR | E237: 2771 | F237: 757 | G237: 5 | H237: 42902 | I237: Best Film
A238: =IF(B238<>"",ROWS($B$6:B238),"") -> 233 | B238: Mokytoja | C238: Ucitelka | D238: CZ, SK | E238: 2740.2 | F238: 804 | G238: 7 | H238: 42972 | I238: Kino pasaka
A239: =IF(B239<>"",ROWS($B$6:B239),"") -> 234 | B239: Kriaušių pyragėliai su levandomis | C239: Le gout des merveilles | D239: FR | E239: 2688.2 | F239: 599 | G239: 1 | H239: 42601 | I239: Kino pasaka
A240: =IF(B240<>"",ROWS($B$6:B240),"") -> 235 | B240: Nematomas herojus | C240: Phantom Boy | D240: FR | E240: 2684.2 | F240: 1132 | G240: 3 | H240: 42601 | I240: A-one films
A241: =IF(B241<>"",ROWS($B$6:B241),"") -> 236 | B241: Keršto įstatymas | C241: Acts of Vengeance | D241: BG, US | E241: 2635.68 | F241: 497 | G241: 7 | H241: 43063 | I241: Theatrical Film Distribution
A242: =IF(B242<>"",ROWS($B$6:B242),"") -> 237 | B242: Krokodilai | C242: Vorstadtkrokodile | D242: DK | E242: 2465 | F242: 1321 | G242: 1 | H242: 40789 | I242: Skalvijos kino centras
A243: =IF(B243<>"",ROWS($B$6:B243),"") -> 238 | B243: Koko | C243: Coco | D243: US | E243: 2434.7 | F243: 517 | G243: 2 | H243: Preview (2018.01.05) | I243: Theatrical Film Distribution / WDSMPI
A244: =IF(B244<>"",ROWS($B$6:B244),"") -> 239 | B244: Troliai | C244: Trolls | D244: US | E244: 2307.94 | F244: 849 | G244: 3 | H244: 42664 | I244: Theatrical Film Distribution / 20th Century Fox
A245: =IF(B245<>"",ROWS($B$6:B245),"") -> 240 | B245: Atvykimas | C245: Arrival | D245: US | E245: 2225.06 | F245: 395 | G245: 3 | H245: 42685 | I245: ACME Film / SONY
A246: =IF(B246<>"",ROWS($B$6:B246),"") -> 241 | B246: Dieviškoji tvarka | C246: Die göttliche Ordnung | D246: CH | E246: 2132.7 | F246: 610 | G246: 6 | H246: 43070 | I246: Kino pasaka
A247: =IF(B247<>"",ROWS($B$6:B247),"") -> 242 | B247: Tarp mūsų | C247: Bar Bahar | D247: IL | E247: 2043 | F247: 507 | G247: 2 | H247: 42832 | I247: Europos kinas
A248: =IF(B248<>"",ROWS($B$6:B248),"") -> 243 | B248: Kaimynė šnipė | C248: Next Door Spy | D248: DK | E248: 1965.8 | F248: 874 | G248: 1 | H248: 2017.10.07 | I248: Skalvijos kino centras
A249: =IF(B249<>"",ROWS($B$6:B249),"") -> 244 | B249: Komivojažierius | C249: The salesman | D249: IR, FR | E249: 1931.8 | F249: 593 | G249: 1 | H249: 42748 | I249: Kino Aljansas
A250: =IF(B250<>"",ROWS($B$6:B250),"") -> 245 | B250: Krokodilai 2 | C250: Vorstadtkrokodile 2 | D250: DK | E250: 1879 | F250: 946 | G250: 1 | H250: 41307 | I250: Skalvijos kino centras
A251: =IF(B251<>"",ROWS($B$6:B251),"") -> 246 | B251: Tonis Erdmanas | C251: Toni Erdmann | D251: DE | E251: 1821 | F251: 450 | G251: 3 | H251: 42608 | I251: A-one films
A252: =IF(B252<>"",ROWS($B$6:B252),"") -> 247 | B252: Ateitis | C252: L'avenir | D252: FR | E252: 1795.9 | F252: 646 | G252: 1 | H252: 42772 | I252: Kino Aljansas
A253: =IF(B253<>"",ROWS($B$6:B253),"") -> 248 | B253: Saldžių sapnų | C253: Fai bei sogni | D253: IT | E253: 1794 | F253: 588 | G253: 2 | H253: 42860 | I253: A-one films
A254: =IF(B254<>"",ROWS($B$6:B254),"") -> 249 | B254: Ledynmetis: susidūrimas | C254: Ice Age: Collision Course | D254: US | E254: 1753 | F254: 960 | G254: 2 | H254: 42566 | I254: Theatrical Film Distribution / 20th Century Fox
A255: =IF(B255<>"",ROWS($B$6:B255),"") -> 250 | B255: Nocturama | C255: Noctumara | D255: FR | E255: 1731.3 | F255: 560 | G255: 3 | H255: 42846 | I255: A-one films
A256: =IF(B256<>"",ROWS($B$6:B256),"") -> 251 | B256: Baigiamieji egzaminai | C256: Baccalaureat | D256: RO | E256: 1550 | F256: 368 | G256: 9 | H256: 42832 | I256: Europos kinas
A257: =IF(B257<>"",ROWS($B$6:B257),"") -> 252 | B257: Palaukit mūsų | C257: Not without us? | D257: DE | E257: 1475 | F257: 406 | G257: 3 | H257: 42832 | I257: Europos kinas
A258: =IF(B258<>"",ROWS($B$6:B258),"") -> 253 | B258: Raudonasis vėžlys | C258: The Red Turtle | D258: FR, BE, JP | E258: 1429 | F258: 337 | G258: 2 | H258: 42832 | I258: Europos kinas
A259: =IF(B259<>"",ROWS($B$6:B259),"") -> 254 | B259: Tomas iš Suomijos | C259: Tom of Finland | D259: TBA | E259: 1418.48 | F259: 315 | G259: 1 | H259: 43042 | I259: Estinfilm OU Lietuvos filialas
A260: =IF(B260<>"",ROWS($B$6:B260),"") -> 255 | B260: Sieranevada | C260: Sieranevada | D260: RO | E260: 1349 | F260: 307 | G260: 3 | H260: 42832 | I260: Europos kinas
... A271: =IF(B271<>"",ROWS($B$6:B271),"") -> 266 | B271: Kubo ir stebuklingas kardas | C271: Kubo and the Two Strings | D271: US | E271: 812.1 | F271: 456 | G271: 1 | H271: 42650 | I271: NCG Distribution / Universal Pictures International
A272: =IF(B272<>"",ROWS($B$6:B272),"") -> 267 | B272: Ir viso pasaulio negana (dokumentinių filmų programa) | C272: Ir viso pasaulio negana (dokumentinių filmų programa) | D272: TBA | E272: 743.6 | F272: 382 | G272: 1 | H272: 2016.09.25 | I272: Skalvijos kino centras
A273: =IF(B273<>"",ROWS($B$6:B273),"") -> 268 | B273: Didysis šunų pabėgimas | C273: Ozzy | D273: ES | E273: 740 | F273: 227 | G273: 3 | H273: 42678 | I273: Prioro Pramogos
A274: =IF(B274<>"",ROWS($B$6:B274),"") -> 269 | B274: Kria-Kria-Keriai | C274: Quackerz | D274: RU | E274: 711.1 | F274: 423 | G274: 1 | H274: 42461 | I274: ACME Film
A275: =IF(B275<>"",ROWS($B$6:B275),"") -> 270 | B275: Avelės ir vilkai | C275: Sheep and Wolves | D275: RU | E275: 700.9 | F275: 393 | G275: 1 | H275: 42489 | I275: ACME Film
A276: =IF(B276<>"",ROWS($B$6:B276),"") -> 271 | B276: Taksiukas | C276: Wiener-Dog | D276: US | E276: 677.5 | F276: 140 | G276: 1 | H276: 42685 | I276: Kino pasaka
A277: =IF(B277<>"",ROWS($B$6:B277),"") -> 272 | B277: Normas, lokys iš šiaurės | C277: Norm of the North | D277: US | E277: 661.8 | F277: 389 | G277: 1 | H277: 42398 | I277: ACME Film
A278: =IF(B278<>"",ROWS($B$6:B278),"") -> 273 | B278: 2 naktys iki ryto | C278: 2 yota aamuun | D278: LT, FI | E278: 647.2 | F278: 143 | G278: 2 | H278: 42615 | I278: Kino Pasaka
A279: =IF(B279<>"",ROWS($B$6:B279),"") -> 274 | B279: Broliai | C279: Brodre | D279: NO | E279: 634.7 | F279: 173 | G279: 4 | H279: 42730 | I279: Kino pasaka
A280: =IF(B280<>"",ROWS($B$6:B280),"") -> 275 | B280: Šlovė | C280: Slava | D280: BG | E280: 615 | F280: 165 | G280: 3 | H280: 42832 | I280: Europos kinas
A281: =IF(B281<>"",ROWS($B$6:B281),"") -> 276 | B281: Alvinas ir burundukai: didžioji kelionė | C281: Alvin & Chipmunks: The Road Chip | D281: US | E281: 611 | F281: 350 | G281: 2 | H281: 42405 | I281: Theatrical Film Distribution / 20th Century Fox
A282: =IF(B282<>"",ROWS($B$6:B282),"") -> 277 | B282: Chuljeta | C282: Julieta | D282: IS | E282: 603.8 | F282: 115 | G282: 1 | H282: 42622 | I282: A-one films
A283: =IF(B283<>"",ROWS($B$6:B283),"") -> 278 | B283: Žuvytė Dorė | C283: Finding Dory | D283: US | E283: 596.52 | F283: 343 | G283: 2 | H283: 42601 | I283: Theatrical Film Distribution / WDSMPI
A284: =IF(B284<>"",ROWS($B$6:B284),"") -> 279 | B284: Rimti žaidimai | C284: Den allvarsamma leken | D284: DK, NO, SE | E284: 588.5 | F284: 253 | G284: 3 | H284: 42804 | I284: Kino Aljansas
A285: =IF(B285<>"",ROWS($B$6:B285),"") -> 280 | B285: Sau ir draugui (dokumentinių filmų programa) | C285: Sau ir draugui (dokumentinių filmų programa) | D285: TBA | E285: 587 | F285: 262 | G285: 1 | H285: 2017.09.23 | I285: Skalvijos kino centras
A286: =IF(B286<>"",ROWS($B$6:B286),"") -> 281 | B286: Robinzono Kruzo sala | C286: Robinson Crusoe | D286: BE, FR | E286: 582 | F286: 330 | G286: 1 | H286: 42412 | I286: ACME Film
A287: =IF(B287<>"",ROWS($B$6:B287),"") -> 282 | B287: Bridžitos Džouns kūdikis | C287: Bridget Jone's Baby | D287: US | E287: 580 | F287: 150 | G287: 1 | H287: 42629 | I287: NCG Distribution / Universal Pictures International
A288: =IF(B288<>"",ROWS($B$6:B288),"") -> 283 | B288: Aš nesu ponia Bovari | C288: I am not Madamme Bovary | D288: CN | E288: 552 | F288: 145 | G288: 2 | H288: 42832 | I288: Europos kinas
A289: =IF(B289<>"",ROWS($B$6:B289),"") -> 284 | B289: Nono, berniukas Zigzagiukas | C289: Nono, het Zigzag Kind | D289: NL | E289: 541 | F289: 258 | G289: 1 | H289: 41895 | I289: Skalvijos kino centras
A290: =IF(B290<>"",ROWS($B$6:B290),"") -> 285 | B290: Mokinys | C290: The Student | D290: RU | E290: 437 | F290: 111 | G290: 1 | H290: 42867 | I290: Europos kinas
A291: =IF(B291<>"",ROWS($B$6:B291),"") -> 286 | B291: Mes dešimtmečiai (dokumentinių filmų programa) | C291: Mes dešimtmečiai (dokumentinių filmų programa) | D291: TBA | E291: 424 | F291: 195 | G291: 1 | H291: 2016.09.24 | I291: Skalvijos kino centras
A292: =IF(B292<>"",ROWS($B$6:B292),"") -> 287 | B292: Turkiškai | C292: Turkish way | D292: ES | E292: 399 | F292: 97 | G292: 1 | H292: 42832 | I292: Europos kinas
A293: =IF(B293<>"",ROWS($B$6:B293),"") -> 288 | B293: Įsikūnijęs blogis | C293: Incarnate | D293: US | E293: 383.5 | F293: 136 | G293: 2 | H293: 42720 | I293: Theatrical Film Distribution
A294: =IF(B294<>"",ROWS($B$6:B294),"") -> 289 | B294: Mažasis Princas | C294: Little Prince | D294: US | E294: 382 | F294: 194 | G294: 1 | H294: 42322 | I294: ACME Film
A295: =IF(B295<>"",ROWS($B$6:B295),"") -> 290 | B295: Vertikali būsena | C295: Rester vertical | D295: FR | E295: 373 | F295: 87 | G295: 1 | H295: 42832 | I295: Europos kinas
A296: =IF(B296<>"",ROWS($B$6:B296),"") -> 291 | B296: Eleonoros paslaptis | C296: Kerity, la maison des contes | D296: FR | E296: 371 | F296: 246 | G296: 1 | H296: TBA | I296: Skalvijos kino centras
A297: =IF(B297<>"",ROWS($B$6:B297),"") -> 292 | B297: Bėgam iš Berlyno | C297: Goodbye Berlin | D297: DE | E297: 366 | F297: 112 | G297: 1 | H297: 42832 | I297: Europos kinas
A298: =IF(B298<>"",ROWS($B$6:B298),"") -> 293 | B298: Seklūs vandenys | C298: Ma Loute | D298: FR, DE | E298: 366 | F298: 77 | G298: 2 | H298: 42720 | I298: Prioro Pramogos
A299: =IF(B299<>"",ROWS($B$6:B299),"") -> 294 | B299: Šeimos šventė | C299: Ernelláék Farkaséknál | D299: HU | E299: 317.15 | F299: 179 | G299: 1 | H299: 2016. | I299: Kino Aljansas
A300: =IF(B300<>"",ROWS($B$6:B300),"") -> 295 | B300: Nepažįstamoji | C300: La Fille inconnue | D300: BE, FR | E300: 312 | F300: 107 | G300: 2 | H300: 42804 | I300: Kino Aljansas
A301: =IF(B301<>"",ROWS($B$6:B301),"") -> 296 | B301: Gimme Danger | C301: Gimme Danger | D301: US | E301: 243.63 | F301: 49 | G301: 1 | H301: 42692 | I301: A-one films
A302: =IF(B302<>"",ROWS($B$6:B302),"") -> 297 | B302: Sutrikęs Maksas | C302: Max Pinlig | D302: DK | E302: 234 | F302: 117 | G302: 1 | H302: 40810 | I302: Skalvijos kino centras
A303: =IF(B303<>"",ROWS($B$6:B303),"") -> 298 | B303: Aukštuomenės klubas | C303: Cafe Society | D303: US | E303: 222 | F303: 82 | G303: 1 | H303: 42587 | I303: ACME Film
A304: =IF(B304<>"",ROWS($B$6:B304),"") -> 299 | B304: Megės planas | C304: Maggie's Plan | D304: US | E304: 180 | F304: 40 | G304: 1 | H304: 42678 | I304: Theatrical Film Distribution
A305: =IF(B305<>"",ROWS($B$6:B305),"") -> 300 | B305: Velnių salos karalius | C305: Kongen av Bastøy | D305: DE | E305: 126 | F305: 63 | G305: 1 | H305: 41039 | I305: Skalvijos kino centras
A306: =IF(B306<>"",ROWS($B$6:B306),"") -> 301 | B306: Ponas Trumbo | C306: Trumbo | D306: US | E306: 121 | F306: 25 | G306: 1 | H306: 42405 | I306: Theatrical Film Distribution
A307: =IF(B307<>"",ROWS($B$6:B307),"") -> 302 | B307: Prancūziška porelė | C307: Un homme à la hauteur | D307: FR | E307: 109.5 | F307: 21 | G307: 9 | H307: 42545 | I307: Garsų pasaulio įrašai
A308: =IF(B308<>"",ROWS($B$6:B308),"") -> 303 | B308: Ekskursantė | C308: Ekskursantė | D308: LT | E308: 108 | F308: 54 | G308: 1 | H308: 41544 | I308: Cinemark
A309: =IF(B309<>"",ROWS($B$6:B309),"") -> 304 | B309: Didesni purslai | C309: Bigger Splash | D309: US | E309: 106.2 | F309: 41 | G309: 1 | H309: 42496 | I309: ACME Film
A310: =IF(B310<>"",ROWS($B$6:B310),"") -> 305 | B310: Dalelių karštinė | C310: Particle Fever | D310: US | E310: 79.2 | F310: 36 | G310: 1 | H310: 41906 | I310: Skalvijos kino centras
A311: =IF(B311<>"",ROWS($B$6:B311),"") -> 306 | B311: Karalių pamaina | C311: Karalių pamaina | D311: LT | E311: 34.5 | F311: 10 | G311: 1 | H311: 42664 | I311: Garsų pasaulio įrašai
... A314: =IF(B314<>"",ROWS($B$6:B314),"") -> 309 | B314: Blogasis Santa 2 | C314: Bad Santa 2 | D314: US | E314: 8 | F314: 2 | G314: 1 | H314: 42720 | I314: Theatrical Film Distribution
...

Sheet Platintojų pasiskirstymas
A1: Platintojas | B1: Filmo pavadinimas | C1: Pajamos | D1: Žiūrovų skaičius | E1: Premjeros data
A2: ACME Film | B2: Emilija iš Laisvės alėjos (Emilija iš Laisvės alėjos) | C2: 578644.89 | D2: 124166 | E2: 42790
B3: Balerina (2017) (Ballerina (2017)) | C3: 277683.87 | D3: 66452 | E3: 42748
B4: Didžiapėdžio vaikis (Son of Big Foot) | C4: 227761.51 | D4: 51471 | E4: 43028
B5: Meškiukas Padingtonas 2 (Paddington 2) | C5: 169793.43 | D5: 37507 | E5: 43070
B6: Šuns tikslas (Dog's Purpose) | C6: 148745.95 | D6: 34297 | E6: 42790
B7: Kalifornijos svajos (La La Land) | C7: 112913.97 | D7: 22007 | E7: 42713
B8: Valerianas ir tūkstančio planetų miestas (Valerian and the City of a Thousand Planets) | C8: 112752 | D8: 19485 | E8: 42944
B9: Mano mažasis ponis. Filmas (My Little Pony) | C9: 105123.37 | D9: 25200 | E9: 43014
B10: Matilda (Mathilde) | C10: 100330.7 | D10: 18720 | E10: 43035
B11: Sniego karalienė 3 (Snow Queen 3) | C11: 97556.12 | D11: 23231 | E11: 42734
B12: Pjūklas 8 (Saw Legacy (Jigsaw)) | C12: 96128.87 | D12: 17114 | E12: 43035
B13: Džonas Vikas 2 (John Wick 2) | C13: 88235.52 | D13: 16414 | E13: 42776
B14: Dvasia šarvuose (Ghost in the Shell) | C14: 80086.8 | D14: 15403 | E14: 42832
... B58: Švyturys tarp dviejų vandenynų (Light Between Oceans) | C58: 20.6 | D58: 5 | E58: 42692
A59: ACME Film Total | B59: =COUNTA(B2:B58) -> 57 | C59: 3184759.8 | D59: 670451
A60: NCG Distribution / Universal Pictures International | B60: Bjaurusis aš 3 (Despicable Me 3) | C60: 878046.99 | D60: 184398 | E60: 42916
B61: Penkiasdešimt tamsesnių atspalvių (Fifty shades of grey) | C61: 541862.84 | D61: 103020 | E61: 42776
B62: Greiti ir įsiutę 8 (Furious 8) | C62: 501104.75 | D62: 97457 | E62: 42839
B63: Dainuok (Sing) | C63: 224186.91 | D63: 50684 | E63: 42727
B64: Mumija (The Mummy) | C64: 221522.12 | D64: 38814 | E64: 42895
B65: Didžioji siena (The Great Wall) | C65: 102664.47 | D65: 18338 | E65: 42783
B66: Baris Sylas: Amerikos sukčius (American Made) | C66: 98264.57 | D66: 18628 | E66: 42972
B67: Skilimas (Split) | C67: 70958.35 | D67: 14196 | E67: 42755
B68: Pradink (Get Out) | C68: 70721.44 | D68: 13670 | E68: 42832
B69: Tėtukas namie 2 (Daddys home 2) | C69: 47908.33 | D69: 8956 | E69: 43063
B70: Sniego senis (Snowman) | C70: 40369.83 | D70: 8570 | E70: 43021
B71: Lemtinga pagunda (The Beguiled) | C71: 36277.95 | D71: 7097 | E71: 42930
B72: Viktorija ir Abdulas (Victoria and Abdul) | C72: 18111.13 | D72: 3743 | E72: 43000
... B76: Bridžitos Džouns kūdikis (Bridget Jone's Baby) | C76: 580 | D76: 150 | E76: 42629
A77: NCG Distribution / Universal Pictures International Total | B77: =COUNTA(B60:B76) -> 17 | C77: 2858407.8 | D77: 569610
A78: ACME Film / WB | B78: Anabelė 2 (Annabelle 2) | C78: 290313.53 | D78: 52673 | E78: 42958
B79: Diunkerkas (Dunkirk) | C79: 266580.62 | D79: 49140 | E79: 42937
B80: Tas (It) | C80: 263281.69 | D80: 47656 | E80: 42986
B81: Kongas: Kaukolės sala (Kong: Skull Island) | C81: 203332.63 | D81: 36635 | E81: 42804
B82: Lego Betmenas. Filmas (Lego Batman Movie) | C82: 202835.02 | D82: 45924 | E82: 42776
B83: Globalinė audra (Geostorm) | C83: 145971.25 | D83: 23211 | E83: 43028
B84: Lego Ninjago filmas (Lego Ninjago) | C84: 125796.12 | D84: 28159 | E84: 43000
B85: Teisingumo lyga (Justice League) | C85: 117533.04 | D85: 20633 | E85: 43056
B86: Nuostabioji moteris (Wonder Women) | C86: 106829.34 | D86: 20713 | E86: 42888
B87: Man esi viskas (Everything Everything) | C87: 100249.33 | D87: 20126 | E87: 42874
B88: Karalius Artūras: Kalavijo legenda (King Arthur: Legend of Sword) | C88: 89740.1 | D88: 16265 | E88: 42867
B89: Užslėptas grožis (Collateral Beuty) | C89: 77522.79 | D89: 15152 | E89: 42741
B90: Seni Lapinai (Going in style) | C90: 47936.24 | D90: 9112 | E90: 42832
... B94: Fantastiniai gyvūnai ir kur juos rasti (Fantastic Beasts And Where To Find Them) | C94: 7135.61 | D94: 1415 | E94: 42692
A95: ACME Film / WB Total | B95: =COUNTA(B78:B94) -> 17 | C95: 2143936.2 | D95: 406638
A96: ACME Film / SONY | B96: Smurfai: pamirštas kaimelis (Smurfs 3 Lost Village) | C96: 297665.93 | D96: 68750 | E96: 42825
B97: Emodži filmas (Emoji) | C97: 274679.44 | D97: 62017 | E97: 42965
B98: Pakeleiviai (Passengers) | C98: 226554.08 | D98: 39931 | E98: 42734
B99: Bėgantis skustuvo ašmenimis 2049 (Blade Runner 2049) | C99: 195429.18 | D99: 34130 | E99: 43014
B100: Vaikis ant ratų (Baby Driver) | C100: 182722.95 | D100: 23802 | E100: 42916
B101: Džiumandži: Sveiki atvykę į Džiungles (Jumanji: Welcome To The Jungle) | C101: 170057.62 | D101: 29868 | E101: 43091
B102: Žmogus-voras: Grįžimas namo (Spiderman Homecoming) | C102: 128242.09 | D102: 23357 | E102: 42930
B103: Gyvybė (Life) | C103: 102864.63 | D103: 19692 | E103: 42818
B104: Mergų balius (Rough Night) | C104: 97884.71 | D104: 18431 | E104: 42923
B105: Absoliutus blogis: pabaiga (Resident Evil: Final Chapter) | C105: 58863.17 | D105: 10236 | E105: 42769
B106: Tamsusis bokštas (Dark Tower) | C106: 47950.35 | D106: 8985 | E106: 42958
B107: Besivaikantys mirtį (Flatliners) | C107: 46262.49 | D107: 8727 | E107: 43007
B108: Traukinių žymėjimas 2 (T2 Trainspotting) | C108: 36174.17 | D108: 7021 | E108: 42804
... B110: Piktieji Paukščiai. Filmas (Angry Birds Movie) | C110: 913.5 | D110: 561 | E110: 42503
A111: ACME Film / SONY Total | B111: =COUNTA(B96:B110) -> 15 | C111: 1868489.4 | D111: 355903
A112: Theatrical Film Distribution / WDSMPI | B112: Karibų piratai: Salazaro kerštas (Pirates of The Caribbean: Salazar's Revenge) | C112: 597844.27 | D112: 105755 | E112: 42881
B113: Ratai 3 (Cars 3) | C113: 336134.82 | D113: 74989 | E113: 42944
B114: Žvaigždžių karai: paskutiniai džedajai (Star Wars: Episode VIII - The Last Jedi) | C114: 271969.68 | D114: 43695 | E114: 43084
B115: Toras. Pasaulių pabaiga (Thor: Ragnarok) | C115: 176012.29 | D115: 30191 | E115: 43042
B116: Gražuolė ir pabaisa (Beauty and The Beast) | C116: 161909.85 | D116: 32127 | E116: 42811
B117: Galaktikos sergėtojai. II dalis (Guardians of The Galaxy. Vol 2) | C117: 157360.71 | D117: 28947 | E117: 42853
B118: Šelmis-1. Žvaigždžių karų istorija (Rogue One: A Star Wars Story) | C118: 44661.46 | D118: 8234 | E118: 42720
B119: Vajana (Moana) | C119: 39037.53 | D119: 8892 | E119: 42699
B120: Koko (Coco) | C120: 2434.7 | D120: 517 | E120: 43105
B121: Zootropolis (Zootopia) | C121: 880.8 | D121: 452 | E121: 42433
B122: Žuvytė Dorė (Finding Dory) | C122: 596.52 | D122: 343 | E122: 42601
A123: Theatrical Film Distribution / WDSMPI Total | B123: =COUNTA(B112:B122) -> 11 | C123: 1788842.6 | D123: 334142
A124: Vabalo filmai | B124: Trys milijonai eurų (Trys milijonai eurų) | C124: 1304853 | D124: 235730 | E124: 43035
B125: Klasės susitikimas: berniukai sugrįžta! (Klasės susitikimas: berniukai sugrįžta!) | C125: 378882 | D125: 64271 | E125: 43098
A126: Vabalo filmai Total | B126: =COUNTA(B124:B125) -> 2 | C126: 1683735 | D126: 300001
A127: Theatrical Film Distribution / 20th Century Fox | B127: Ponas Kūdikis (Boss Baby) | C127: 441834.1 | D127: 99891 | E127: 42839
B128: Bulius Ferdinandas (Ferdinand) | C128: 268371.43 | D128: 58033 | E128: 43084
B129: Žmogžudystė rytų eksprese (Murder On The Orient Express) | C129: 175389.52 | D129: 32681 | E129: 43049
B130: Loganas. Ernis (Logan) | C130: 125046.98 | D130: 23771 | E130: 42797
B131: Svetimas: Covenant (Alien: Covenant) | C131: 105888.09 | D131: 20000 | E131: 42867
B132: Kodėl būtent jis? (Why Him?) | C132: 95297.48 | D132: 19387 | E132: 42748
B133: Karas už beždžionių planetą (War for the Planet of Apes) | C133: 74779 | D133: 14096 | E133: 42930
B134: Žudikų Brolija (Assassin's Creed) | C134: 73305.52 | D134: 13158 | E134: 42727
B135: Kingsman. Aukso ratas (Kingsman: The Golden Circle) | C135: 72140.54 | D135: 13665 | E135: 43000
B136: Priešnuodis gyvenimui (A Cure For Wellness) | C136: 51140.33 | D136: 10015 | E136: 42811
B137: Didysis šou meistras (The Greatest Showman) | C137: 50216.47 | D137: 9230 | E137: 43091
B138: Troliai (Trolls) | C138: 2307.94 | D138: 849 | E138: 42664
B139: Ledynmetis: susidūrimas (Ice Age: Collision Course) | C139: 1753 | D139: 960 | E139: 42566
... B141: Alvinas ir burundukai: didžioji kelionė (Alvin & Chipmunks: The Road Chip) | C141: 611 | D141: 350 | E141: 42405
A142: Theatrical Film Distribution / 20th Century Fox Total | B142: =COUNTA(B127:B141) -> 15 | C142: 1539228.8 | D142: 316701
A143: Cinema Cult Distirbution | B143: Zero 3 (Zero 3) | C143: 1008470 | D143: 194486 | E143: 42762
A144: Cinema Cult Distirbution Total | B144: =COUNTA(B143) -> 1 | C144: 1008470 | D144: 194486
A145: Garsų pasaulio įrašai | B145: Vikingas (Viking) | C145: 140129 | D145: 25875 | E145: 42741
B146: Monstrų šeimynėlė (Happy family) | C146: 132871 | D146: 28806 | E146: 43035
B147: Ričis Didysis (Richard the Stork) | C147: 91683 | D147: 21617 | E147: 42804
B148: Naujosios Eglutės (Novyje yolki) | C148: 79413 | D148: 13654 | E148: 43091
B149: Kaip išgelbėti Kalėdas (Santa & Cie) | C149: 66809 | D149: 15427 | E149: 43077
B150: Eglutės 5 (Yolki 5) | C150: 64600 | D150: 17668 | E150: 42734
B151: Virtuvė 2. Finalas (Kuxnia 2. Posledniaja bitva) | C151: 45601.95 | D151: 9328 | E151: 42860
...

Sheet Sausis
A1: ='2017'!A1 -> 2017
A2: ='2017'!A2 -> Lietuvos kino teatruose rodytų filmų TOP
A3: Sausis
A5: Eil. Nr. | B5: Filmo pavadinimas | C5: Filmo pavadinimas originalo kalba | D5: Kilmės šalis | E5: Pajamos | F5: Žiūrovų skaičius | G5: Kopijų skaičius | H5: Premjeros data | I5: Platintojas
A6: =IF(B6<>"",ROWS($B$6:B6),"") -> 1 | B6: Zero 3 | C6: Zero 3 | D6: LT | E6: 414396 | F6: 80326 | G6: 15 | H6: 42762 | I6: Cinema Cult Distirbution
A7: =IF(B7<>"",ROWS($B$6:B7),"") -> 2 | B7: Pakeleiviai | C7: Passengers | D7: US | E7: 218247.33 | F7: 38580 | G7: 12 | H7: 42734 | I7: ACME Film / SONY
A8: =IF(B8<>"",ROWS($B$6:B8),"") -> 3 | B8: Dainuok | C8: Sing | D8: US | E8: 179468.13 | F8: 40316 | G8: 15 | H8: 42727 | I8: NCG Distribution / Universal Pictures International
A9: =IF(B9<>"",ROWS($B$6:B9),"") -> 4 | B9: Balerina | C9: Ballerina | D9: FR | E9: 171850.86 | F9: 41431 | G9: 15 | H9: 42748 | I9: ACME Film
A10: =IF(B10<>"",ROWS($B$6:B10),"") -> 5 | B10: 12 kėdžių | C10: 12 kėdžių | D10: LT | E10: 137525 | F10: 28034 | G10: 14 | H10: 42727 | I10: Film Jam
A11: =IF(B11<>"",ROWS($B$6:B11),"") -> 6 | B11: Vikingas | C11: Viking | D11: RU | E11: 124527 | F11: 23048 | G11: 10 | H11: 42741 | I11: Garsų pasaulio įrašai
A12: =IF(B12<>"",ROWS($B$6:B12),"") -> 7 | B12: Kodėl būtent jis? | C12: Why Him? | D12: US | E12: 88230.34 | F12: 18056 | G12: 13 | H12: 42748 | I12: Theatrical Film Distribution / 20th Century Fox
A13: =IF(B13<>"",ROWS($B$6:B13),"") -> 8 | B13: Sniego karalienė 3 | C13: Snow Queen 3 | D13: RU | E13: 83228.77 | F13: 19827 | G13: 10 | H13: 42734 | I13: ACME Film
A14: =IF(B14<>"",ROWS($B$6:B14),"") -> 9 | B14: Užslėptas grožis | C14: Collateral Beuty | D14: US | E14: 74409.68 | F14: 14479 | G14: 12 | H14: 42741 | I14: ACME Film / WB
A15: =IF(B15<>"",ROWS($B$6:B15),"") -> 10 | B15: Žudikų Brolija | C15: Assassin's Creed | D15: US | E15: 72834.97 | F15: 13069 | G15: 18 | H15: 42727 | I15: Theatrical Film Distribution / 20th Century Fox
A16: =IF(B16<>"",ROWS($B$6:B16),"") -> 11 | B16: Eglutės 5 | C16: Yolki 5 | D16: RU | E16: 64600 | F16: 17668 | G16: 8 | H16: 42734 | I16: Garsų pasaulio įrašai
A17: =IF(B17<>"",ROWS($B$6:B17),"") -> 12 | B17: Kalifornijos svajos | C17: La La Land | D17: US | E17: 61621.42 | F17: 12115 | G17: 10 | H17: 42713 | I17: ACME Film
... A53: =IF(B53<>"",ROWS($B$6:B53),"") -> 48 | B53: Blogasis Santa 2 | C53: Bad Santa 2 | D53: US | E53: 8 | F53: 2 | G53: 1 | H53: 42720 | I53: Theatrical Film Distribution
A54: Total | E54: =SUBTOTAL(109,Table3[Pajamos]) -> 2068528.4 | F54: =SUBTOTAL(109,Table3[Žiūrovų skaičius]) -> 427507

Sheet Vasaris
A1: ='2017'!A1 -> 2017
A2: ='2017'!A2 -> Lietuvos kino teatruose rodytų filmų TOP
A3: Vasaris
A5: Eil. Nr. | B5: Filmo pavadinimas | C5: Filmo pavadinimas originalo kalba | D5: Kilmės šalis | E5: Pajamos | F5: Žiūrovų skaičius | G5: Kopijų skaičius | H5: Premjeros data | I5: Platintojas
A6: =IF(B6<>"",ROWS($B$6:B6),"") -> 1 | B6: Zero 3 | C6: Zero 3 | D6: LT | E6: 543660 | F6: 102657 | G6: 15 | H6: 42762 | I6: Cinema Cult Distirbution
A7: =IF(B7<>"",ROWS($B$6:B7),"") -> 2 | B7: Penkiasdešimt tamsesnių atspalvių | C7: Fifty shades of grey | D7: US | E7: 508820.67 | F7: 96834 | G7: 18 | H7: 42776 | I7: NCG Distribution / Universal Pictures International
A8: =IF(B8<>"",ROWS($B$6:B8),"") -> 3 | B8: Emilija iš Laisvės alėjos | C8: Emilija iš Laisvės alėjos | D8: LT | E8: 219186.63 | F8: 46472 | G8: 18 | H8: 42790 | I8: ACME Film
A9: =IF(B9<>"",ROWS($B$6:B9),"") -> 4 | B9: Lego Betmenas. Filmas | C9: Lego Batman Movie | D9: US | E9: 171037.65 | F9: 38723 | G9: 20 | H9: 42776 | I9: ACME Film / WB
A10: =IF(B10<>"",ROWS($B$6:B10),"") -> 5 | B10: Balerina | C10: Ballerina | D10: FR | E10: 88304.83 | F10: 20611 | G10: 12 | H10: 42748 | I10: ACME Film
A11: =IF(B11<>"",ROWS($B$6:B11),"") -> 6 | B11: Didžioji siena | C11: The Great Wall | D11: US | E11: 82228.46 | F11: 14741 | G11: 13 | H11: 42783 | I11: NCG Distribution / Universal Pictures International
A12: =IF(B12<>"",ROWS($B$6:B12),"") -> 7 | B12: Džonas Vikas 2 | C12: John Wick 2 | D12: US | E12: 81045.13 | F12: 15126 | G12: 12 | H12: 42776 | I12: ACME Film
A13: =IF(B13<>"",ROWS($B$6:B13),"") -> 8 | B13: Tyla | C13: Silence | D13: US | E13: 61626.5 | F13: 11899 | G13: 10 | H13: 42769 | I13: ACME Film
A14: =IF(B14<>"",ROWS($B$6:B14),"") -> 9 | B14: Skambutis 3 | C14: Rings | D14: US | E14: 61124.46 | F14: 13190 | G14: 13 | H14: 42790 | I14: NCG Distribution / Paramount Pictures Internationa
A15: =IF(B15<>"",ROWS($B$6:B15),"") -> 10 | B15: Absoliutus blogis: pabaiga | C15: Resident Evil: Final Chapter | D15: US | E15: 58863.17 | F15: 10236 | G15: 14 | H15: 42769 | I15: ACME Film / SONY
A16: =IF(B16<>"",ROWS($B$6:B16),"") -> 11 | B16: Šuns tikslas | C16: Dog's Purpose | D16: US | E16: 48446.75 | F16: 11308 | G16: 16 | H16: 42790 | I16: ACME Film
A17: =IF(B17<>"",ROWS($B$6:B17),"") -> 12 | B17: Kalifornijos svajos | C17: La La Land | D17: US | E17: 46332.67 | F17: 8809 | G17: 10 | H17: 42713 | I17: ACME Film
... A53: =IF(B53<>"",ROWS($B$6:B53),"") -> 48 | B53: Troliai | C53: Trolls | D53: US | E53: 15.8 | F53: 4 | G53: 1 | H53: 42664 | I53: Theatrical Film Distribution / 20th Century Fox
E54: =SUBTOTAL(109,Table3_Vasaris[Pajamos]) -> 2271196.9 | F54: =SUBTOTAL(109,Table3_Vasaris[Žiūrovų skaičius]) -> 453997

Sheet Kovas
A1: ='2017'!A1 -> 2017
A2: ='2017'!A2 -> Lietuvos kino teatruose rodytų filmų TOP
A3: Kovas
A5: Eil. Nr. | B5: Filmo pavadinimas | C5: Filmo pavadinimas originalo kalba | D5: Kilmės šalis | E5: Pajamos | F5: Žiūrovų skaičius | G5: Kopijų skaičius | H5: Premjeros data | I5: Platintojas
A6: =IF(B6<>"",ROWS($B$6:B6),"") -> 1 | B6: Emilija iš Laisvės alėjos | C6: Emilija iš Laisvės alėjos | D6: LT | E6: 314638.08 | F6: 67731 | G6: 18 | H6: 42790 | I6: ACME Film
A7: =IF(B7<>"",ROWS($B$6:B7),"") -> 2 | B7: Kongas: Kaukolės sala | C7: Kong: Skull Island | D7: US | E7: 180451.3 | F7: 32546 | G7: 18 | H7: 42804 | I7: ACME Film / WB
A8: =IF(B8<>"",ROWS($B$6:B8),"") -> 3 | B8: Loganas. Ernis | C8: Logan | D8: US | E8: 121266.53 | F8: 23029 | G8: 15 | H8: 42797 | I8: Theatrical Film Distribution / 20th Century Fox
A9: =IF(B9<>"",ROWS($B$6:B9),"") -> 4 | B9: Gražuolė ir pabaisa | C9: Beauty and The Beast | D9: US | E9: 116867.25 | F9: 23012 | G9: 28 | H9: 42811 | I9: Theatrical Film Distribution / WDSMPI
A10: =IF(B10<>"",ROWS($B$6:B10),"") -> 5 | B10: Ričis Didysis | C10: Richard the Stork | D10: BE, DE | E10: 88211 | F10: 20682 | G10: 16 | H10: 42804 | I10: Garsų pasaulio įrašai
A11: =IF(B11<>"",ROWS($B$6:B11),"") -> 6 | B11: Šuns tikslas | C11: Dog's Purpose | D11: US | E11: 85644.66 | F11: 19594 | G11: 16 | H11: 42790 | I11: ACME Film
A12: =IF(B12<>"",ROWS($B$6:B12),"") -> 7 | B12: Liūtas | C12: Lion | D12: AU, US | E12: 83888.88 | F12: 16914 | G12: 17 | H12: 42797 | I12: Theatrical Film Distribution
A13: =IF(B13<>"",ROWS($B$6:B13),"") -> 8 | B13: Gyvybė | C13: Life | D13: US | E13: 52616.26 | F13: 10031 | G13: 14 | H13: 42818 | I13: ACME Film / SONY
A14: =IF(B14<>"",ROWS($B$6:B14),"") -> 9 | B14: Skambutis 3 | C14: Rings | D14: US | E14: 52101.91 | F14: 9734 | G14: 10 | H14: 42790 | I14: NCG Distribution / Paramount Pictures Internationa
A15: =IF(B15<>"",ROWS($B$6:B15),"") -> 10 | B15: Zero 3 | C15: Zero 3 | D15: LT | E15: 47274 | F15: 10683 | G15: 8 | H15: 42762 | I15: Cinema Cult Distirbution
A16: =IF(B16<>"",ROWS($B$6:B16),"") -> 11 | B16: Priešnuodis gyvenimui | C16: A Cure For Wellness | D16: US | E16: 42374.24 | F16: 8323 | G16: 13 | H16: 42811 | I16: Theatrical Film Distribution / 20th Century Fox
A17: =IF(B17<>"",ROWS($B$6:B17),"") -> 12 | B17: Traukinių žymėjimas 2 | C17: T2 Trainspotting | D17: US | E17: 33792.19 | F17: 6557 | G17: 12 | H17: 42804 | I17: ACME Film / SONY
... A60: =IF(B60<>"",ROWS($B$6:B60),"") -> 55 | B60: Ateitis | C60: L'avenir | D60: FR | E60: 45.5 | F60: 18 | G60: 2 | H60: 42772 | I60: Kino Aljansas
E61: =SUBTOTAL(109,Table3_Kovas[Pajamos]) -> 1503115 | F61: =SUBTOTAL(109,Table3_Kovas[Žiūrovų skaičius]) -> 307333

Sheet Balandis
A1: ='2017'!A1 -> 2017
A2: ='2017'!A2 -> Lietuvos kino teatruose rodytų filmų TOP
A3: Balandis
A5: Eil. Nr. | B5: Filmo pavadinimas | C5: Filmo pavadinimas originalo kalba | D5: Kilmės šalis | E5: Pajamos | F5: Žiūrovų skaičius | G5: Kopijų skaičius | H5: Premjeros data | I5: Platintojas
A6: =IF(B6<>"",ROWS($B$6:B6),"") -> 1 | B6: Greiti ir įsiutę 8 | C6: Furious 8 | D6: US | E6: 452285.57 | F6: 87570 | G6: 15 | H6: 42839 | I6: NCG Distribution / Universal Pictures International
A7: =IF(B7<>"",ROWS($B$6:B7),"") -> 2 | B7: Ponas Kūdikis | C7: Boss Baby | D7: US | E7: 306460.08 | F7: 68218 | G7: 33 | H7: 42839 | I7: Theatrical Film Distribution / 20th Century Fox
A8: =IF(B8<>"",ROWS($B$6:B8),"") -> 3 | B8: Smurfai: pamirštas kaimelis | C8: Smurfs 3 Lost Village | D8: US | E8: 241967.49 | F8: 55905 | G8: 15 | H8: 42825 | I8: ACME Film / SONY
A9: =IF(B9<>"",ROWS($B$6:B9),"") -> 4 | B9: Dvasia šarvuose | C9: Ghost in the Shell | D9: US | E9: 78022.46 | F9: 14980 | G9: 15 | H9: 42832 | I9: ACME Film
A10: =IF(B10<>"",ROWS($B$6:B10),"") -> 5 | B10: Pradink | C10: Get Out | D10: US | E10: 64950.84 | F10: 12538 | G10: 10 | H10: 42832 | I10: NCG Distribution / Universal Pictures International
A11: =IF(B11<>"",ROWS($B$6:B11),"") -> 6 | B11: Galaktikos sergėtojai. II dalis | C11: Guardians of The Galaxy. Vol 2 | D11: US | E11: 61142.47 | F11: 10782 | G11: 24 | H11: 42853 | I11: Theatrical Film Distribution / WDSMPI
A12: =IF(B12<>"",ROWS($B$6:B12),"") -> 7 | B12: Gyvybė | C12: Life | D12: US | E12: 48431.73 | F12: 9339 | G12: 14 | H12: 42818 | I12: ACME Film / SONY
A13: =IF(B13<>"",ROWS($B$6:B13),"") -> 8 | B13: Seni Lapinai | C13: Going in style | D13: US | E13: 45411.19 | F13: 8562 | G13: 12 | H13: 42832 | I13: ACME Film / WB
A14: =IF(B14<>"",ROWS($B$6:B14),"") -> 9 | B14: Gražuolė ir pabaisa | C14: Beauty and The Beast | D14: US | E14: 43808.53 | F14: 8842 | G14: 18 | H14: 42811 | I14: Theatrical Film Distribution / WDSMPI
A15: =IF(B15<>"",ROWS($B$6:B15),"") -> 10 | B15: Emilija iš Laisvės alėjos | C15: Emilija iš Laisvės alėjos | D15: LT | E15: 35729.49 | F15: 7817 | G15: 10 | H15: 42790 | I15: ACME Film
A16: =IF(B16<>"",ROWS($B$6:B16),"") -> 11 | B16: Zoologijos sodo prižiūrėtojo žmona | C16: Zookeeper's wife | D16: US | E16: 33980.01 | F16: 6909 | G16: 12 | H16: 42839 | I16: ACME Film
A17: =IF(B17<>"",ROWS($B$6:B17),"") -> 12 | B17: Prarastasis miestas Z | C17: Lost City of Z | D17: US | E17: 31423.75 | F17: 6511 | G17: 15 | H17: 42846 | I17: ACME Film
... A42: =IF(B42<>"",ROWS($B$6:B42),"") -> 37 | B42: Rimti žaidimai | C42: Den allvarsamma leken | D42: DK, NO, SE | E42: 217.5 | F42: 78 | G42: 3 | H42: 42804 | I42: Kino Aljansas
A43: =IF(B43<>"",ROWS($B$6:B43),"") -> 38 | B43: Šeimos šventė | C43: Ernelláék Farkaséknál | D43: HU | E43: 207.15 | F43: 155 | G43: 1 | H43: 2016. | I43: Kino Aljansas
A44: =IF(B44<>"",ROWS($B$6:B44),"") -> 39 | B44: Dainuok | C44: Sing | D44: US | E44: 128.17 | F44: 29 | G44: 1 | H44: 42727 | I44: NCG Distribution / Universal Pictures International
A45: =IF(B45<>"",ROWS($B$6:B45),"") -> 40 | B45: Nepažįstamoji | C45: La Fille inconnue | D45: BE, FR | E45: 98 | F45: 35 | G45: 2 | H45: 42804 | I45: Kino Aljansas
A46: =IF(B46<>"",ROWS($B$6:B46),"") -> 41 | B46: Komivojažierius | C46: The salesman | D46: IR, FR | E46: 75.5 | F46: 23 | G46: 2 | H46: 42748 | I46: Kino Aljansas
E47: =SUBTOTAL(109,Table3_Balandis[Pajamos]) -> 1612094.1 | F47: =SUBTOTAL(109,Table3_Balandis[Žiūrovų skaičius]) -> 334046

Sheet Gegužė
A1: ='2017'!A1 -> 2017
A2: ='2017'!A2 -> Lietuvos kino teatruose rodytų filmų TOP
A3: Gegužė
A5: Eil. Nr. | B5: Filmo pavadinimas | C5: Filmo pavadinimas originalo kalba | D5: Kilmės šalis | E5: Pajamos | F5: Žiūrovų skaičius | G5: Kopijų skaičius | H5: Premjeros data | I5: Platintojas
A6: =IF(B6<>"",ROWS($B$6:B6),"") -> 1 | B6: Karibų piratai: Salazaro kerštas | C6: Pirates of The Caribbean: Salazar's Revenge | D6: US | E6: 210746.59 | F6: 36089 | G6: 28 | H6: 42881 | I6: Theatrical Film Distribution / WDSMPI
A7: =IF(B7<>"",ROWS($B$6:B7),"") -> 2 | B7: Galaktikos sergėtojai. II dalis | C7: Guardians of The Galaxy. Vol 2 | D7: US | E7: 89420.78 | F7: 16906 | G7: 28 | H7: 42853 | I7: Theatrical Film Distribution / WDSMPI
A8: =IF(B8<>"",ROWS($B$6:B8),"") -> 3 | B8: Svetimas: Covenant | C8: Alien: Covenant | D8: US | E8: 83705.93 | F8: 15864 | G8: 15 | H8: 42867 | I8: Theatrical Film Distribution / 20th Century Fox
A9: =IF(B9<>"",ROWS($B$6:B9),"") -> 4 | B9: Ponas Kūdikis | C9: Boss Baby | D9: US | E9: 81327.27 | F9: 18824 | G9: 24 | H9: 42839 | I9: Theatrical Film Distribution / 20th Century Fox
A10: =IF(B10<>"",ROWS($B$6:B10),"") -> 5 | B10: Karalius Artūras: Kalavijo legenda | C10: King Arthur: Legend of Sword | D10: US | E10: 69789.64 | F10: 12723 | G10: 17 | H10: 42867 | I10: ACME Film / WB
A11: =IF(B11<>"",ROWS($B$6:B11),"") -> 6 | B11: Greiti ir įsiutę 8 | C11: Furious 8 | D11: US | E11: 48554.6 | F11: 9812 | G11: 10 | H11: 42839 | I11: NCG Distribution / Universal Pictures International
A12: =IF(B12<>"",ROWS($B$6:B12),"") -> 7 | B12: Virtuvė 2. Finalas | C12: Kuxnia 2. Posledniaja bitva | D12: RU | E12: 42987 | F12: 8840 | G12: 8 | H12: 42860 | I12: Garsų pasaulio įrašai
A13: =IF(B13<>"",ROWS($B$6:B13),"") -> 8 | B13: Svajoklis Budis | C13: Rock dog | D13: US | E13: 40024.39 | F13: 10193 | G13: 18 | H13: 42867 | I13: Clear Digital World
A14: =IF(B14<>"",ROWS($B$6:B14),"") -> 9 | B14: Man esi viskas | C14: Everything Everything | D14: US | E14: 48982 | F14: 9831 | G14: 14 | H14: 42874 | I14: ACME Film / WB
A15: =IF(B15<>"",ROWS($B$6:B15),"") -> 10 | B15: Ratas | C15: Circle | D15: US | E15: 18791.48 | F15: 3760 | G15: 14 | H15: 42874 | I15: ACME Film
A16: =IF(B16<>"",ROWS($B$6:B16),"") -> 11 | B16: Smurfai: pamirštas kaimelis | C16: Smurfs 3 Lost Village | D16: US | E16: 16765.61 | F16: 3964 | G16: 15 | H16: 42825 | I16: ACME Film / SONY
A17: =IF(B17<>"",ROWS($B$6:B17),"") -> 12 | B17: Slaptasisi agentas | C17: Unlocked | D17: US | E17: 9184.66 | F17: 1979 | G17: 13 | H17: 42860 | I17: ACME Film
... A32: =IF(B32<>"",ROWS($B$6:B32),"") -> 27 | B32: Saldžių sapnų | C32: Fai bei sogni | D32: IT | E32: 1794 | F32: 588 | G32: 2 | H32: 42860 | I32: A-one films
A33: =IF(B33<>"",ROWS($B$6:B33),"") -> 28 | B33: Nuostabioji moteris | C33: Wonder Women | D33: US | E33: 1754.05 | F33: 347 | G33: 6 | H33: Preview | I33: ACME Film / WB
A34: =IF(B34<>"",ROWS($B$6:B34),"") -> 29 | B34: Liūtas | C34: Lion | D34: AU, US | E34: 1304.41 | F34: 340 | G34: 4 | H34: 42797 | I34: Theatrical Film Distribution
A35: =IF(B35<>"",ROWS($B$6:B35),"") -> 30 | B35: Gražuolė ir pabaisa | C35: Beauty and The Beast | D35: US | E35: 1234.07 | F35: 273 | G35: 4 | H35: 42811 | I35: Theatrical Film Distribution / WDSMPI
A36: =IF(B36<>"",ROWS($B$6:B36),"") -> 31 | B36: Troliai | C36: Trolls | D36: US | E36: 324 | F36: 162 | G36: 1 | H36: 42664 | I36: Theatrical Film Distribution / 20th Century Fox
A37: =IF(B37<>"",ROWS($B$6:B37),"") -> 32 | B37: Elfai | C37: Pixies | D37: US | E37: 322.5 | F37: 215 | G37: 1 | H37: 42517 | I37: Theatrical Film Distribution
A38: =IF(B38<>"",ROWS($B$6:B38),"") -> 33 | B38: Traukinių žymėjimas 2 | C38: T2 Trainspotting | D38: US | E38: 314.1 | F38: 63 | G38: 1 | H38: 42804 | I38: ACME Film / SONY
A39: =IF(B39<>"",ROWS($B$6:B39),"") -> 34 | B39: (Ne)Tikros prancūziškos vestuvės | C39: Qu’est-ce qu’on a fait au Bon Dieu? | D39: FR | E39: 293.8 | F39: 61 | G39: 1 | H39: 42244 | I39: Kino pasaka
A40: =IF(B40<>"",ROWS($B$6:B40),"") -> 35 | B40: Kriaušių pyragėliai su levandomis | C40: Le gout des merveilles | D40: FR | E40: 261.7 | F40: 63 | G40: 1 | H40: 42601 | I40: Kino pasaka
A41: =IF(B41<>"",ROWS($B$6:B41),"") -> 36 | B41: Francas | C41: Frantz | D41: FR, DE | E41: 241.8 | F41: 59 | G41: 2 | H41: 42769 | I41: Kino Pasaka
A42: =IF(B42<>"",ROWS($B$6:B42),"") -> 37 | B42: Aukštuomenės klubas | C42: Cafe Society | D42: US | E42: 222 | F42: 82 | G42: 1 | H42: 42587 | I42: ACME Film
A43: =IF(B43<>"",ROWS($B$6:B43),"") -> 38 | B43: Ledynmetis: susidūrimas | C43: Ice Age: Collision Course | D43: US | E43: 118.1 | F43: 63 | G43: 2 | H43: 42566 | I43: Theatrical Film Distribution / 20th Century Fox
A44: =IF(B44<>"",ROWS($B$6:B44),"") -> 39 | B44: Didesni purslai | C44: Bigger Splash | D44: US | E44: 106.2 | F44: 41 | G44: 1 | H44: 42496 | I44: ACME Film
A45: =IF(B45<>"",ROWS($B$6:B45),"") -> 40 | B45: Žaklina | C45: Jackie | D45: US | E45: 78 | F45: 23 | G45: 1 | H45: 42790 | I45: Theatrical Film Distribution
... A55: =IF(B55<>"",ROWS($B$6:B55),"") -> 50 | B55: Nepažįstamoji | C55: La Fille inconnue | D55: BE, FR | E55: 5 | F55: 2 | G55: 1 | H55: 42804 | I55: Kino Aljansas
E56: =SUBTOTAL(109,Table3_Gegužė[Pajamos]) -> 834466.69 | F56: =SUBTOTAL(109,Table3_Gegužė[Žiūrovų skaičius]) -> 166266

Sheet Birželis
A1: ='2017'!A1 -> 2017
A2: ='2017'!A2 -> Lietuvos kino teatruose rodytų filmų TOP
A3: Birželis
A5: Eil. Nr. | B5: Filmo pavadinimas | C5: Filmo pavadinimas originalo kalba | D5: Kilmės šalis | E5: Pajamos | F5: Žiūrovų skaičius | G5: Kopijų skaičius | H5: Premjeros data | I5: Platintojas
A6: =IF(B6<>"",ROWS($B$6:B6),"") -> 1 | B6: Karibų piratai: Salazaro kerštas | C6: Pirates of The Caribbean: Salazar's Revenge | D6: US | E6: 333477.92 | F6: 60208 | G6: 28 | H6: 42881 | I6: Theatrical Film Distribution / WDSMPI
A7: =IF(B7<>"",ROWS($B$6:B7),"") -> 2 | B7: Mumija | C7: The Mummy | D7: US | E7: 188910.87 | F7: 33338 | G7: 15 | H7: 42895 | I7: NCG Distribution / Universal Pictures International
A8: =IF(B8<>"",ROWS($B$6:B8),"") -> 3 | B8: Bjaurusis aš 3 | C8: Despicable Me 3 | D8: US | E8: 136524.9 | F8: 27271 | G8: 24 | H8: 42916 | I8: NCG Distribution / Universal Pictures International
A9: =IF(B9<>"",ROWS($B$6:B9),"") -> 4 | B9: Gelbėtojai | C9: Baywatch | D9: US | E9: 115814.68 | F9: 22921 | G9: 15 | H9: 42902 | I9: NCG Distribution / Paramount Pictures
A10: =IF(B10<>"",ROWS($B$6:B10),"") -> 5 | B10: Nuostabioji moteris | C10: Wonder Women | D10: US | E10: 92314.16 | F10: 18014 | G10: 18 | H10: 42888 | I10: ACME Film / WB
A11: =IF(B11<>"",ROWS($B$6:B11),"") -> 6 | B11: Stebuklų šalis: Urfino Džiuso ir mergaitės Elės nuotykiai | C11: Urfin and His Wooden Soldiers | D11: RU | E11: 54198 | F11: 13717 | G11: 13 | H11: 42881 | I11: Best Film
A12: =IF(B12<>"",ROWS($B$6:B12),"") -> 7 | B12: Ponas Kūdikis | C12: Boss Baby | D12: US | E12: 47977.27 | F12: 11415 | G12: 15 | H12: 42839 | I12: Theatrical Film Distribution / 20th Century Fox
A13: =IF(B13<>"",ROWS($B$6:B13),"") -> 8 | B13: Man esi viskas | C13: Everything Everything | D13: US | E13: 46449.78 | F13: 9345 | G13: 7 | H13: 42874 | I13: ACME Film / WB
A14: =IF(B14<>"",ROWS($B$6:B14),"") -> 9 | B14: Svajoklis Budis | C14: Rock dog | D14: US | E14: 44813.58 | F14: 10857 | G14: 18 | H14: 42867 | I14: Clear Digital World
A15: =IF(B15<>"",ROWS($B$6:B15),"") -> 10 | B15: Didysis baletas | C15: Bolšoi | D15: RU | E15: 24467.85 | F15: 5151 | G15: 10 | H15: 42895 | I15: Garsų pasaulio įrašai
A16: =IF(B16<>"",ROWS($B$6:B16),"") -> 11 | B16: Svetimas: Covenant | C16: Alien: Covenant | D16: US | E16: 21369.62 | F16: 3996 | G16: 8 | H16: 42867 | I16: Theatrical Film Distribution / 20th Century Fox
A17: =IF(B17<>"",ROWS($B$6:B17),"") -> 12 | B17: Bernvakaris Australijoje 2 (Few less men) | C17: Few less men | D17: AU | E17: 20520 | F17: 4117 | G17: 10 | H17: 42874 | I17: Best Film
... A32: =IF(B32<>"",ROWS($B$6:B32),"") -> 27 | B32: Apsimetėliai | C32: Pretenders | D32: EE | E32: 2725.9 | F32: 682 | G32: 9 | H32: 42895 | I32: Kino pasaka
A33: =IF(B33<>"",ROWS($B$6:B33),"") -> 28 | B33: Panelė Rūgštynė | C33: Jamais Contente | D33: FR | E33: 4029 | F33: 1615 | G33: 1 | H33: 2016.12.17 | I33: Skalvijos kino centras
A34: =IF(B34<>"",ROWS($B$6:B34),"") -> 29 | B34: Virtuvė 2. Finalas | C34: Kuxnia 2. Posledniaja bitva | D34: RU | E34: 2614.95 | F34: 488 | G34: 8 | H34: 42860 | I34: Garsų pasaulio įrašai
A35: =IF(B35<>"",ROWS($B$6:B35),"") -> 30 | B35: Noriu būti savimi (dokumentinių filmų programa) | C35: Noriu būti savimi (dokumentinių filmų programa) | D35: TBA | E35: 2954.4 | F35: 1503 | G35: 1 | H35: 2016.11.19 | I35: Skalvijos kino centras
A36: =IF(B36<>"",ROWS($B$6:B36),"") -> 31 | B36: Ką pašnibždėjo pelėda (Trumpukų programa) | C36: Ką pašnibždėjo pelėda (Trumpukų programa) | D36: TBA | E36: 3001.1 | F36: 1293 | G36: 1 | H36: 2017.01.14 | I36: Skalvijos kino centras
A37: =IF(B37<>"",ROWS($B$6:B37),"") -> 32 | B37: Krokodilai | C37: Vorstadtkrokodile | D37: DK | E37: 2465 | F37: 1321 | G37: 1 | H37: 40789 | I37: Skalvijos kino centras
A38: =IF(B38<>"",ROWS($B$6:B38),"") -> 33 | B38: Pakeliui į mokyklą | C38: Sur le Chemin de lʾécole | D38: FR, CN, ZA, BR, CO, | E38: 4942.4 | F38: 2170 | G38: 1 | H38: 42030 | I38: Skalvijos kino centras
A39: =IF(B39<>"",ROWS($B$6:B39),"") -> 34 | B39: Stefanas Cveigas: Atsisveikinimas su Europa | C39: Stefan Zweig: Farewell to Europe | D39: FR | E39: 2299.5 | F39: 617 | G39: 5 | H39: 42902 | I39: Best Film
A40: =IF(B40<>"",ROWS($B$6:B40),"") -> 35 | B40: Krokodilai 2 | C40: Vorstadtkrokodile 2 | D40: DK | E40: 1879 | F40: 946 | G40: 1 | H40: 41307 | I40: Skalvijos kino centras
A41: =IF(B41<>"",ROWS($B$6:B41),"") -> 36 | B41: Keliaujantys paukščiai | C41: Les oiseaux de passage | D41: BE, FR | E41: 1087 | F41: 551 | G41: 1 | H41: 42301 | I41: Skalvijos kino centras
A42: =IF(B42<>"",ROWS($B$6:B42),"") -> 37 | B42: Mamos norų sąrašas | C42: Mum's List | D42: US | E42: 808.69 | F42: 208 | G42: 18 | H42: 42881 | I42: Theatrical Film Distribution
A43: =IF(B43<>"",ROWS($B$6:B43),"") -> 38 | B43: Ir viso pasaulio negana (dokumentinių filmų programa) | C43: Ir viso pasaulio negana (dokumentinių filmų programa) | D43: TBA | E43: 743.6 | F43: 382 | G43: 1 | H43: 2016.09.25 | I43: Skalvijos kino centras
A44: =IF(B44<>"",ROWS($B$6:B44),"") -> 39 | B44: Liūtas | C44: Lion | D44: AU, US | E44: 577.6 | F44: 213 | G44: 5 | H44: 42797 | I44: Theatrical Film Distribution
A45: =IF(B45<>"",ROWS($B$6:B45),"") -> 40 | B45: Balerina | C45: Ballerina | D45: FR | E45: 564 | F45: 345 | G45: 1 | H45: 42748 | I45: ACME Film
A46: =IF(B46<>"",ROWS($B$6:B46),"") -> 41 | B46: Piktieji Paukščiai. Filmas | C46: Angry Birds Movie | D46: US | E46: 544.5 | F46: 345 | G46: 1 | H46: 42503 | I46: ACME Film / SONY
A47: =IF(B47<>"",ROWS($B$6:B47),"") -> 42 | B47: Kung Fu Panda 3 | C47: Kung Fu Panda 3 | D47: US | E47: 518.17 | F47: 273 | G47: 3 | H47: 42447 | I47: Theatrical Film Distribution / 20th Century Fox
A48: =IF(B48<>"",ROWS($B$6:B48),"") -> 43 | B48: Ledynmetis: susidūrimas | C48: Ice Age: Collision Course | D48: US | E48: 393.86 | F48: 276 | G48: 2 | H48: 42566 | I48: Theatrical Film Distribution / 20th Century Fox
A49: =IF(B49<>"",ROWS($B$6:B49),"") -> 44 | B49: Dainuok | C49: Sing | D49: US | E49: 484.86 | F49: 245 | G49: 1 | H49: 42727 | I49: NCG Distribution / Universal Pictures International
A50: =IF(B50<>"",ROWS($B$6:B50),"") -> 45 | B50: Nekaltosios | C50: Les innocentes | D50: FR, PL | E50: 414 | F50: 79 | G50: 1 | H50: 42713 | I50: Kino pasaka
A51: =IF(B51<>"",ROWS($B$6:B51),"") -> 46 | B51: Alvinas ir burundukai: didžioji kelionė | C51: Alvin & Chipmunks: The Road Chip | D51: US | E51: 411.9 | F51: 242 | G51: 2 | H51: 42405 | I51: Theatrical Film Distribution / 20th Century Fox
A52: =IF(B52<>"",ROWS($B$6:B52),"") -> 47 | B52: Paskutinė šeima | C52: Ostatnia rodzina | D52: PL | E52: 387.6 | F52: 103 | G52: 6 | H52: 42860 | I52: Kino pasaka
A53: =IF(B53<>"",ROWS($B$6:B53),"") -> 48 | B53: Kubo ir stebuklingas kardas | C53: Kubo and the Two Strings | D53: US | E53: 374.4 | F53: 221 | G53: 1 | H53: 42650 | I53: NCG Distribution / Universal Pictures International
A54: =IF(B54<>"",ROWS($B$6:B54),"") -> 49 | B54: Slaptas augintinių gyvenimas | C54: Secret Life of Pets | D54: US | E54: 373.8 | F54: 226 | G54: 1 | H54: 42587 | I54: NCG Distribution / Universal Pictures International
A55: =IF(B55<>"",ROWS($B$6:B55),"") -> 50 | B55: Eleonoros paslaptis | C55: Kerity, la maison des contes | D55: FR | E55: 371 | F55: 246 | G55: 1 | H55: TBA | I55: Skalvijos kino centras
A56: =IF(B56<>"",ROWS($B$6:B56),"") -> 51 | B56: Šuns tikslas | C56: Dog's Purpose | D56: US | E56: 360.49 | F56: 151 | G56: 2 | H56: 42790 | I56: ACME Film
A57: =IF(B57<>"",ROWS($B$6:B57),"") -> 52 | B57: (Ne)Tikros prancūziškos vestuvės | C57: Qu’est-ce qu’on a fait au Bon Dieu? | D57: FR | E57: 349.7 | F57: 78 | G57: 1 | H57: 42244 | I57: Kino pasaka
A58: =IF(B58<>"",ROWS($B$6:B58),"") -> 53 | B58: Troliai | C58: Trolls | D58: US | E58: 343.6 | F58: 198 | G58: 2 | H58: 42664 | I58: Theatrical Film Distribution / 20th Century Fox
A59: =IF(B59<>"",ROWS($B$6:B59),"") -> 54 | B59: Emilija iš Laisvės alėjos | C59: Emilija iš Laisvės alėjos | D59: LT | E59: 342.6 | F59: 133 | G59: 2 | H59: 42790 | I59: ACME Film
A60: =IF(B60<>"",ROWS($B$6:B60),"") -> 55 | B60: Kria-Kria-Keriai | C60: Quackerz | D60: RU | E60: 335.6 | F60: 197 | G60: 1 | H60: 42461 | I60: ACME Film
A61: =IF(B61<>"",ROWS($B$6:B61),"") -> 56 | B61: Nono, berniukas Zigzagiukas | C61: Nono, het Zigzag Kind | D61: NL | E61: 541 | F61: 258 | G61: 1 | H61: 41895 | I61: Skalvijos kino centras
A62: =IF(B62<>"",ROWS($B$6:B62),"") -> 57 | B62: Žuvytė Dorė | C62: Finding Dory | D62: US | E62: 252.72 | F62: 151 | G62: 2 | H62: 42601 | I62: Theatrical Film Distribution / WDSMPI
A63: =IF(B63<>"",ROWS($B$6:B63),"") -> 58 | B63: Sutrikęs Maksas | C63: Max Pinlig | D63: DK | E63: 234 | F63: 117 | G63: 1 | H63: 40810 | I63: Skalvijos kino centras
A64: =IF(B64<>"",ROWS($B$6:B64),"") -> 59 | B64: Normas, lokys iš šiaurės | C64: Norm of the North | D64: US | E64: 231.6 | F64: 130 | G64: 1 | H64: 42398 | I64: ACME Film
A65: =IF(B65<>"",ROWS($B$6:B65),"") -> 60 | B65: Taksiukas | C65: Wiener-Dog | D65: US | E65: 231 | F65: 42 | G65: 1 | H65: 42685 | I65: Kino pasaka
A66: =IF(B66<>"",ROWS($B$6:B66),"") -> 61 | B66: Mes dešimtmečiai (dokumentinių filmų programa) | C66: Mes dešimtmečiai (dokumentinių filmų programa) | D66: TBA | E66: 424 | F66: 195 | G66: 1 | H66: 2016.09.24 | I66: Skalvijos kino centras
A67: =IF(B67<>"",ROWS($B$6:B67),"") -> 62 | B67: Zootropolis | C67: Zootopia | D67: US | E67: 185.8 | F67: 99 | G67: 2 | H67: 42433 | I67: Theatrical Film Distribution / WDSMPI
A68: =IF(B68<>"",ROWS($B$6:B68),"") -> 63 | B68: Kriaušių pyragėliai su levandomis | C68: Le gout des merveilles | D68: FR | E68: 138.5 | F68: 35 | G68: 1 | H68: 42601 | I68: Kino pasaka
A69: =IF(B69<>"",ROWS($B$6:B69),"") -> 64 | B69: Robinzono Kruzo sala | C69: Robinson Crusoe | D69: BE, FR | E69: 135 | F69: 77 | G69: 1 | H69: 42412 | I69: ACME Film
A70: =IF(B70<>"",ROWS($B$6:B70),"") -> 65 | B70: Velnių salos karalius | C70: Kongen av Bastøy | D70: DE | E70: 126 | F70: 63 | G70: 1 | H70: 41039 | I70: Skalvijos kino centras
A71: =IF(B71<>"",ROWS($B$6:B71),"") -> 66 | B71: Dalelių karštinė | C71: Particle Fever | D71: US | E71: 79.2 | F71: 36 | G71: 1 | H71: 41906 | I71: Skalvijos kino centras
A72: =IF(B72<>"",ROWS($B$6:B72),"") -> 67 | B72: Lego Betmenas. Filmas | C72: Lego Batman Movie | D72: US | E72: 56.07 | F72: 23 | G72: 1 | H72: 42776 | I72: ACME Film / WB
A73: =IF(B73<>"",ROWS($B$6:B73),"") -> 68 | B73: Asfaltas | C73: Asphalte | D73: FR | E73: 41.4 | F73: 8 | G73: 1 | H73: 42657 | I73: Kino pasaka
A74: =IF(B74<>"",ROWS($B$6:B74),"") -> 69 | B74: Avelės ir vilkai | C74: Sheep and Wolves | D74: RU | E74: 27 | F74: 15 | G74: 1 | H74: 42489 | I74: ACME Film
A75: =IF(B75<>"",ROWS($B$6:B75),"") -> 70 | B75: Francas | C75: Frantz | D75: FR, DE | E75: 11 | F75: 2 | G75: 1 | H75: 42769 | I75: Kino Pasaka
E76: =SUBTOTAL(109,Table3_Birželis[Pajamos]) -> 1381629.2 | F76: =SUBTOTAL(109,Table3_Birželis[Žiūrovų skaičius]) -> 272122

Sheet Liepa
A1: ='2017'!A1 -> 2017
A2: ='2017'!A2 -> Lietuvos kino teatruose rodytų filmų TOP
A3: Liepa
A5: Eil. Nr. | B5: Filmo pavadinimas | C5: Filmo pavadinimas originalo kalba | D5: Kilmės šalis | E5: Pajamos | F5: Žiūrovų skaičius | G5: Kopijų skaičius | H5: Premjeros data | I5: Platintojas
A6: =IF(B6<>"",ROWS($B$6:B6),"") -> 1 | B6: Bjaurusis aš 3 | C6: Despicable Me 3 | D6: US | E6: 623610.67 | F6: 131169 | G6: 24 | H6: 42916 | I6: NCG Distribution / Universal Pictures International
A7: =IF(B7<>"",ROWS($B$6:B7),"") -> 2 | B7: Transformeriai: paskutinis riteris | C7: Transformers: The Last Knight | D7: US | E7: 147657.27 | F7: 25347 | G7: 15 | H7: 42923 | I7: NCG Distribution / Paramount Pictures
A8: =IF(B8<>"",ROWS($B$6:B8),"") -> 3 | B8: Diunkerkas | C8: Dunkirk | D8: US | E8: 147171.71 | F8: 26426 | G8: 15 | H8: 42937 | I8: ACME Film
A9: =IF(B9<>"",ROWS($B$6:B9),"") -> 4 | B9: Žmogus-voras: Grįžimas namo | C9: Spiderman Homecoming | D9: US | E9: 112025.86 | F9: 20351 | G9: 15 | H9: 42930 | I9: ACME Film / SONY
A10: =IF(B10<>"",ROWS($B$6:B10),"") -> 5 | B10: Vaikis ant ratų | C10: Baby Driver | D10: US | E10: 107879.99 | F10: 20451 | G10: 12 | H10: 42916 | I10: ACME Film / SONY
A11: =IF(B11<>"",ROWS($B$6:B11),"") -> 6 | B11: Mergų balius | C11: Rough Night | D11: US | E11: 94010.7 | F11: 17724 | G11: 12 | H11: 42923 | I11: ACME Film / SONY
A12: =IF(B12<>"",ROWS($B$6:B12),"") -> 7 | B12: Ratai 3 | C12: Cars 3 | D12: US | E12: 84748.37 | F12: 18465 | G12: 30 | H12: 42944 | I12: Theatrical Film Distribution / WDSMPI
A13: =IF(B13<>"",ROWS($B$6:B13),"") -> 8 | B13: Karas už beždžionių planetą | C13: War for the Planet of Apes | D13: US | E13: 67551.08 | F13: 12705 | G13: 15 | H13: 42930 | I13: Theatrical Film Distribution / 20th Century Fox
A14: =IF(B14<>"",ROWS($B$6:B14),"") -> 9 | B14: Karibų piratai: Salazaro kerštas | C14: Pirates of The Caribbean: Salazar's Revenge | D14: US | E14: 52433.08 | F14: 9230 | G14: 14 | H14: 42881 | I14: Theatrical Film Distribution / WDSMPI
A15: =IF(B15<>"",ROWS($B$6:B15),"") -> 10 | B15: Gelbėtojai | C15: Baywatch | D15: US | E15: 46884.11 | F15: 8427 | G15: 15 | H15: 42902 | I15: NCG Distribution / Paramount Pictures
A16: =IF(B16<>"",ROWS($B$6:B16),"") -> 11 | B16: Valerianas ir tūkstančio planetų miestas | C16: Valerian and the City of a Thousand Planets | D16: US | E16: 38049.84 | F16: 6350 | G16: 12 | H16: 42944 | I16: ACME Film
A17: =IF(B17<>"",ROWS($B$6:B17),"") -> 12 | B17: Lemtinga pagunda | C17: The Beguiled | D17: US | E17: 33178.22 | F17: 6446 | G17: 12 | H17: 42930 | I17: NCG Distribution / Universal Pictures International
... A62: =IF(B62<>"",ROWS($B$6:B62),"") -> 57 | B62: Troliai | C62: Trolls | D62: US | E62: 27 | F62: 15 | G62: 1 | H62: 42664 | I62: Theatrical Film Distribution / 20th Century Fox
E63: =SUBTOTAL(109,Table3_Liepa[Pajamos]) -> 1733177.2 | F63: =SUBTOTAL(109,Table3_Liepa[Žiūrovų skaičius]) -> 340439

Sheet Rugpjūtis
A1: ='2017'!A1 -> 2017
A2: ='2017'!A2 -> Lietuvos kino teatruose rodytų filmų TOP
A3: Rugpjūtis
A5: Eil. Nr. | B5: Filmo pavadinimas | C5: Filmo pavadinimas originalo kalba | D5: Kilmės šalis | E5: Pajamos | F5: Žiūrovų skaičius | G5: Kopijų skaičius | H5: Premjeros data | I5: Platintojas
A6: =IF(B6<>"",ROWS($B$6:B6),"") -> 1 | B6: Anabelė 2 | C6: Annabelle 2 | D6: US | E6: 247478.02 | F6: 44061 | G6: 12 | H6: 42958 | I6: ACME Film / WB
A7: =IF(B7<>"",ROWS($B$6:B7),"") -> 2 | B7: Ratai 3 | C7: Cars 3 | D7: US | E7: 213979.39 | F7: 48149 | G7: 30 | H7: 42944 | I7: Theatrical Film Distribution / WDSMPI
A8: =IF(B8<>"",ROWS($B$6:B8),"") -> 3 | B8: Emodži filmas | C8: Emoji | D8: US | E8: 175099.71 | F8: 39408 | G8: 18 | H8: 42965 | I8: ACME Film / SONY
A9: =IF(B9<>"",ROWS($B$6:B9),"") -> 4 | B9: Diunkerkas | C9: Dunkirk | D9: US | E9: 108584.35 | F9: 20493 | G9: 15 | H9: 42937 | I9: ACME Film / WB
A10: =IF(B10<>"",ROWS($B$6:B10),"") -> 5 | B10: Bjaurusis aš 3 | C10: Despicable Me 3 | D10: US | E10: 96405.9 | F10: 21221 | G10: 24 | H10: 42916 | I10: NCG Distribution / Universal Pictures International
A11: =IF(B11<>"",ROWS($B$6:B11),"") -> 6 | B11: Valerianas ir tūkstančio planetų miestas | C11: Valerian and the City of a Thousand Planets | D11: US | E11: 74612.46 | F11: 13112 | G11: 12 | H11: 42944 | I11: ACME Film
A12: =IF(B12<>"",ROWS($B$6:B12),"") -> 7 | B12: Žudiko asmens sargybinis | C12: Hitman‘s Bodyguard | D12: US | E12: 73197.63 | F12: 14036 | G12: 14 | H12: 42965 | I12: Theatrical Film Distribution
A13: =IF(B13<>"",ROWS($B$6:B13),"") -> 8 | B13: Lasivo elgesio močiutė | C13: Babushka Liogkovo Poviedienija | D13: RU | E13: 51752.34 | F13: 9313 | G13: 10 | H13: 42965 | I13: ACME Film
A14: =IF(B14<>"",ROWS($B$6:B14),"") -> 9 | B14: Tamsusis bokštas | C14: Dark Tower | D14: US | E14: 47195.96 | F14: 8825 | G14: 12 | H14: 42958 | I14: ACME Film / SONY
A15: =IF(B15<>"",ROWS($B$6:B15),"") -> 10 | B15: Baris Sylas: Amerikos sukčius | C15: American Made | D15: US | E15: 45277.16 | F15: 8198 | G15: 12 | H15: 42972 | I15: NCG Distribution / Universal Pictures International
A16: =IF(B16<>"",ROWS($B$6:B16),"") -> 11 | B16: Atominė blondinė | C16: Coldest City (Atomic Blonde) | D16: US | E16: 42611.97 | F16: 7909 | G16: 12 | H16: 42951 | I16: ACME Film
A17: =IF(B17<>"",ROWS($B$6:B17),"") -> 12 | B17: Operacija "Riešutai" 2 | C17: Nut Job 2: Nutty by Nature | D17: US | E17: 41543.36 | F17: 9347 | G17: 28 | H17: 42972 | I17: Theatrical Film Distribution
... A38: =IF(B38<>"",ROWS($B$6:B38),"") -> 33 | B38: Mokytoja | C38: Ucitelka | D38: CZ, SK | E38: 1569 | F38: 426 | G38: 7 | H38: 42972 | I38: Kino pasaka
A39: =IF(B39<>"",ROWS($B$6:B39),"") -> 34 | B39: Septynios seserys | C39: Seven Sisters | D39: US | E39: 1557.66 | F39: 306 | G39: 6 | H39: Preview | I39: Theatrical Film Distribution
A40: =IF(B40<>"",ROWS($B$6:B40),"") -> 35 | B40: Karibų piratai: Salazaro kerštas | C40: Pirates of The Caribbean: Salazar's Revenge | D40: US | E40: 1186.68 | F40: 228 | G40: 3 | H40: 42881 | I40: Theatrical Film Distribution / WDSMPI
A41: =IF(B41<>"",ROWS($B$6:B41),"") -> 36 | B41: Traukinių žymėjimas 2 | C41: T2 Trainspotting | D41: US | E41: 1113.18 | F41: 196 | G41: 1 | H41: 42804 | I41: ACME Film / SONY
A42: =IF(B42<>"",ROWS($B$6:B42),"") -> 37 | B42: Stebuklų šalis: Urfino Džiuso ir mergaitės Elės nuotykiai | C42: Urfin and His Wooden Soldiers | D42: RU | E42: 964 | F42: 348 | G42: 2 | H42: 42881 | I42: Best Film
A43: =IF(B43<>"",ROWS($B$6:B43),"") -> 38 | B43: Vaikis ant ratų | C43: Baby Driver | D43: US | E43: 804.04 | F43: 138 | G43: 3 | H43: 42916 | I43: ACME Film / SONY
A44: =IF(B44<>"",ROWS($B$6:B44),"") -> 39 | B44: Meilė ir draugystė | C44: Love and friendship | D44: FR | E44: 628.2 | F44: 135 | G44: 1 | H44: 42888 | I44: Kino pasaka
A45: =IF(B45<>"",ROWS($B$6:B45),"") -> 40 | B45: Robinzono Kruzo sala | C45: Robinson Crusoe | D45: BE, FR | E45: 447 | F45: 253 | G45: 1 | H45: 42412 | I45: ACME Film
A46: =IF(B46<>"",ROWS($B$6:B46),"") -> 41 | B46: Normas, lokys iš šiaurės | C46: Norm of the North | D46: US | E46: 430.2 | F46: 259 | G46: 1 | H46: 42398 | I46: ACME Film
A47: =IF(B47<>"",ROWS($B$6:B47),"") -> 42 | B47: Gelbėtojai | C47: Baywatch | D47: US | E47: 382.16 | F47: 69 | G47: 3 | H47: 42902 | I47: NCG Distribution / Paramount Pictures
A48: =IF(B48<>"",ROWS($B$6:B48),"") -> 43 | B48: Elfai | C48: Pixies | D48: US | E48: 270.88 | F48: 151 | G48: 2 | H48: 42517 | I48: Theatrical Film Distribution
A49: =IF(B49<>"",ROWS($B$6:B49),"") -> 44 | B49: Kung Fu Panda 3 | C49: Kung Fu Panda 3 | D49: US | E49: 265.4 | F49: 144 | G49: 2 | H49: 42447 | I49: Theatrical Film Distribution / 20th Century Fox
A50: =IF(B50<>"",ROWS($B$6:B50),"") -> 45 | B50: Avelės ir vilkai | C50: Sheep and Wolves | D50: RU | E50: 255.6 | F50: 142 | G50: 1 | H50: 42489 | I50: ACME Film
A51: =IF(B51<>"",ROWS($B$6:B51),"") -> 46 | B51: Troliai | C51: Trolls | D51: US | E51: 241.2 | F51: 134 | G51: 2 | H51: 42664 | I51: Theatrical Film Distribution / 20th Century Fox
... A62: =IF(B62<>"",ROWS($B$6:B62),"") -> 57 | B62: Ponas Trumbo | C62: Trumbo | D62: US | E62: 121 | F62: 25 | G62: 1 | H62: 42405 | I62: Theatrical Film Distribution
A63: =IF(B63<>"",ROWS($B$6:B63),"") -> 58 | B63: Šeimos šventė | C63: Ernelláék Farkaséknál | D63: HU | E63: 110 | F63: 24 | G63: 1 | H63: 2016. | I63: Kino Aljansas
A64: =IF(B64<>"",ROWS($B$6:B64),"") -> 59 | B64: Nekaltosios | C64: Les innocentes | D64: FR, PL | E64: 105 | F64: 36 | G64: 1 | H64: 42713 | I64: Kino pasaka
A65: =IF(B65<>"",ROWS($B$6:B65),"") -> 60 | B65: Komivojažierius | C65: The salesman | D65: IR, FR | E65: 104.5 | F65: 24 | G65: 2 | H65: 42748 | I65: Kino Aljansas
A66: =IF(B66<>"",ROWS($B$6:B66),"") -> 61 | B66: Paskutinė šeima | C66: Ostatnia rodzina | D66: PL | E66: 97 | F66: 31 | G66: 2 | H66: 42860 | I66: Kino pasaka
A67: =IF(B67<>"",ROWS($B$6:B67),"") -> 62 | B67: Liūtas | C67: Lion | D67: AU, US | E67: 97 | F67: 48 | G67: 1 | H67: 42797 | I67: Theatrical Film Distribution
A68: =IF(B68<>"",ROWS($B$6:B68),"") -> 63 | B68: Asfaltas | C68: Asphalte | D68: FR | E68: 79.1 | F68: 15 | G68: 1 | H68: 42657 | I68: Kino pasaka
A69: =IF(B69<>"",ROWS($B$6:B69),"") -> 64 | B69: Ateitis | C69: L'avenir | D69: FR | E69: 69 | F69: 21 | G69: 1 | H69: 42772 | I69: Kino Aljansas
A70: =IF(B70<>"",ROWS($B$6:B70),"") -> 65 | B70: Prancūziška porelė | C70: Un homme à la hauteur | D70: FR | E70: 68.1 | F70: 13 | G70: 9 | H70: 42545 | I70: Garsų pasaulio įrašai
A71: =IF(B71<>"",ROWS($B$6:B71),"") -> 66 | B71: Francas | C71: Frantz | D71: FR, DE | E71: 64.1 | F71: 14 | G71: 1 | H71: 42769 | I71: Kino Pasaka
A72: =IF(B72<>"",ROWS($B$6:B72),"") -> 67 | B72: Kalifornijos svajos | C72: La La Land | D72: US | E72: 58.5 | F72: 18 | G72: 1 | H72: 42713 | I72: ACME Film
A73: =IF(B73<>"",ROWS($B$6:B73),"") -> 68 | B73: Žuvytė Dorė | C73: Finding Dory | D73: US | E73: 54 | F73: 31 | G73: 1 | H73: 42601 | I73: Theatrical Film Distribution / WDSMPI
A74: =IF(B74<>"",ROWS($B$6:B74),"") -> 69 | B74: Nepažįstamoji | C74: La Fille inconnue | D74: BE, FR | E74: 37.5 | F74: 12 | G74: 1 | H74: 42804 | I74: Kino Aljansas
A75: =IF(B75<>"",ROWS($B$6:B75),"") -> 70 | B75: Svaiginanti Burgundija | C75: Back to Burgundy | D75: FR | E75: 36.5 | F75: 12 | G75: 1 | H75: 42902 | I75: ACME Film
... A77: =IF(B77<>"",ROWS($B$6:B77),"") -> 72 | B77: Kubo ir stebuklingas kardas | C77: Kubo and the Two Strings | D77: US | E77: 28.8 | F77: 16 | G77: 1 | H77: 42650 | I77: NCG Distribution / Universal Pictures International
E78: =SUBTOTAL(109,Table3_Rugpjūtis[Pajamos]) -> 1442873.7 | F78: =SUBTOTAL(109,Table3_Rugpjūtis[Žiūrovų skaičius]) -> 291220

Sheet Rugsėjis
A1: ='2017'!A1 -> 2017
A2: ='2017'!A2 -> Lietuvos kino teatruose rodytų filmų TOP
A3: Rugsėjis
A5: Eil. Nr. | B5: Filmo pavadinimas | C5: Filmo pavadinimas originalo kalba | D5: Kilmės šalis | E5: Pajamos | F5: Žiūrovų skaičius | G5: Kopijų skaičius | H5: Premjeros data | I5: Platintojas
A6: =IF(B6<>"",ROWS($B$6:B6),"") -> 1 | B6: Tas | C6: It | D6: US | E6: 230107.88 | F6: 41564 | G6: 15 | H6: 42986 | I6: ACME Film / WB
A7: =IF(B7<>"",ROWS($B$6:B7),"") -> 2 | B7: Šventasis | C7: Šventasis | D7: LT | E7: 153437.26 | F7: 29384 | G7: 25 | H7: 43000 | I7: Kino pavasaris
A8: =IF(B8<>"",ROWS($B$6:B8),"") -> 3 | B8: Emodži filmas | C8: Emoji | D8: US | E8: 83670.92 | F8: 18998 | G8: 18 | H8: 42965 | I8: ACME Film / SONY
A9: =IF(B9<>"",ROWS($B$6:B9),"") -> 4 | B9: Lego Ninjago filmas | C9: Lego Ninjago | D9: US | E9: 59089.45 | F9: 13174 | G9: 20 | H9: 43000 | I9: ACME Film / WB
A10: =IF(B10<>"",ROWS($B$6:B10),"") -> 5 | B10: Septynios seserys | C10: Seven Sisters | D10: FR | E10: 57168.92 | F10: 11761 | G10: 16 | H10: 42979 | I10: Theatrical Film Distribution
A11: =IF(B11<>"",ROWS($B$6:B11),"") -> 6 | B11: Operacija "Riešutai" 2 | C11: Nut Job 2: Nutty by Nature | D11: US | E11: 55062.94 | F11: 13129 | G11: 26 | H11: 42972 | I11: Theatrical Film Distribution
A12: =IF(B12<>"",ROWS($B$6:B12),"") -> 7 | B12: Baris Sylas: Amerikos sukčius | C12: American Made | D12: US | E12: 52236.82 | F12: 10298 | G12: 12 | H12: 42972 | I12: NCG Distribution / Universal Pictures International
A13: =IF(B13<>"",ROWS($B$6:B13),"") -> 8 | B13: Kingsman. Aukso ratas | C13: Kingsman: The Golden Circle | D13: US | E13: 46136.42 | F13: 8780 | G13: 15 | H13: 43000 | I13: Theatrical Film Distribution / 20th Century Fox
A14: =IF(B14<>"",ROWS($B$6:B14),"") -> 9 | B14: Apie meilę tik suaugusiems | C14: Pro ljubov tolko dlia uzroslych | D14: RU | E14: 44430 | F14: 8503 | G14: 11 | H14: 42979 | I14: Best Film
A15: =IF(B15<>"",ROWS($B$6:B15),"") -> 10 | B15: Anabelė 2 | C15: Annabelle 2 | D15: US | E15: 42835.51 | F15: 8612 | G15: 12 | H15: 42958 | I15: ACME Film / WB
A16: =IF(B16<>"",ROWS($B$6:B16),"") -> 11 | B16: Džiunglių būrys | C16: Jungle Bunch (Les as de la Jungle) | D16: FR | E16: 40252.56 | F16: 9601 | G16: 18 | H16: 42986 | I16: ACME Film
A17: =IF(B17<>"",ROWS($B$6:B17),"") -> 12 | B17: Ratai 3 | C17: Cars 3 | D17: US | E17: 32694.29 | F17: 7311 | G17: 15 | H17: 42944 | I17: Theatrical Film Distribution / WDSMPI
... A36: =IF(B36<>"",ROWS($B$6:B36),"") -> 31 | B36: Kedi. Slaptas kačių gyvenimas | C36: Kedi | D36: TR | E36: 5217.56 | F36: 1257 | G36: 6 | H36: 42979 | I36: Kino pasaka
A37: =IF(B37<>"",ROWS($B$6:B37),"") -> 32 | B37: Arčiau debesų | C37: Cloudboy | D37: BG, SE, NL, NO | E37: 4209.7 | F37: 1819 | G37: 1 | H37: 2017.09.10 | I37: Skalvijos kino centras
A38: =IF(B38<>"",ROWS($B$6:B38),"") -> 33 | B38: Terminatorius 2. Paskutinio teismo diena 3D | C38: Terminator 2: Judgment Day 3D | D38: US | E38: 3977 | F38: 771 | G38: 8 | H38: 42972 | I38: Garsų pasaulio įrašai
A39: =IF(B39<>"",ROWS($B$6:B39),"") -> 34 | B39: Meilė angelų mieste | C39: Ljubovj V Gorode Angelov | D39: RU | E39: 3743 | F39: 712 | G39: 10 | H39: 43007 | I39: Garsų pasaulio įrašai
A40: =IF(B40<>"",ROWS($B$6:B40),"") -> 35 | B40: Lūšna turtuolių rajone | C40: Hampstead | D40: UK | E40: 2040.5 | F40: 528 | G40: 6 | H40: 42972 | I40: Theatrical Film Distribution
A41: =IF(B41<>"",ROWS($B$6:B41),"") -> 36 | B41: Stiklo pilis | C41: The glass castle | D41: US | E41: 1891.75 | F41: 412 | G41: 3 | H41: 42975 | I41: ACME Film
A42: =IF(B42<>"",ROWS($B$6:B42),"") -> 37 | B42: Šerkšnas | C42: Šerkšnas | D42: LT | E42: 1608 | F42: 959 | G42: 7 | H42: 42965 | I42: Kinema
A43: =IF(B43<>"",ROWS($B$6:B43),"") -> 38 | B43: Mokytoja | C43: Ucitelka | D43: CZ, SK | E43: 970 | F43: 309 | G43: 7 | H43: 42972 | I43: Kino pasaka
A44: =IF(B44<>"",ROWS($B$6:B44),"") -> 39 | B44: Tamsusis bokštas | C44: Dark Tower | D44: US | E44: 754.39 | F44: 160 | G44: 3 | H44: 42958 | I44: ACME Film / SONY
A45: =IF(B45<>"",ROWS($B$6:B45),"") -> 40 | B45: Chuljeta | C45: Julieta | D45: IS | E45: 603.8 | F45: 115 | G45: 1 | H45: 42622 | I45: A-one films
A46: =IF(B46<>"",ROWS($B$6:B46),"") -> 41 | B46: Sau ir draugui (dokumentinių filmų programa) | C46: Sau ir draugui (dokumentinių filmų programa) | D46: TBA | E46: 587 | F46: 262 | G46: 1 | H46: 2017.09.23 | I46: Skalvijos kino centras
A47: =IF(B47<>"",ROWS($B$6:B47),"") -> 42 | B47: Dovanoju širdį | C47: Réparer les vivants | D47: BG, FR | E47: 314.8 | F47: 93 | G47: 1 | H47: 42958 | I47: Kino pasaka
A48: =IF(B48<>"",ROWS($B$6:B48),"") -> 43 | B48: Vaikis ant ratų | C48: Baby Driver | D48: US | E48: 287.1 | F48: 101 | G48: 3 | H48: 42916 | I48: ACME Film / SONY
A49: =IF(B49<>"",ROWS($B$6:B49),"") -> 44 | B49: Meilė ir draugystė | C49: Love and friendship | D49: FR | E49: 202.6 | F49: 58 | G49: 2 | H49: 42888 | I49: Kino pasaka
A50: =IF(B50<>"",ROWS($B$6:B50),"") -> 45 | B50: Kriaušių pyragėliai su levandomis | C50: Le gout des merveilles | D50: FR | E50: 108.7 | F50: 24 | G50: 1 | H50: 42601 | I50: Kino pasaka
A51: =IF(B51<>"",ROWS($B$6:B51),"") -> 46 | B51: Ekskursantė | C51: Ekskursantė | D51: LT | E51: 108 | F51: 54 | G51: 1 | H51: 41544 | I51: Cinemark
A52: =IF(B52<>"",ROWS($B$6:B52),"") -> 47 | B52: (Ne)Tikros prancūziškos vestuvės | C52: Qu’est-ce qu’on a fait au Bon Dieu? | D52: FR | E52: 94.7 | F52: 20 | G52: 1 | H52: 42244 | I52: Kino pasaka
A53: =IF(B53<>"",ROWS($B$6:B53),"") -> 48 | B53: Valerianas ir tūkstančio planetų miestas | C53: Valerian and the City of a Thousand Planets | D53: US | E53: 89.7 | F53: 23 | G53: 1 | H53: 42944 | I53: ACME Film
A54: =IF(B54<>"",ROWS($B$6:B54),"") -> 49 | B54: Mano mama ir mūsų kūdikiai (Telle mere, telle fille) | C54: Telle mere, telle fille | D54: FR | E54: 75.3 | F54: 14 | G54: 1 | H54: 42888 | I54: Best Film
A55: =IF(B55<>"",ROWS($B$6:B55),"") -> 50 | B55: Asfaltas | C55: Asphalte | D55: FR | E55: 65.5 | F55: 15 | G55: 1 | H55: 42657 | I55: Kino pasaka
A56: =IF(B56<>"",ROWS($B$6:B56),"") -> 51 | B56: Emilija iš Laisvės alėjos | C56: Emilija iš Laisvės alėjos | D56: LT | E56: 63 | F56: 21 | G56: 1 | H56: 42790 | I56: ACME Film
A57: =IF(B57<>"",ROWS($B$6:B57),"") -> 52 | B57: Stefanas Cveigas: Atsisveikinimas su Europa | C57: Stefan Zweig: Farewell to Europe | D57: FR | E57: 58.5 | F57: 31 | G57: 1 | H57: 42902 | I57: Best Film
A58: =IF(B58<>"",ROWS($B$6:B58),"") -> 53 | B58: Prancūziška porelė | C58: Un homme à la hauteur | D58: FR | E58: 41.4 | F58: 8 | G58: 1 | H58: 42545 | I58: Garsų pasaulio įrašai
... A67: =IF(B67<>"",ROWS($B$6:B67),"") -> 62 | B67: Ledynmetis: susidūrimas | C67: Ice Age: Collision Course | D67: US | E67: 3.6 | F67: 2 | G67: 1 | H67: 42566 | I67: Theatrical Film Distribution / 20th Century Fox
E68: =SUBTOTAL(109,Table3_Rugsėjis[Pajamos]) -> 1206556.8 | F68: =SUBTOTAL(109,Table3_Rugsėjis[Žiūrovų skaičius]) -> 246611

Sheet Spalis
A1: ='2017'!A1 -> 2017
A2: ='2017'!A2 -> Lietuvos kino teatruose rodytų filmų TOP
A3: Spalis
A5: Eil. Nr. | B5: Filmo pavadinimas | C5: Filmo pavadinimas originalo kalba | D5: Kilmės šalis | E5: Pajamos | F5: Žiūrovų skaičius | G5: Kopijų skaičius | H5: Premjeros data | I5: Platintojas
A6: =IF(B6<>"",ROWS($B$6:B6),"") -> 1 | B6: Kaip susigrąžinti ją per 7 dienas | C6: Kaip susigrąžinti ją per 7 dienas | D6: LT | E6: 436361 | F6: 83921 | G6: 16 | H6: 43014 | I6: Singing fish
A7: =IF(B7<>"",ROWS($B$6:B7),"") -> 2 | B7: Trys milijonai eurų | C7: Trys milijonai eurų | D7: LT | E7: 212907 | F7: 35954 | G7: 18 | H7: 43035 | I7: Vabalo filmai
A8: =IF(B8<>"",ROWS($B$6:B8),"") -> 3 | B8: Bėgantis skustuvo ašmenimis 2049 | C8: Blade Runner 2049 | D8: US | E8: 176245.23 | F8: 30877 | G8: 18 | H8: 43014 | I8: ACME Film / SONY
A9: =IF(B9<>"",ROWS($B$6:B9),"") -> 4 | B9: Didžiapėdžio vaikis | C9: Son of Big Foot | D9: BG, FR | E9: 115803.65 | F9: 26657 | G9: 17 | H9: 43028 | I9: ACME Film
A10: =IF(B10<>"",ROWS($B$6:B10),"") -> 5 | B10: Globalinė audra | C10: Geostorm | D10: US | E10: 112125.9 | F10: 18012 | G10: 15 | H10: 43028 | I10: ACME Film / WB
A11: =IF(B11<>"",ROWS($B$6:B11),"") -> 6 | B11: Mano mažasis ponis. Filmas | C11: My Little Pony | D11: US | E11: 96779.6 | F11: 23304 | G11: 15 | H11: 43014 | I11: ACME Film
A12: =IF(B12<>"",ROWS($B$6:B12),"") -> 7 | B12: Šventasis | C12: Šventasis | D12: LT | E12: 88493 | F12: 17160 | G12: 14 | H12: 43000 | I12: Kino pavasaris
A13: =IF(B13<>"",ROWS($B$6:B13),"") -> 8 | B13: Lego Ninjago filmas | C13: Lego Ninjago | D13: US | E13: 62544.14 | F13: 14036 | G13: 12 | H13: 43000 | I13: ACME Film / WB
A14: =IF(B14<>"",ROWS($B$6:B14),"") -> 9 | B14: Pjūklas 8 | C14: Saw Legacy (Jigsaw) | D14: US | E14: 57417.33 | F14: 10226 | G14: 13 | H14: 43035 | I14: ACME Film
A15: =IF(B15<>"",ROWS($B$6:B15),"") -> 10 | B15: Monstrų šeimynėlė | C15: Happy family | D15: UK, DE | E15: 44030 | F15: 9524 | G15: 8 | H15: 43035 | I15: Garsų pasaulio įrašai
A16: =IF(B16<>"",ROWS($B$6:B16),"") -> 11 | B16: Gyvenimas prieš akis | C16: Žyzn vperedi | D16: RU | E16: 38797 | F16: 7340 | G16: 7 | H16: 43021 | I16: Best Film
A17: =IF(B17<>"",ROWS($B$6:B17),"") -> 12 | B17: Sniego senis | C17: Snowman | D17: US | E17: 39823.43 | F17: 8452 | G17: 10 | H17: 43021 | I17: NCG Distribution / Universal Pictures International
... A39: =IF(B39<>"",ROWS($B$6:B39),"") -> 34 | B39: Septynios seserys | C39: Seven Sisters | D39: FR | E39: 2037.42 | F39: 372 | G39: 2 | H39: 42979 | I39: Theatrical Film Distribution
A40: =IF(B40<>"",ROWS($B$6:B40),"") -> 35 | B40: Kaimynė šnipė | C40: Next Door Spy | D40: DK | E40: 1965.8 | F40: 874 | G40: 1 | H40: 2017.10.07 | I40: Skalvijos kino centras
A41: =IF(B41<>"",ROWS($B$6:B41),"") -> 36 | B41: Partneris | C41: Naparnik | D41: RU | E41: 1914 | F41: 354 | G41: 6 | H41: 43003 | I41: Garsų pasaulio įrašai
A42: =IF(B42<>"",ROWS($B$6:B42),"") -> 37 | B42: Bjaurusis aš 3 | C42: Despicable Me 3 | D42: US | E42: 1256.8 | F42: 273 | G42: 3 | H42: 42916 | I42: NCG Distribution / Universal Pictures International
A43: =IF(B43<>"",ROWS($B$6:B43),"") -> 38 | B43: Kedi. Slaptas kačių gyvenimas | C43: Kedi | D43: TR | E43: 1154.8 | F43: 262 | G43: 2 | H43: 42979 | I43: Kino pasaka
A44: =IF(B44<>"",ROWS($B$6:B44),"") -> 39 | B44: (Ne)Laukti svečiai | C44: With open arms | D44: FR | E44: 1137.3 | F44: 250 | G44: 10 | H44: 42986 | I44: Best Film
A45: =IF(B45<>"",ROWS($B$6:B45),"") -> 40 | B45: Baris Sylas: Amerikos sukčius | C45: American Made | D45: US | E45: 750.59 | F45: 132 | G45: 3 | H45: 42972 | I45: NCG Distribution / Universal Pictures International
A46: =IF(B46<>"",ROWS($B$6:B46),"") -> 41 | B46: Diunkerkas | C46: Dunkirk | D46: US | E46: 444.08 | F46: 78 | G46: 3 | H46: 42937 | I46: ACME Film / WB
A47: =IF(B47<>"",ROWS($B$6:B47),"") -> 42 | B47: Madam | C47: Madame | D47: FR | E47: 426 | F47: 62 | G47: 1 | H47: 42979 | I47: Garsų pasaulio įrašai
A48: =IF(B48<>"",ROWS($B$6:B48),"") -> 43 | B48: Kriaušių pyragėliai su levandomis | C48: Le gout des merveilles | D48: FR | E48: 284.7 | F48: 61 | G48: 1 | H48: 42601 | I48: Kino pasaka
A49: =IF(B49<>"",ROWS($B$6:B49),"") -> 44 | B49: (Ne)Tikros prancūziškos vestuvės | C49: Qu’est-ce qu’on a fait au Bon Dieu? | D49: FR | E49: 253.8 | F49: 48 | G49: 1 | H49: 42244 | I49: Kino pasaka
A50: =IF(B50<>"",ROWS($B$6:B50),"") -> 45 | B50: Amerikietis žudikas | C50: American Assassin | D50: US | E50: 237.7 | F50: 48 | G50: 15 | H50: 42993 | I50: ACME Film
A51: =IF(B51<>"",ROWS($B$6:B51),"") -> 46 | B51: Greiti ir įsiutę 8 | C51: Furious 8 | D51: US | E51: 226.88 | F51: 62 | G51: 1 | H51: 42839 | I51: NCG Distribution / Universal Pictures International
A52: =IF(B52<>"",ROWS($B$6:B52),"") -> 47 | B52: Stiklo pilis | C52: The glass castle | D52: US | E52: 193.2 | F52: 37 | G52: 1 | H52: 42975 | I52: ACME Film
... A63: =IF(B63<>"",ROWS($B$6:B63),"") -> 58 | B63: Nekaltosios | C63: Les innocentes | D63: FR, PL | E63: 11 | F63: 2 | G63: 1 | H63: 42713 | I63: Kino pasaka
E64: =SUBTOTAL(109,Table3_Spalis[Pajamos]) -> 1872448.4 | F64: =SUBTOTAL(109,Table3_Spalis[Žiūrovų skaičius]) -> 365166

Sheet Lapkritis
A1: ='2017'!A1 -> 2017
A2: ='2017'!A2 -> Lietuvos kino teatruose rodytų filmų TOP
A3: Lapkritis
A5: Eil. Nr. | B5: Filmo pavadinimas | C5: Filmo pavadinimas originalo kalba | D5: Kilmės šalis | E5: Pajamos | F5: Žiūrovų skaičius | G5: Kopijų skaičius | H5: Premjeros data | I5: Platintojas
A6: =IF(B6<>"",ROWS($B$6:B6),"") -> 1 | B6: Trys milijonai eurų | C6: Trys milijonai eurų | D6: LT | E6: 872068 | F6: 162516 | G6: 18 | H6: 43035 | I6: Vabalo filmai
A7: =IF(B7<>"",ROWS($B$6:B7),"") -> 2 | B7: Toras. Pasaulių pabaiga | C7: Thor: Ragnarok | D7: US | E7: 170060.18 | F7: 29200 | G7: 23 | H7: 43042 | I7: Theatrical Film Distribution / WDSMPI
A8: =IF(B8<>"",ROWS($B$6:B8),"") -> 3 | B8: Poilsiautojai: Pavydo žaidynės | C8: Poilsiautojai: Pavydo žaidynės | D8: LT | E8: 147321 | F8: 26358 | G8: 16 | H8: 43063 | I8: Full Sceen
A9: =IF(B9<>"",ROWS($B$6:B9),"") -> 4 | B9: Žmogžudystė rytų eksprese | C9: Murder On The Orient Express | D9: US | E9: 138780.56 | F9: 25986 | G9: 16 | H9: 43049 | I9: Theatrical Film Distribution / 20th Century Fox
A10: =IF(B10<>"",ROWS($B$6:B10),"") -> 5 | B10: Didžiapėdžio vaikis | C10: Son of Big Foot | D10: BG, FR | E10: 107155.89 | F10: 23786 | G10: 17 | H10: 43028 | I10: ACME Film
A11: =IF(B11<>"",ROWS($B$6:B11),"") -> 6 | B11: Teisingumo lyga | C11: Justice League | D11: US | E11: 101576.17 | F11: 17910 | G11: 15 | H11: 43056 | I11: ACME Film / WB
A12: =IF(B12<>"",ROWS($B$6:B12),"") -> 7 | B12: Monstrų šeimynėlė | C12: Happy family | D12: UK, DE | E12: 85575 | F12: 18586 | G12: 8 | H12: 43035 | I12: Garsų pasaulio įrašai
A13: =IF(B13<>"",ROWS($B$6:B13),"") -> 8 | B13: Blogos mamos ir jų Kalėdos | C13: Bad Moms Christmas | D13: US | E13: 66828.55 | F13: 12591 | G13: 15 | H13: 43042 | I13: ACME Film
A14: =IF(B14<>"",ROWS($B$6:B14),"") -> 9 | B14: Matilda | C14: Mathilde | D14: RU | E14: 64537.95 | F14: 12182 | G14: 10 | H14: 43035 | I14: ACME Film
A15: =IF(B15<>"",ROWS($B$6:B15),"") -> 10 | B15: Aštuonkojis Dipas | C15: Deep | D15: ES, US | E15: 65566 | F15: 15361 | G15: 15 | H15: 43049 | I15: Best Film
A16: =IF(B16<>"",ROWS($B$6:B16),"") -> 11 | B16: Pjūklas 8 | C16: Saw Legacy (Jigsaw) | D16: US | E16: 37830.3 | F16: 6734 | G16: 8 | H16: 43035 | I16: ACME Film
A17: =IF(B17<>"",ROWS($B$6:B17),"") -> 12 | B17: Saliut-7 | C17: Salyut-7 | D17: RU | E17: 35793 | F17: 6358 | G17: 10 | H17: 43049 | I17: Garsų pasaulio įrašai
... A40: =IF(B40<>"",ROWS($B$6:B40),"") -> 35 | B40: Tomas iš Suomijos | C40: Tom of Finland | D40: TBA | E40: 1418.48 | F40: 315 | G40: 1 | H40: 43042 | I40: Estinfilm OU Lietuvos filialas
A41: =IF(B41<>"",ROWS($B$6:B41),"") -> 36 | B41: Meškiukas Padingtonas 2 | C41: Paddington 2 | D41: US | E41: 1064.32 | F41: 242 | G41: 6 | H41: Preview | I41: ACME Film
A42: =IF(B42<>"",ROWS($B$6:B42),"") -> 37 | B42: Kedi. Slaptas kačių gyvenimas | C42: Kedi | D42: TR | E42: 558.7 | F42: 118 | G42: 1 | H42: 42979 | I42: Kino pasaka
A43: =IF(B43<>"",ROWS($B$6:B43),"") -> 38 | B43: Sniego senis | C43: Snowman | D43: US | E43: 546.4 | F43: 118 | G43: 3 | H43: 43021 | I43: NCG Distribution / Universal Pictures International
A44: =IF(B44<>"",ROWS($B$6:B44),"") -> 39 | B44: (Ne)Laukti svečiai | C44: With open arms | D44: FR | E44: 512.8 | F44: 106 | G44: 1 | H44: 42986 | I44: Best Film
A45: =IF(B45<>"",ROWS($B$6:B45),"") -> 40 | B45: Operacija "Riešutai" 2 | C45: Nut Job 2: Nutty by Nature | D45: US | E45: 467.33 | F45: 139 | G45: 4 | H45: 42972 | I45: Theatrical Film Distribution
A46: =IF(B46<>"",ROWS($B$6:B46),"") -> 41 | B46: Kriaušių pyragėliai su levandomis | C46: Le gout des merveilles | D46: FR | E46: 459.4 | F46: 98 | G46: 1 | H46: 42601 | I46: Kino pasaka
A47: =IF(B47<>"",ROWS($B$6:B47),"") -> 42 | B47: Svetimšalis | C47: Foreigner | D47: US | E47: 418.64 | F47: 72 | G47: 1 | H47: 43021 | I47: ACME Film
A48: =IF(B48<>"",ROWS($B$6:B48),"") -> 43 | B48: (Ne)Tikros prancūziškos vestuvės | C48: Qu’est-ce qu’on a fait au Bon Dieu? | D48: FR | E48: 308.6 | F48: 68 | G48: 1 | H48: 42244 | I48: Kino pasaka
A49: =IF(B49<>"",ROWS($B$6:B49),"") -> 44 | B49: Tramdantys ugnį | C49: Only the Brave ( Granite Mountain) | D49: US | E49: 267.29 | F49: 58 | G49: 1 | H49: 43028 | I49: ACME Film
A50: =IF(B50<>"",ROWS($B$6:B50),"") -> 45 | B50: Gimme Danger | C50: Gimme Danger | D50: US | E50: 243.63 | F50: 49 | G50: 1 | H50: 42692 | I50: A-one films
A51: =IF(B51<>"",ROWS($B$6:B51),"") -> 46 | B51: Džiunglių būrys | C51: Jungle Bunch (Les as de la Jungle) | D51: FR | E51: 163.99 | F51: 44 | G51: 1 | H51: 42986 | I51: ACME Film
A52: =IF(B52<>"",ROWS($B$6:B52),"") -> 47 | B52: Kingsman. Aukso ratas | C52: Kingsman: The Golden Circle | D52: US | E52: 162.76 | F52: 27 | G52: 1 | H52: 43000 | I52: Theatrical Film Distribution / 20th Century Fox
A53: =IF(B53<>"",ROWS($B$6:B53),"") -> 48 | B53: Tas | C53: It | D53: US | E53: 107.8 | F53: 16 | G53: 1 | H53: 42986 | I53: ACME Film / WB
... A61: =IF(B61<>"",ROWS($B$6:B61),"") -> 56 | B61: Šventasis | C61: Šventasis | D61: LT | E61: 5 | F61: 4 | G61: 1 | H61: 43000 | I61: Kino pavasaris
E62: =SUBTOTAL(109,Table3_Lapkritis[Pajamos]) -> 2184096.7 | F62: =SUBTOTAL(109,Table3_Lapkritis[Žiūrovų skaičius]) -> 413895

Sheet Gruodis
A1: ='2017'!A1 -> 2017
A2: ='2017'!A2 -> Lietuvos kino teatruose rodytų filmų TOP
A3: Gruodis
A5: Eil. Nr. | B5: Filmo pavadinimas | C5: Filmo pavadinimas originalo kalba | D5: Kilmės šalis | E5: Pajamos | F5: Žiūrovų skaičius | G5: Kopijų skaičius | H5: Premjeros data | I5: Platintojas | J5: Komentaras
A6: =IF(B6<>"",ROWS($B$6:B6),"") -> 1 | B6: Klasės susitikimas: berniukai sugrįžta! | C6: Klasės susitikimas: berniukai sugrįžta! | D6: LT | E6: 378882 | F6: 64271 | G6: 15 | H6: 43098 | I6: Vabalo filmai
A7: =IF(B7<>"",ROWS($B$6:B7),"") -> 2 | B7: Žvaigždžių karai: paskutiniai džedajai | C7: Star Wars: Episode VIII - The Last Jedi | D7: US | E7: 271969.68 | F7: 43695 | G7: 28 | H7: 43084 | I7: Theatrical Film Distribution / WDSMPI
A8: =IF(B8<>"",ROWS($B$6:B8),"") -> 3 | B8: Bulius Ferdinandas | C8: Ferdinand | D8: US | E8: 268371.43 | F8: 58033 | G8: 31 | H8: 43084 | I8: Theatrical Film Distribution / 20th Century Fox
A9: =IF(B9<>"",ROWS($B$6:B9),"") -> 4 | B9: Trys milijonai eurų | C9: Trys milijonai eurų | D9: LT | E9: 219878 | F9: 37260 | G9: 10 | H9: 43035 | I9: Vabalo filmai
A10: =IF(B10<>"",ROWS($B$6:B10),"") -> 5 | B10: Džiumandži: Sveiki atvykę į Džiungles | C10: Jumanji: Welcome To The Jungle | D10: US | E10: 170057.62 | F10: 29868 | G10: 14 | H10: 43091 | I10: ACME Film / SONY
A11: =IF(B11<>"",ROWS($B$6:B11),"") -> 6 | B11: Meškiukas Padingtonas 2 | C11: Paddington 2 | D11: UK | E11: 168729.11 | F11: 37265 | G11: 18 | H11: 43070 | I11: ACME Film
A12: =IF(B12<>"",ROWS($B$6:B12),"") -> 7 | B12: Poilsiautojai: Pavydo žaidynės | C12: Poilsiautojai: Pavydo žaidynės | D12: LT | E12: 134564 | F12: 24352 | G12: 13 | H12: 43063 | I12: Full Sceen
A13: =IF(B13<>"",ROWS($B$6:B13),"") -> 8 | B13: Naujosios Eglutės | C13: Novyje yolki | D13: RU | E13: 79413 | F13: 13654 | G13: 11 | H13: 43091 | I13: Garsų pasaulio įrašai
A14: =IF(B14<>"",ROWS($B$6:B14),"") -> 9 | B14: Tobuli melagiai | C14: Perfetti sconosciuti | D14: IT | E14: 75841 | F14: 15699 | G14: 9 | H14: 42832 | I14: Europos kinas | J14: Duomenys pateikti už visus metus
A15: =IF(B15<>"",ROWS($B$6:B15),"") -> 10 | B15: Stebuklas | C15: Stebuklas | D15: LT | E15: 71184.1 | F15: 15044 | G15: 20 | H15: 43077 | I15: In Script
A16: =IF(B16<>"",ROWS($B$6:B16),"") -> 11 | B16: Kaip išgelbėti Kalėdas | C16: Santa & Cie | D16: FR | E16: 66809 | F16: 15427 | G16: 14 | H16: 43077 | I16: Garsų pasaulio įrašai
A17: =IF(B17<>"",ROWS($B$6:B17),"") -> 12 | B17: Didysis šou meistras | C17: The Greatest Showman | D17: US | E17: 50216.47 | F17: 9230 | G17: 17 | H17: 43091 | I17: Theatrical Film Distribution / 20th Century Fox
A18: =IF(B18<>"",ROWS($B$6:B18),"") -> 13 | B18: Žmogžudystė rytų eksprese | C18: Murder On The Orient Express | D18: US | E18: 36608.96 | F18: 6695 | G18: 8 | H18: 43049 | I18: Theatrical Film Distribution / 20th Century Fox
A19: =IF(B19<>"",ROWS($B$6:B19),"") -> 14 | B19: Kvadratas | C19: Rutan | D19: SE, DE, DK, FR | E19: 33454.81 | F19: 6534 | G19: 5 | H19: 43070 | I19: Kino Aljansas
A20: =IF(B20<>"",ROWS($B$6:B20),"") -> 15 | B20: Tėtukas namie 2 | C20: Daddys home 2 | D20: US | E20: 27502 | F20: 5109 | G20: 13 | H20: 43063 | I20: NCG Distribution / Universal Pictures International
A21: =IF(B21<>"",ROWS($B$6:B21),"") -> 16 | B21: Legenda apie Kolovratą | C21: Legenda o Kolovrate | D21: RU | E21: 27309 | F21: 4866 | G21: 12 | H21: 43070 | I21: Garsų pasaulio įrašai
A22: =IF(B22<>"",ROWS($B$6:B22),"") -> 17 | B22: Užburtas ratas | C22: WASP 2016 (Wonder Wheel) | D22: US | E22: 24431.01 | F22: 4813 | G22: 13 | H22: 43077 | I22: ACME Film
A23: =IF(B23<>"",ROWS($B$6:B23),"") -> 18 | B23: Mažasis vampyras | C23: Little Vampire | D23: NL | E23: 17564 | F23: 3772 | G23: 15 | H23: 43063 | I23: Garsų pasaulio įrašai
A24: =IF(B24<>"",ROWS($B$6:B24),"") -> 19 | B24: Viskas tik prasideda | C24: Just Getting Started | D24: US | E24: 17533.7 | F24: 3213 | G24: 10 | H24: 43084 | I24: Garsų pasaulio įrašai
A25: =IF(B25<>"",ROWS($B$6:B25),"") -> 20 | B25: Teisingumo lyga | C25: Justice League | D25: US | E25: 15956.87 | F25: 2723 | G25: 15 | H25: 43056 | I25: ACME Film / WB
A26: =IF(B26<>"",ROWS($B$6:B26),"") -> 21 | B26: Fiksikai | C26: Fiksiki | D26: RU | E26: 15248 | F26: 3462 | G26: 12 | H26: 43098 | I26: Garsų pasaulio įrašai
... A29: =IF(B29<>"",ROWS($B$6:B29),"") -> 24 | B29: Noras gyventi | C29: Breathe | D29: UK | E29: 10730.54 | F29: 2133 | G29: 14 | H29: 43070 | I29: Theatrical Film Distribution
A30: =IF(B30<>"",ROWS($B$6:B30),"") -> 25 | B30: Tarnaitė | C30: Handmaiden | D30: KR, JP | E30: 9631 | F30: 2193 | G30: 5 | H30: 42832 | I30: Europos kinas | J30: Duomenys pateikti už visus metus
A31: =IF(B31<>"",ROWS($B$6:B31),"") -> 26 | B31: Aštuonkojis Dipas | C31: Deep | D31: ES, US | E31: 8733 | F31: 2124 | G31: 5 | H31: 43049 | I31: Best Film
A32: =IF(B32<>"",ROWS($B$6:B32),"") -> 27 | B32: Apie kūną ir sielą | C32: A testrol el lelekrol | D32: HU | E32: 7537 | F32: 1998 | G32: 9 | H32: 43084 | I32: A-one films
A33: =IF(B33<>"",ROWS($B$6:B33),"") -> 28 | B33: Šokėja | C33: La Danseuse | D33: FR | E33: 6665 | F33: 1663 | G33: 6 | H33: 42832 | I33: Europos kinas | J33: Duomenys pateikti už visus metus
A34: =IF(B34<>"",ROWS($B$6:B34),"") -> 29 | B34: Toras. Pasaulių pabaiga | C34: Thor: Ragnarok | D34: US | E34: 5952.11 | F34: 991 | G34: 4 | H34: 43042 | I34: Theatrical Film Distribution / WDSMPI
A35: =IF(B35<>"",ROWS($B$6:B35),"") -> 30 | B35: Gerumo stebuklas | C35: Wonder | D35: US | E35: 5894.81 | F35: 1790 | G35: 10 | H35: 43056 | I35: ACME Film
A36: =IF(B36<>"",ROWS($B$6:B36),"") -> 31 | B36: Nutrūkęs nuo grandinės | C36: Bullet Head | D36: BG | E36: 5664.42 | F36: 1054 | G36: 9 | H36: 43077 | I36: Theatrical Film Distribution
A37: =IF(B37<>"",ROWS($B$6:B37),"") -> 32 | B37: Ji | C37: Elle | D37: FR, DE, BE | E37: 5506 | F37: 1314 | G37: 4 | H37: 42832 | I37: Europos kinas | J37: Duomenys pateikti už visus metus
A38: =IF(B38<>"",ROWS($B$6:B38),"") -> 33 | B38: Moliūgėlio gyvenimas | C38: Ma vie de courgette | D38: CH, FR | E38: 5470 | F38: 1309 | G38: 4 | H38: 42832 | I38: Europos kinas | J38: Duomenys pateikti už visus metus
A39: =IF(B39<>"",ROWS($B$6:B39),"") -> 34 | B39: Didžiapėdžio vaikis | C39: Son of Big Foot | D39: BG, FR | E39: 4801.97 | F39: 1028 | G39: 6 | H39: 43028 | I39: ACME Film
A40: =IF(B40<>"",ROWS($B$6:B40),"") -> 35 | B40: Vaikučiai pagal sutartį | C40: Detki naprokat | D40: RU | E40: 5412 | F40: 991 | G40: 3 | H40: 43084 | I40: Best Film
A41: =IF(B41<>"",ROWS($B$6:B41),"") -> 36 | B41: Dėl viso pikto | C41: Just to Be Sure | D41: FR | E41: 4105.28 | F41: 1007 | G41: 7 | H41: 43091 | I41: A-one films
A42: =IF(B42<>"",ROWS($B$6:B42),"") -> 37 | B42: 24 valandos gyventi | C42: 24 Hours to Live | D42: US | E42: 3976.38 | F42: 752 | G42: 3 | H42: 43077 | I42: ACME Film
A43: =IF(B43<>"",ROWS($B$6:B43),"") -> 38 | B43: Saliut-7 | C43: Salyut-7 | D43: RU | E43: 3913 | F43: 597 | G43: 7 | H43: 43049 | I43: Garsų pasaulio įrašai
A44: =IF(B44<>"",ROWS($B$6:B44),"") -> 39 | B44: Pasiklydę Paryžiuje | C44: Paris pieds nus | D44: FR | E44: 3869 | F44: 1106 | G44: 3 | H44: 42832 | I44: Europos kinas | J44: Duomenys pateikti už visus metus
A45: =IF(B45<>"",ROWS($B$6:B45),"") -> 40 | B45: Matilda | C45: Mathilde | D45: RU | E45: 3682.69 | F45: 702 | G45: 5 | H45: 43035 | I45: ACME Film
A46: =IF(B46<>"",ROWS($B$6:B46),"") -> 41 | B46: Ryžių karoliukai | C46: Basmati Blues | D46: US | E46: 3639.69 | F46: 661 | G46: 10 | H46: 43098 | I46: Theatrical Film Distribution
A47: =IF(B47<>"",ROWS($B$6:B47),"") -> 42 | B47: Dvilypis meilužis | C47: Lamant double | D47: FR | E47: 3401 | F47: 765 | G47: 4 | H47: 43056 | I47: A-one films
A48: =IF(B48<>"",ROWS($B$6:B48),"") -> 43 | B48: Tai tik pasaulio pabaiga | C48: Juste la fin du monde | D48: CA, FR | E48: 3272 | F48: 799 | G48: 3 | H48: 42832 | I48: Europos kinas | J48: Duomenys pateikti už visus metus
A49: =IF(B49<>"",ROWS($B$6:B49),"") -> 44 | B49: Monstrų šeimynėlė | C49: Happy family | D49: UK, DE | E49: 3266 | F49: 696 | G49: 8 | H49: 43035 | I49: Garsų pasaulio įrašai
A50: =IF(B50<>"",ROWS($B$6:B50),"") -> 45 | B50: Veidai Kaimai | C50: Visages villages | D50: FR | E50: 3388.4 | F50: 869 | G50: 5 | H50: 43070 | I50: A-one films
A51: =IF(B51<>"",ROWS($B$6:B51),"") -> 46 | B51: Koko | C51: Coco | D51: US | E51: 2434.7 | F51: 517 | G51: 2 | H51: Preview (2018-01-05) | I51: Theatrical Film Distribution / WDSMPI
A52: =IF(B52<>"",ROWS($B$6:B52),"") -> 47 | B52: Dieviškoji tvarka | C52: Die göttliche Ordnung | D52: CH | E52: 2132.7 | F52: 610 | G52: 6 | H52: 43070 | I52: Kino pasaka
A53: =IF(B53<>"",ROWS($B$6:B53),"") -> 48 | B53: Tarp mūsų | C53: Bar Bahar | D53: IL | E53: 2043 | F53: 507 | G53: 2 | H53: 42832 | I53: Europos kinas | J53: Duomenys pateikti už visus metus
A54: =IF(B54<>"",ROWS($B$6:B54),"") -> 49 | B54: Blogos mamos ir jų Kalėdos | C54: Bad Moms Christmas | D54: US | E54: 1663.79 | F54: 324 | G54: 3 | H54: 43042 | I54: ACME Film
A55: =IF(B55<>"",ROWS($B$6:B55),"") -> 50 | B55: Baigiamieji egzaminai | C55: Baccalaureat | D55: RO | E55: 1550 | F55: 368 | G55: 9 | H55: 42832 | I55: Europos kinas | J55: Duomenys pateikti už visus metus
A56: =IF(B56<>"",ROWS($B$6:B56),"") -> 51 | B56: Palaukit mūsų | C56: Not without us? | D56: DE | E56: 1475 | F56: 406 | G56: 3 | H56: 42832 | I56: Europos kinas | J56: Duomenys pateikti už visus metus
A57: =IF(B57<>"",ROWS($B$6:B57),"") -> 52 | B57: Raudonasis vėžlys | C57: The Red Turtle | D57: FR, BE, JP | E57: 1429 | F57: 337 | G57: 2 | H57: 42832 | I57: Europos kinas | J57: Duomenys pateikti už visus metus
A58: =IF(B58<>"",ROWS($B$6:B58),"") -> 53 | B58: Sieranevada | C58: Sieranevada | D58: RO | E58: 1349 | F58: 307 | G58: 3 | H58: 42832 | I58: Europos kinas | J58: Duomenys pateikti už visus metus
A59: =IF(B59<>"",ROWS($B$6:B59),"") -> 54 | B59: Ledi Makbet | C59: Lady Macbeth | D59: GB | E59: 1320 | F59: 318 | G59: 3 | H59: 42832 | I59: Europos kinas | J59: Duomenys pateikti už visus metus
A60: =IF(B60<>"",ROWS($B$6:B60),"") -> 55 | B60: Šventasis | C60: Šventasis | D60: LT | E60: 1127 | F60: 308 | G60: 1 | H60: 43000 | I60: Europos kinas
A61: =IF(B61<>"",ROWS($B$6:B61),"") -> 56 | B61: Nuolankioji | C61: Krotkaya | D61: TBA | E61: 948 | F61: 288 | G61: 2 | H61: 43063 | I61: Garsų pasaulio įrašai
A62: =IF(B62<>"",ROWS($B$6:B62),"") -> 57 | B62: Pjūklas 8 | C62: Saw Legacy (Jigsaw) | D62: US | E62: 881.24 | F62: 154 | G62: 2 | H62: 43035 | I62: ACME Film
A63: =IF(B63<>"",ROWS($B$6:B63),"") -> 58 | B63: „The Rolling Stones“ turas po Lotynų Ameriką | C63: The Rolling Stones OleOleOle Trip to Latin America | D63: GB | E63: 876 | F63: 209 | G63: 2 | H63: 42832 | I63: Europos kinas | J63: Duomenys pateikti už visus metus
A64: =IF(B64<>"",ROWS($B$6:B64),"") -> 59 | B64: C‘est La Vie | C64: C‘est La Vie | D64: FR | E64: 849 | F64: 93 | G64: 2 | H64: 43021 | I64: Garsų pasaulio įrašai
A65: =IF(B65<>"",ROWS($B$6:B65),"") -> 60 | B65: Gobšius | C65: Radin | D65: FR | E65: 800.2 | F65: 190 | G65: 4 | H65: 43014 | I65: Kino pasaka
A66: =IF(B66<>"",ROWS($B$6:B66),"") -> 61 | B66: (Ne)Tikros prancūziškos vestuvės | C66: Qu’est-ce qu’on a fait au Bon Dieu? | D66: FR | E66: 669.1 | F66: 165 | G66: 2 | H66: 42244 | I66: Kino pasaka
A67: =IF(B67<>"",ROWS($B$6:B67),"") -> 62 | B67: Šlovė | C67: Slava | D67: BG | E67: 615 | F67: 165 | G67: 3 | H67: 42832 | I67: Europos kinas | J67: Duomenys pateikti už visus metus
A68: =IF(B68<>"",ROWS($B$6:B68),"") -> 63 | B68: Aš nesu ponia Bovari | C68: I am not Madamme Bovary | D68: CN | E68: 552 | F68: 145 | G68: 2 | H68: 42832 | I68: Europos kinas | J68: Duomenys pateikti už visus metus
A69: =IF(B69<>"",ROWS($B$6:B69),"") -> 64 | B69: Mokinys | C69: The Student | D69: RU | E69: 437 | F69: 111 | G69: 1 | H69: 42867 | I69: Europos kinas | J69: Duomenys pateikti už visus metus
A70: =IF(B70<>"",ROWS($B$6:B70),"") -> 65 | B70: Turkiškai | C70: Turkish way | D70: ES | E70: 399 | F70: 97 | G70: 1 | H70: 42832 | I70: Europos kinas | J70: Duomenys pateikti už visus metus
A71: =IF(B71<>"",ROWS($B$6:B71),"") -> 66 | B71: Vertikali būsena | C71: Rester vertical | D71: FR | E71: 373 | F71: 87 | G71: 1 | H71: 42832 | I71: Europos kinas | J71: Duomenys pateikti už visus metus
A72: =IF(B72<>"",ROWS($B$6:B72),"") -> 67 | B72: Motina | C72: Mother | D72: US | E72: 369.44 | F72: 61 | G72: 1 | H72: 43035 | I72: NCG Distribution / Paramount
A73: =IF(B73<>"",ROWS($B$6:B73),"") -> 68 | B73: Bėgam iš Berlyno | C73: Goodbye Berlin | D73: DE | E73: 366 | F73: 112 | G73: 1 | H73: 42832 | I73: Europos kinas | J73: Duomenys pateikti už visus metus
A74: =IF(B74<>"",ROWS($B$6:B74),"") -> 69 | B74: Mitai | C74: Mify | D74: RU | E74: 283 | F74: 50 | G74: 1 | H74: 43056 | I74: Garsų pasaulio įrašai
A75: =IF(B75<>"",ROWS($B$6:B75),"") -> 70 | B75: Balerina | C75: Ballerina | D75: FR | E75: 265 | F75: 165 | G75: 1 | H75: 42748 | I75: ACME Film
A76: =IF(B76<>"",ROWS($B$6:B76),"") -> 71 | B76: Kalifornijos svajos | C76: La La Land | D76: US | E76: 242 | F76: 68 | G76: 1 | H76: 42713 | I76: ACME Film
A77: =IF(B77<>"",ROWS($B$6:B77),"") -> 72 | B77: Slaptas augintinių gyvenimas | C77: Secret Life of Pets | D77: US | E77: 210 | F77: 84 | G77: 1 | H77: 42587 | I77: NCG Distribution / Universal Pictures International
A78: =IF(B78<>"",ROWS($B$6:B78),"") -> 73 | B78: Zootropolis | C78: Zootopia | D78: US | E78: 200 | F78: 80 | G78: 5 | H78: 42433 | I78: Theatrical Film Distribution / WDSMPI
A79: =IF(B79<>"",ROWS($B$6:B79),"") -> 74 | B79: Kedi. Slaptas kačių gyvenimas | C79: Kedi | D79: TR | E79: 196.7 | F79: 49 | G79: 1 | H79: 42979 | I79: Kino pasaka
A80: =IF(B80<>"",ROWS($B$6:B80),"") -> 75 | B80: Bjaurusis aš 3 | C80: Despicable Me 3 | D80: US | E80: 160 | F80: 63 | G80: 1 | H80: 42916 | I80: NCG Distribution / Universal Pictures International
A81: =IF(B81<>"",ROWS($B$6:B81),"") -> 76 | B81: Ratai 3 | C81: Cars 3 | D81: US | E81: 128.5 | F81: 31 | G81: 2 | H81: 42944 | I81: Theatrical Film Distribution / WDSMPI
A82: =IF(B82<>"",ROWS($B$6:B82),"") -> 77 | B82: Emodži filmas | C82: Emoji | D82: US | E82: 126 | F82: 42 | G82: 1 | H82: 42965 | I82: ACME Film / SONY
A83: =IF(B83<>"",ROWS($B$6:B83),"") -> 78 | B83: Ponas Kūdikis | C83: Boss Baby | D83: US | E83: 92.5 | F83: 37 | G83: 2 | H83: 42839 | I83: Theatrical Film Distribution / 20th Century Fox
A84: =IF(B84<>"",ROWS($B$6:B84),"") -> 79 | B84: Kriaušių pyragėliai su levandomis | C84: Le gout des merveilles | D84: FR | E84: 90.1 | F84: 21 | G84: 1 | H84: 42601 | I84: Kino pasaka
A85: =IF(B85<>"",ROWS($B$6:B85),"") -> 80 | B85: Mano mažasis ponis. Filmas | C85: My Little Pony | D85: US | E85: 72 | F85: 18 | G85: 1 | H85: 43014 | I85: ACME Film
... A93: =IF(B93<>"",ROWS($B$6:B93),"") -> 88 | B93: Liūtas | C93: Lion | D93: AU, US | E93: 3 | F93: 1 | G93: 1 | H93: 42797 | I93: Theatrical Film Distribution
E94: =SUBTOTAL(109,Table3_Gruodis[Pajamos]) -> 2342660.6 | F94: =SUBTOTAL(109,Table3_Gruodis[Žiūrovų skaičius]) -> 442921
